BEGIN:VCALENDAR
VERSION:2.0
PRODID:-//Buzzmag - ECPv6.15.20//NONSGML v1.0//EN
CALSCALE:GREGORIAN
METHOD:PUBLISH
X-WR-CALNAME:Buzzmag
X-ORIGINAL-URL:https://www.buzzmagmartinique.com
X-WR-CALDESC:Évènements pour Buzzmag
REFRESH-INTERVAL;VALUE=DURATION:PT1H
X-Robots-Tag:noindex
X-PUBLISHED-TTL:PT1H
BEGIN:VTIMEZONE
TZID:Europe/Paris
BEGIN:DAYLIGHT
TZOFFSETFROM:+0100
TZOFFSETTO:+0200
TZNAME:CEST
DTSTART:20250330T010000
END:DAYLIGHT
BEGIN:STANDARD
TZOFFSETFROM:+0200
TZOFFSETTO:+0100
TZNAME:CET
DTSTART:20251026T010000
END:STANDARD
BEGIN:DAYLIGHT
TZOFFSETFROM:+0100
TZOFFSETTO:+0200
TZNAME:CEST
DTSTART:20260329T010000
END:DAYLIGHT
BEGIN:STANDARD
TZOFFSETFROM:+0200
TZOFFSETTO:+0100
TZNAME:CET
DTSTART:20261025T010000
END:STANDARD
BEGIN:DAYLIGHT
TZOFFSETFROM:+0100
TZOFFSETTO:+0200
TZNAME:CEST
DTSTART:20270328T010000
END:DAYLIGHT
BEGIN:STANDARD
TZOFFSETFROM:+0200
TZOFFSETTO:+0100
TZNAME:CET
DTSTART:20271031T010000
END:STANDARD
END:VTIMEZONE
BEGIN:VEVENT
DTSTART;TZID=Europe/Paris:20260425T083000
DTEND;TZID=Europe/Paris:20260425T171500
DTSTAMP:20260423T182212
CREATED:20231219T132711Z
LAST-MODIFIED:20250828T145940Z
UID:10067407-1777105800-1777137300@www.buzzmagmartinique.com
SUMMARY:ATELIERS ÉDUCATIFS SPORT-SANTÉ-LOISIRS\, SCHOELCHER
DESCRIPTION:𝐋𝐚𝐧𝐜𝐞𝐦𝐞𝐧𝐭 𝐝𝐞𝐬 𝐀𝐭𝐞𝐥𝐢𝐞𝐫𝐬 𝐄́𝐝𝐮𝐜𝐚𝐭𝐢𝐟𝐬 𝐒𝐩𝐨𝐫𝐭 – 𝐒𝐚𝐧𝐭𝐞́ – 𝐋𝐨𝐢𝐬𝐢𝐫𝐬 \nLa Ville met en place\, pour l’année 2025-2026\, ses Ateliers Éducatifs à destination des jeunes de 7 à 15 ans. \nAu programme :\nVélo\nTennis de table\nfitness\nBêlé \nDu 17 septembre 2025 au 27 juin 2026 \nLes mercredis après-midi (14h-17h15) et les samedis matin (8h30-11h45) \nDans les infrastructures sportives de la ville \nInscriptions dès le 2 septembre à la piscine municipale. \nLes places sont limitées\, ne tardez pas ! \nCes ateliers visent à favoriser l’épanouissement\, le bien-être et la découverte d’activités sportives ludiques pour nos jeunes. \n  \n\n\n\nVille de Schoelcher \n \n\n\n\n 
URL:https://www.buzzmagmartinique.com/evenement/ateliers-educatifs-sport-sante-loisirs-schoelcher/2026-04-25/
CATEGORIES:Jeune public,Sport
ATTACH;FMTTYPE=image/webp:https://www.buzzmagmartinique.com/wp-content/uploads/2023/12/09-17-SCHOELCHER-JUSQUEN-JUIN-2026-min11111.webp
ORGANIZER;CN="Ville de Schoelcher":MAILTO:mschoelcher@mairie-schoelcher.com
END:VEVENT
END:VCALENDAR