BEGIN:VCALENDAR
VERSION:2.0
PRODID:-//Buzzmag - ECPv6.15.20//NONSGML v1.0//EN
CALSCALE:GREGORIAN
METHOD:PUBLISH
X-ORIGINAL-URL:https://www.buzzmagmartinique.com
X-WR-CALDESC:Évènements pour Buzzmag
REFRESH-INTERVAL;VALUE=DURATION:PT1H
X-Robots-Tag:noindex
X-PUBLISHED-TTL:PT1H
BEGIN:VTIMEZONE
TZID:Europe/Paris
BEGIN:DAYLIGHT
TZOFFSETFROM:+0100
TZOFFSETTO:+0200
TZNAME:CEST
DTSTART:20240331T010000
END:DAYLIGHT
BEGIN:STANDARD
TZOFFSETFROM:+0200
TZOFFSETTO:+0100
TZNAME:CET
DTSTART:20241027T010000
END:STANDARD
BEGIN:DAYLIGHT
TZOFFSETFROM:+0100
TZOFFSETTO:+0200
TZNAME:CEST
DTSTART:20250330T010000
END:DAYLIGHT
BEGIN:STANDARD
TZOFFSETFROM:+0200
TZOFFSETTO:+0100
TZNAME:CET
DTSTART:20251026T010000
END:STANDARD
BEGIN:DAYLIGHT
TZOFFSETFROM:+0100
TZOFFSETTO:+0200
TZNAME:CEST
DTSTART:20260329T010000
END:DAYLIGHT
BEGIN:STANDARD
TZOFFSETFROM:+0200
TZOFFSETTO:+0100
TZNAME:CET
DTSTART:20261025T010000
END:STANDARD
BEGIN:DAYLIGHT
TZOFFSETFROM:+0100
TZOFFSETTO:+0200
TZNAME:CEST
DTSTART:20270328T010000
END:DAYLIGHT
BEGIN:STANDARD
TZOFFSETFROM:+0200
TZOFFSETTO:+0100
TZNAME:CET
DTSTART:20271031T010000
END:STANDARD
END:VTIMEZONE
BEGIN:VTIMEZONE
TZID:America/Martinique
BEGIN:STANDARD
TZOFFSETFROM:-0400
TZOFFSETTO:-0400
TZNAME:AST
DTSTART:20250101T000000
END:STANDARD
END:VTIMEZONE
BEGIN:VEVENT
DTSTART;TZID=Europe/Paris:20260422T083000
DTEND;TZID=Europe/Paris:20260422T171500
DTSTAMP:20260423T220352
CREATED:20231219T132711Z
LAST-MODIFIED:20250828T145940Z
UID:10067406-1776846600-1776878100@www.buzzmagmartinique.com
SUMMARY:ATELIERS ÉDUCATIFS SPORT-SANTÉ-LOISIRS\, SCHOELCHER
DESCRIPTION:𝐋𝐚𝐧𝐜𝐞𝐦𝐞𝐧𝐭 𝐝𝐞𝐬 𝐀𝐭𝐞𝐥𝐢𝐞𝐫𝐬 𝐄́𝐝𝐮𝐜𝐚𝐭𝐢𝐟𝐬 𝐒𝐩𝐨𝐫𝐭 – 𝐒𝐚𝐧𝐭𝐞́ – 𝐋𝐨𝐢𝐬𝐢𝐫𝐬 \nLa Ville met en place\, pour l’année 2025-2026\, ses Ateliers Éducatifs à destination des jeunes de 7 à 15 ans. \nAu programme :\nVélo\nTennis de table\nfitness\nBêlé \nDu 17 septembre 2025 au 27 juin 2026 \nLes mercredis après-midi (14h-17h15) et les samedis matin (8h30-11h45) \nDans les infrastructures sportives de la ville \nInscriptions dès le 2 septembre à la piscine municipale. \nLes places sont limitées\, ne tardez pas ! \nCes ateliers visent à favoriser l’épanouissement\, le bien-être et la découverte d’activités sportives ludiques pour nos jeunes. \n  \n\n\n\nVille de Schoelcher \n \n\n\n\n 
URL:https://www.buzzmagmartinique.com/evenement/ateliers-educatifs-sport-sante-loisirs-schoelcher/2026-04-22/
CATEGORIES:Jeune public,Sport
ATTACH;FMTTYPE=image/webp:https://www.buzzmagmartinique.com/wp-content/uploads/2023/12/09-17-SCHOELCHER-JUSQUEN-JUIN-2026-min11111.webp
ORGANIZER;CN="Ville de Schoelcher":MAILTO:mschoelcher@mairie-schoelcher.com
END:VEVENT
BEGIN:VEVENT
DTSTART;TZID=America/Martinique:20260127T173000
DTEND;TZID=America/Martinique:20260127T190000
DTSTAMP:20260423T220352
CREATED:20240901T165401Z
LAST-MODIFIED:20260122T162234Z
UID:10009073-1769535000-1769540400@www.buzzmagmartinique.com
SUMMARY:ATELIER PRATIQUE "NOS FARINES LOCALES: COMMENT LES UTILISER?" À L'ÉCOLE BATELIÈRE\, SCHOELCHER
DESCRIPTION:Que ton alimentation et ton sport soient ta santé ! \nLa Ville de Schœlcher propose aux parents un atelier nutritionnel pratique gratuit :\nNos farines locales : comment les utiliser ? \nRéfectoire de l’école de Batelière \nAvec Misha PÉRICHON – Sé manjé péyi-a \nParents et enfants bienvenus \nAccès libre – Gratuit \n\n\n\nVille de Schoelcher
URL:https://www.buzzmagmartinique.com/evenement/atelier-pratique-nos-farines-locales-comment-les-utiliser-a-lecole-bateliere-schoelcher/
CATEGORIES:Gastronomie,Santé
ATTACH;FMTTYPE=image/webp:https://www.buzzmagmartinique.com/wp-content/uploads/2024/09/618495897_1334818378669486_8996415245232121477_n.webp
ORGANIZER;CN="Ville de Schoelcher":MAILTO:mschoelcher@mairie-schoelcher.com
END:VEVENT
BEGIN:VEVENT
DTSTART;TZID=Europe/Paris:20251217T180000
DTEND;TZID=Europe/Paris:20251217T210000
DTSTAMP:20260423T220352
CREATED:20250828T150909Z
LAST-MODIFIED:20251209T142308Z
UID:10078258-1765994400-1766005200@www.buzzmagmartinique.com
SUMMARY:HISTOIRE "100 ANS DE MÉMOIRE"\, SCHOELCHER
DESCRIPTION:La Ville de Schoelcher propose une semaine entièrement dédiée à trois figures majeures du XXᵉ siècle : Frantz Fanon\, Malcolm X et Patrice Lumumba\, tous trois nés en 1925. \nUn siècle plus tard\, leurs idées continuent de nourrir la réflexion contemporaine. \nÀ l’occasion du centenaire de leur naissance (1925-2025)\, les Rendez-vous historiques mettent en lumière 100 ans de mémoire.Programme :10 décembre – 18hConférence :Héritage centenaire de Frantz Fanon\, Patrice Lumumba et Malcolm X (1925-2025) : Circulations\, appropriations et actualitésAvec :• Cheikh NGUIRANE\, maître de conférences à l’Université des Antilles – Pôle Martinique• Victor PERMAL\, vice-président du Cercle Frantz Fanon MartiniqueLieu : Bibliothèque municipale Georges de Vassoigne15 décembre – 19h – MadianaProjection du documentaire d’Orlando BAGWELL consacré à Malcolm X16 décembre – 19h – MadianaProjection du film LUMUMBA de Raoul Peck17 décembre – 19h – MadianaProjection du documentaire de Rico SPEIGHT sur Frantz FanonLes séances à Madiana sont gratuites\, avec réservation obligatoire.Une série d’événements pour revisiter l’histoire\, comprendre les circulations d’idées entre continents et interroger l’actualité de leurs combats.Infos & réservations : https://clikeye.com/les-rendez-vous-historiques/ \n0596 727 620 \n  \n\nVille de Schoelche
URL:https://www.buzzmagmartinique.com/evenement/histoire-100-ans-de-memoire-schoelcher/2025-12-17/
CATEGORIES:Art & Culture
ATTACH;FMTTYPE=image/webp:https://www.buzzmagmartinique.com/wp-content/uploads/2025/08/595873803_1301670348650956_2105429799463102392_n1.webp
ORGANIZER;CN="Ville de Schoelcher":MAILTO:mschoelcher@mairie-schoelcher.com
END:VEVENT
END:VCALENDAR