BEGIN:VCALENDAR
VERSION:2.0
PRODID:-//Buzzmag - ECPv6.15.20//NONSGML v1.0//EN
CALSCALE:GREGORIAN
METHOD:PUBLISH
X-ORIGINAL-URL:https://www.buzzmagmartinique.com
X-WR-CALDESC:Évènements pour Buzzmag
REFRESH-INTERVAL;VALUE=DURATION:PT1H
X-Robots-Tag:noindex
X-PUBLISHED-TTL:PT1H
BEGIN:VTIMEZONE
TZID:America/Martinique
BEGIN:STANDARD
TZOFFSETFROM:-0400
TZOFFSETTO:-0400
TZNAME:AST
DTSTART:20250101T000000
END:STANDARD
END:VTIMEZONE
BEGIN:VEVENT
DTSTART;TZID=America/Martinique:20260426T170000
DTEND;TZID=America/Martinique:20260426T220000
DTSTAMP:20260425T210443
CREATED:20240613T114718Z
LAST-MODIFIED:20260420T141107Z
UID:10003263-1777222800-1777240800@www.buzzmagmartinique.com
SUMMARY:SOIRÉE DJ KIZOMBA/SEMBA "SOCIALE PARTY"  PAR ORIGINE SEMBA À L'IMS\, LE LAMENTIN
DESCRIPTION:La sociale Origine Semba c’est un moment 100% danse\, partage et bonne vibe.\nKizomba\, Semba\, Ghetto Zouk\nMusique\, Danse\, Restauration\nDimanche 26 avril\n17h – 22h\nSalle du restaurant de l’IMS\nEntrée :\n1 consommation (boisson ou plat\, min. 5€)\nSur place possibilité de prendre tes entrées pour l’événement avec Dr Kizomba et Mr Tecas en Juin et de payer en 2 fois (deuxième règlement lors de la sociale de mai).\nBoissons\nTimbale Origine Semba obligatoire\nEn vente sur place si tu ne l’as pas encore.\nRestauration by Chef JM\nPrécommande (au plus tard vendredi 24 avril – par WhatsApp)\nGambas 18€\nBrochettes de bœuf / poisson grillé 15€\nPoulet grillé 10€\nAccompagnement: riz\, haricots blancs\nSur place\nSoupe\n* 450 ml 6€\n* 1 L 12€\n* 2 L 20€\nPoulet grillé 12€\nTarifs réduits pour les adhérents\nInfos\n0696 65 76 76\n0696 25 21 08\n0685 22 51 65\nBonne nouvelle pour l’événement de Juin avec DR KIZOMBA ET MR TECAS EN MARTINIQUE!!!\nPour faciliter votre participation\, il sera possible de régler en 2 fois :\n1er paiement : à la sociale du 26 avril\n2ème paiement : à la sociale du 24 mai\nIl ne vous reste plus qu’à composer votre planning selon vos envies :\nWorkshops\nSoirée\nPass Samedi et/ou dimanche \n\nInstitut Martiniquais du Sport\, Quartier Mangot Vulcin\, Route du Vert-Pré\, Le Lamentin\, 0596 38 38 00 \n\n \n\n  \nOrigine Semba \n \n  \n  \n  \n 
URL:https://www.buzzmagmartinique.com/evenement/soiree-dj-kizomba-semba-sociale-party-par-origine-semba-a-lims-le-lamentin/
LOCATION:Institut Martiniquais Du Sport\, Mangot Vulcin\, Le Lamentin\, 97232\, Martinique
CATEGORIES:Soirée
ATTACH;FMTTYPE=image/webp:https://www.buzzmagmartinique.com/wp-content/uploads/2024/06/672352636_122190755138681502_7343111754397138978_n.webp
END:VEVENT
END:VCALENDAR