BEGIN:VCALENDAR
VERSION:2.0
PRODID:-//Buzzmag - ECPv6.15.20//NONSGML v1.0//EN
CALSCALE:GREGORIAN
METHOD:PUBLISH
X-WR-CALNAME:Buzzmag
X-ORIGINAL-URL:https://www.buzzmagmartinique.com
X-WR-CALDESC:Évènements pour Buzzmag
REFRESH-INTERVAL;VALUE=DURATION:PT1H
X-Robots-Tag:noindex
X-PUBLISHED-TTL:PT1H
BEGIN:VTIMEZONE
TZID:Europe/Paris
BEGIN:DAYLIGHT
TZOFFSETFROM:+0100
TZOFFSETTO:+0200
TZNAME:CEST
DTSTART:20250330T010000
END:DAYLIGHT
BEGIN:STANDARD
TZOFFSETFROM:+0200
TZOFFSETTO:+0100
TZNAME:CET
DTSTART:20251026T010000
END:STANDARD
BEGIN:DAYLIGHT
TZOFFSETFROM:+0100
TZOFFSETTO:+0200
TZNAME:CEST
DTSTART:20260329T010000
END:DAYLIGHT
BEGIN:STANDARD
TZOFFSETFROM:+0200
TZOFFSETTO:+0100
TZNAME:CET
DTSTART:20261025T010000
END:STANDARD
BEGIN:DAYLIGHT
TZOFFSETFROM:+0100
TZOFFSETTO:+0200
TZNAME:CEST
DTSTART:20270328T010000
END:DAYLIGHT
BEGIN:STANDARD
TZOFFSETFROM:+0200
TZOFFSETTO:+0100
TZNAME:CET
DTSTART:20271031T010000
END:STANDARD
END:VTIMEZONE
BEGIN:VEVENT
DTSTART;TZID=Europe/Paris:20260424T190000
DTEND;TZID=Europe/Paris:20260424T220000
DTSTAMP:20260424T065841
CREATED:20241104T135751Z
LAST-MODIFIED:20260421T192051Z
UID:10013266-1777057200-1777068000@www.buzzmagmartinique.com
SUMMARY:VERNISSAGE EXPOSITION PHOTOGRAPHIQUE "EFFET MER... ÉPHÉMÈRE" À L'OMCL\, LE ROBERT
DESCRIPTION:L’Office Municipal de la Culture et des Loisirs du Robert vous invite au vernissage de l’exposition photographique de Georges Jaffory intitulée « Effet mer …. Ephémère » le vendredi 24 avril 2026 à 19h à l’OMCLR. \nExposition permanente jusqu’au 10 mai à l’OMCLR.INFOS : OMCLR 0596 65 47 31 \n\nlundi au vendredi : 07h30 à 13h30 \n\nlundi et jeudi : 14h30 à 17h00\n\nOffice Municipal de la Culture et des Loisirs du Robert\, 16 bd Henri Auzé\, Le Robert\, 0596 65 47 31 \n\n \n 
URL:https://www.buzzmagmartinique.com/evenement/vernissage-exposition-photographique-effet-mer-ephemere-a-lomcl-le-robert/
LOCATION:Office Municipal de la Culture et des Loisirs du Robert\, 16 bd Henri Auzé\, Le Robert\, 97231\, Martinique
CATEGORIES:Art & Culture
ATTACH;FMTTYPE=image/webp:https://www.buzzmagmartinique.com/wp-content/uploads/2025/11/675193535_1403606055133416_4738633311578689883_n1.webp
ORGANIZER;CN="Office Municipal de la Culture et des Loisirs du Robert":MAILTO:omclrobert@gmail.com
END:VEVENT
END:VCALENDAR