BEGIN:VCALENDAR
VERSION:2.0
PRODID:-//Buzzmag - ECPv6.15.20//NONSGML v1.0//EN
CALSCALE:GREGORIAN
METHOD:PUBLISH
X-ORIGINAL-URL:https://www.buzzmagmartinique.com
X-WR-CALDESC:Évènements pour Buzzmag
REFRESH-INTERVAL;VALUE=DURATION:PT1H
X-Robots-Tag:noindex
X-PUBLISHED-TTL:PT1H
BEGIN:VTIMEZONE
TZID:Europe/Paris
BEGIN:DAYLIGHT
TZOFFSETFROM:+0100
TZOFFSETTO:+0200
TZNAME:CEST
DTSTART:20250330T010000
END:DAYLIGHT
BEGIN:STANDARD
TZOFFSETFROM:+0200
TZOFFSETTO:+0100
TZNAME:CET
DTSTART:20251026T010000
END:STANDARD
BEGIN:DAYLIGHT
TZOFFSETFROM:+0100
TZOFFSETTO:+0200
TZNAME:CEST
DTSTART:20260329T010000
END:DAYLIGHT
BEGIN:STANDARD
TZOFFSETFROM:+0200
TZOFFSETTO:+0100
TZNAME:CET
DTSTART:20261025T010000
END:STANDARD
BEGIN:DAYLIGHT
TZOFFSETFROM:+0100
TZOFFSETTO:+0200
TZNAME:CEST
DTSTART:20270328T010000
END:DAYLIGHT
BEGIN:STANDARD
TZOFFSETFROM:+0200
TZOFFSETTO:+0100
TZNAME:CET
DTSTART:20271031T010000
END:STANDARD
END:VTIMEZONE
BEGIN:VTIMEZONE
TZID:America/Halifax
BEGIN:DAYLIGHT
TZOFFSETFROM:-0400
TZOFFSETTO:-0300
TZNAME:ADT
DTSTART:20240310T060000
END:DAYLIGHT
BEGIN:STANDARD
TZOFFSETFROM:-0300
TZOFFSETTO:-0400
TZNAME:AST
DTSTART:20241103T050000
END:STANDARD
BEGIN:DAYLIGHT
TZOFFSETFROM:-0400
TZOFFSETTO:-0300
TZNAME:ADT
DTSTART:20250309T060000
END:DAYLIGHT
BEGIN:STANDARD
TZOFFSETFROM:-0300
TZOFFSETTO:-0400
TZNAME:AST
DTSTART:20251102T050000
END:STANDARD
BEGIN:DAYLIGHT
TZOFFSETFROM:-0400
TZOFFSETTO:-0300
TZNAME:ADT
DTSTART:20260308T060000
END:DAYLIGHT
BEGIN:STANDARD
TZOFFSETFROM:-0300
TZOFFSETTO:-0400
TZNAME:AST
DTSTART:20261101T050000
END:STANDARD
BEGIN:DAYLIGHT
TZOFFSETFROM:-0400
TZOFFSETTO:-0300
TZNAME:ADT
DTSTART:20270314T060000
END:DAYLIGHT
BEGIN:STANDARD
TZOFFSETFROM:-0300
TZOFFSETTO:-0400
TZNAME:AST
DTSTART:20271107T050000
END:STANDARD
END:VTIMEZONE
BEGIN:VTIMEZONE
TZID:Europe/Paris
BEGIN:DAYLIGHT
TZOFFSETFROM:+0100
TZOFFSETTO:+0200
TZNAME:CEST
DTSTART:20250330T010000
END:DAYLIGHT
BEGIN:STANDARD
TZOFFSETFROM:+0200
TZOFFSETTO:+0100
TZNAME:CET
DTSTART:20251026T010000
END:STANDARD
BEGIN:DAYLIGHT
TZOFFSETFROM:+0100
TZOFFSETTO:+0200
TZNAME:CEST
DTSTART:20260329T010000
END:DAYLIGHT
BEGIN:STANDARD
TZOFFSETFROM:+0200
TZOFFSETTO:+0100
TZNAME:CET
DTSTART:20261025T010000
END:STANDARD
BEGIN:DAYLIGHT
TZOFFSETFROM:+0100
TZOFFSETTO:+0200
TZNAME:CEST
DTSTART:20270328T010000
END:DAYLIGHT
BEGIN:STANDARD
TZOFFSETFROM:+0200
TZOFFSETTO:+0100
TZNAME:CET
DTSTART:20271031T010000
END:STANDARD
END:VTIMEZONE
BEGIN:VEVENT
DTSTART;TZID=Europe/Paris:20260418T193000
DTEND;TZID=Europe/Paris:20260418T235900
DTSTAMP:20260420T192706
CREATED:20251203T120046Z
LAST-MODIFIED:20260417T150840Z
UID:10060597-1776540600-1776556740@www.buzzmagmartinique.com
SUMMARY:MUSIQUE LIVE "MKG" À L’OASIS GRILL\, FORT DE FRANCE
DESCRIPTION:En live MKG \nAu programme : musique\, bonne humeur\, grillades\, cocktails et plein de gourmandises \nInfos & réservations : 0696 72 88 77 \nOn vous attend nombreux pour partager ce moment magique \n\nOasis Grill\, La Savane\, Fort-de-France\, 0696 72 88 77
URL:https://www.buzzmagmartinique.com/evenement/musique-live-mkg-mmsax-a-loasis-grill-fort-de-france/
LOCATION:Oasis Grill\, La Savane\, Fort-de-France\, 97200\, Martinique
CATEGORIES:Soirée
ATTACH;FMTTYPE=image/webp:https://www.buzzmagmartinique.com/wp-content/uploads/2025/12/669458400_1536697218458585_7898415097447780748_n.webp
ORGANIZER;CN="Oasis Grill":MAILTO:oasisgrill972@gmail.com
END:VEVENT
BEGIN:VEVENT
DTSTART;TZID=America/Halifax:20260417T200000
DTEND;TZID=America/Halifax:20260417T235900
DTSTAMP:20260420T192706
CREATED:20250117T123250Z
LAST-MODIFIED:20260417T150404Z
UID:10059085-1776456000-1776470340@www.buzzmagmartinique.com
SUMMARY:SOIRÉE KARAOKÉ À L’OASIS GRILL\, FORT DE FRANCE
DESCRIPTION:Oasis Grill\, La Savane\, Fort-de-France\, 0696 72 88 77
URL:https://www.buzzmagmartinique.com/evenement/soiree-karaoke-a-loasis-grill-fort-de-france-2-2/
LOCATION:Oasis Grill\, La Savane\, Fort-de-France\, 97200\, Martinique
CATEGORIES:Soirée
ATTACH;FMTTYPE=image/webp:https://www.buzzmagmartinique.com/wp-content/uploads/2025/01/671273853_1536697225125251_1939357511059417344_n.webp
ORGANIZER;CN="Oasis Grill":MAILTO:oasisgrill972@gmail.com
END:VEVENT
BEGIN:VEVENT
DTSTART;TZID=America/Halifax:20260416T193000
DTEND;TZID=America/Halifax:20260416T235900
DTSTAMP:20260420T192706
CREATED:20250520T133105Z
LAST-MODIFIED:20260409T160904Z
UID:10051047-1776367800-1776383940@www.buzzmagmartinique.com
SUMMARY:SOIRÉE DJ LATINE À L'OASIS GRILL\, FORT DE FRANCE
DESCRIPTION:Oasis Grill\, La Savane\, Fort-de-France\, 0696 72 88 77
URL:https://www.buzzmagmartinique.com/evenement/soiree-dj-latine-a-loasis-grill-fort-de-france-2-2/2026-04-16/
LOCATION:Oasis Grill\, La Savane\, Fort-de-France\, 97200\, Martinique
CATEGORIES:Soirée
ATTACH;FMTTYPE=image/webp:https://www.buzzmagmartinique.com/wp-content/uploads/2025/05/668582614_1531624592299181_7985259350766559152_n1.webp
ORGANIZER;CN="Oasis Grill":MAILTO:oasisgrill972@gmail.com
END:VEVENT
BEGIN:VEVENT
DTSTART;TZID=Europe/Paris:20260411T210000
DTEND;TZID=Europe/Paris:20260411T233000
DTSTAMP:20260420T192706
CREATED:20230515T200858Z
LAST-MODIFIED:20260407T130332Z
UID:10013444-1775941200-1775950200@www.buzzmagmartinique.com
SUMMARY:MUSIQUE LIVE "AMBIANCE 3D" À L'OASIS GRILL\, FORT DE FRANCE
DESCRIPTION:Oasis Grill\, La Savane\, Fort-de-France\, 0696 72 88 77 \n \n 
URL:https://www.buzzmagmartinique.com/evenement/musique-live-ambiance-3d-a-loasis-grill-fort-de-france/
LOCATION:Oasis Grill\, La Savane\, Fort-de-France\, 97200\, Martinique
CATEGORIES:Soirée
ATTACH;FMTTYPE=image/webp:https://www.buzzmagmartinique.com/wp-content/uploads/2023/05/662739157_1586717683461390_2678520895411056818_n.webp
ORGANIZER;CN="Oasis Grill":MAILTO:oasisgrill972@gmail.com
END:VEVENT
BEGIN:VEVENT
DTSTART;TZID=America/Halifax:20260410T193000
DTEND;TZID=America/Halifax:20260410T235900
DTSTAMP:20260420T192706
CREATED:20260409T161715Z
LAST-MODIFIED:20260409T161729Z
UID:10077860-1775849400-1775865540@www.buzzmagmartinique.com
SUMMARY:MUSIQUE LIVE "FILÉ ZÉTWAL" À L'OASIS GRILL\, FORT DE FRANCE
DESCRIPTION:  \n\nOasis Grill\, La Savane\, Fort-de-France\, 0696 72 88 77
URL:https://www.buzzmagmartinique.com/evenement/musique-live-file-zetwal-a-loasis-grill-fort-de-france/
LOCATION:Oasis Grill\, La Savane\, Fort-de-France\, 97200\, Martinique
CATEGORIES:Soirée
ATTACH;FMTTYPE=image/webp:https://www.buzzmagmartinique.com/wp-content/uploads/2025/11/667884712_1531624595632514_2621422653211157686_n.webp
ORGANIZER;CN="Oasis Grill":MAILTO:oasisgrill972@gmail.com
END:VEVENT
BEGIN:VEVENT
DTSTART;TZID=America/Halifax:20260404T193000
DTEND;TZID=America/Halifax:20260404T233000
DTSTAMP:20260420T192706
CREATED:20251126T142954Z
LAST-MODIFIED:20260330T172600Z
UID:10062940-1775331000-1775345400@www.buzzmagmartinique.com
SUMMARY:MUSIQUE LIVE "SAPOTI KRÉYOL" À L'OASIS GRILL\, FORT DE FRANCE
DESCRIPTION:  \n\nOasis Grill\, La Savane\, Fort-de-France\, 0696 72 88 77
URL:https://www.buzzmagmartinique.com/evenement/musique-live-sapoti-kreyol-a-loasis-grill-fort-de-france/
LOCATION:Oasis Grill\, La Savane\, Fort-de-France\, 97200\, Martinique
CATEGORIES:Soirée
ATTACH;FMTTYPE=image/webp:https://www.buzzmagmartinique.com/wp-content/uploads/2025/11/IMG-20260327-WA0006.webp
ORGANIZER;CN="Oasis Grill":MAILTO:oasisgrill972@gmail.com
END:VEVENT
BEGIN:VEVENT
DTSTART;TZID=Europe/Paris:20260131T193000
DTEND;TZID=Europe/Paris:20260131T235900
DTSTAMP:20260420T192706
CREATED:20180930T162707Z
LAST-MODIFIED:20260128T113420Z
UID:10001939-1769887800-1769903940@www.buzzmagmartinique.com
SUMMARY:MUSIQUE LIVE "MKG" À L'OASIS GRILL\, FORT DE FRANCE
DESCRIPTION:  \n\nOasis Grill\, La Savane\, Fort-de-France\, 0696 72 88 77 \n \n 
URL:https://www.buzzmagmartinique.com/evenement/musique-live-mkg-a-loasis-grill-fort-de-france-2/
LOCATION:Oasis Grill\, La Savane\, Fort-de-France\, 97200\, Martinique
CATEGORIES:Soirée
ATTACH;FMTTYPE=image/webp:https://www.buzzmagmartinique.com/wp-content/uploads/2018/09/622801672_1467894598672181_8240774397692703677_n.webp
ORGANIZER;CN="Oasis Grill":MAILTO:oasisgrill972@gmail.com
END:VEVENT
BEGIN:VEVENT
DTSTART;TZID=America/Halifax:20251227T193000
DTEND;TZID=America/Halifax:20251227T235900
DTSTAMP:20260420T192706
CREATED:20240806T095442Z
LAST-MODIFIED:20251226T193418Z
UID:10002655-1766863800-1766879940@www.buzzmagmartinique.com
SUMMARY:MUSIQUE LIVE "ELITE" À L’OASIS GRILL\, FORT DE FRANCE
DESCRIPTION:  \n\nOasis Grill\, La Savane\, Fort-de-France\, 0696 72 88 77
URL:https://www.buzzmagmartinique.com/evenement/musique-live-elite-a-loasis-grill-fort-de-france/
LOCATION:Oasis Grill\, La Savane\, Fort-de-France\, 97200\, Martinique
CATEGORIES:Soirée
ATTACH;FMTTYPE=image/webp:https://www.buzzmagmartinique.com/wp-content/uploads/2024/08/603887066_1441120008016307_7629984329446365410_n.webp
ORGANIZER;CN="Oasis Grill":MAILTO:oasisgrill972@gmail.com
END:VEVENT
BEGIN:VEVENT
DTSTART;TZID=America/Halifax:20251216T193000
DTEND;TZID=America/Halifax:20251216T235900
DTSTAMP:20260420T192706
CREATED:20251120T102432Z
LAST-MODIFIED:20251120T102542Z
UID:10077859-1765913400-1765929540@www.buzzmagmartinique.com
SUMMARY:CHANTÉ NWÉL "RASIN NWÉL" À L'OASIS GRILL\, FORT DE FRANCE
DESCRIPTION:  \n\nOasis Grill\, La Savane\, Fort-de-France\, 0696 72 88 77
URL:https://www.buzzmagmartinique.com/evenement/chante-nwel-rasin-nwel-a-loasis-grill-fort-de-france/2025-12-16/
LOCATION:Oasis Grill\, La Savane\, Fort-de-France\, 97200\, Martinique
CATEGORIES:Soirée
ATTACH;FMTTYPE=image/webp:https://www.buzzmagmartinique.com/wp-content/uploads/2024/04/585372986_1409673657827609_1148744622616981517_n1.webp
ORGANIZER;CN="Oasis Grill":MAILTO:oasisgrill972@gmail.com
END:VEVENT
BEGIN:VEVENT
DTSTART;TZID=America/Halifax:20250812T200000
DTEND;TZID=America/Halifax:20250812T235900
DTSTAMP:20260420T192706
CREATED:20240417T101248Z
LAST-MODIFIED:20250729T134314Z
UID:10062939-1755028800-1755043140@www.buzzmagmartinique.com
SUMMARY:SOIRÉE DJ ZOUK KOMPA SALSA... À L'OASIS GRILL\, FORT DE FRANCE
DESCRIPTION:Tous les mardis des vacances \, ambiance Vakans’ O Péyi avec Vdj Conejo aux platines \n  \n\nOasis Grill\, La Savane\, Fort-de-France\, 0696 72 88 77
URL:https://www.buzzmagmartinique.com/evenement/soiree-dj-zouk-kompa-salsa-a-loasis-grill-fort-de-france/2025-08-12/
LOCATION:Oasis Grill\, La Savane\, Fort-de-France\, 97200\, Martinique
CATEGORIES:Soirée
ATTACH;FMTTYPE=image/webp:https://www.buzzmagmartinique.com/wp-content/uploads/2024/04/515052649_1306429018152074_7632698326776656746_n.webp
ORGANIZER;CN="Oasis Grill":MAILTO:oasisgrill972@gmail.com
END:VEVENT
END:VCALENDAR