BEGIN:VCALENDAR
VERSION:2.0
PRODID:-//Buzzmag - ECPv6.15.20//NONSGML v1.0//EN
CALSCALE:GREGORIAN
METHOD:PUBLISH
X-WR-CALNAME:Buzzmag
X-ORIGINAL-URL:https://www.buzzmagmartinique.com
X-WR-CALDESC:Évènements pour Buzzmag
REFRESH-INTERVAL;VALUE=DURATION:PT1H
X-Robots-Tag:noindex
X-PUBLISHED-TTL:PT1H
BEGIN:VTIMEZONE
TZID:Europe/Paris
BEGIN:DAYLIGHT
TZOFFSETFROM:+0100
TZOFFSETTO:+0200
TZNAME:CEST
DTSTART:20240331T010000
END:DAYLIGHT
BEGIN:STANDARD
TZOFFSETFROM:+0200
TZOFFSETTO:+0100
TZNAME:CET
DTSTART:20241027T010000
END:STANDARD
BEGIN:DAYLIGHT
TZOFFSETFROM:+0100
TZOFFSETTO:+0200
TZNAME:CEST
DTSTART:20250330T010000
END:DAYLIGHT
BEGIN:STANDARD
TZOFFSETFROM:+0200
TZOFFSETTO:+0100
TZNAME:CET
DTSTART:20251026T010000
END:STANDARD
BEGIN:DAYLIGHT
TZOFFSETFROM:+0100
TZOFFSETTO:+0200
TZNAME:CEST
DTSTART:20260329T010000
END:DAYLIGHT
BEGIN:STANDARD
TZOFFSETFROM:+0200
TZOFFSETTO:+0100
TZNAME:CET
DTSTART:20261025T010000
END:STANDARD
BEGIN:DAYLIGHT
TZOFFSETFROM:+0100
TZOFFSETTO:+0200
TZNAME:CEST
DTSTART:20270328T010000
END:DAYLIGHT
BEGIN:STANDARD
TZOFFSETFROM:+0200
TZOFFSETTO:+0100
TZNAME:CET
DTSTART:20271031T010000
END:STANDARD
END:VTIMEZONE
BEGIN:VEVENT
DTSTART;TZID=Europe/Paris:20260301T060000
DTEND;TZID=Europe/Paris:20260301T160000
DTSTAMP:20260423T175105
CREATED:20230428T165004Z
LAST-MODIFIED:20260224T171919Z
UID:10003590-1772344800-1772380800@www.buzzmagmartinique.com
SUMMARY:RANDONNÉE PÉDESTRE "POINTE SAVANE - POINTE BANANE" PAR MPT CARREFOUR DE TIVOLI\, LE ROBERT
DESCRIPTION:La randonnée de “Pointe Savane-Pointe Banane” \nParcours d’environ 8 kilomètres (aller-retour) \nTemps de marche de 3h00. \nDénivelé positif (30 m) faible\, quelques montées de courtes durées. \nAccessible à toute la famille. \nAmbiance\, nature et moment chill à la plage en fin de parcours Ne manquez pas ça ! Ensemble on commence l’année du bon côté \n  \n\nMPT Carrefour de Tivoli 91 Tivoli Desbrosses\, Fort de France\, 0596 64 06 09
URL:https://www.buzzmagmartinique.com/evenement/randonnee-pedestre-pointe-savane-pointe-banane-par-mpt-carrefour-de-tivoli-le-robert/
CATEGORIES:Jeune public,Sport
ATTACH;FMTTYPE=image/webp:https://www.buzzmagmartinique.com/wp-content/uploads/2023/04/03-01-MPT-TIVOLI.webp
ORGANIZER;CN="MPT Carrefour de Tivoli":MAILTO:mpt3@wanadoo.fr
END:VEVENT
BEGIN:VEVENT
DTSTART;TZID=Europe/Paris:20260214T143000
DTEND;TZID=Europe/Paris:20260214T190000
DTSTAMP:20260423T175105
CREATED:20221105T151443Z
LAST-MODIFIED:20260209T152903Z
UID:10002824-1771079400-1771095600@www.buzzmagmartinique.com
SUMMARY:PARADE CARNAVALESQUE "CUPIDON FAIS SON CARNAVAL" PAR L'ASSOCIATION CARREFOUR DE TIVOLI\, FORT DE FRANCE
DESCRIPTION:Cupidon fait son carnaval à Tivoli ! \nQue tu sois amoureux(se)\, célibataire\, cœur brisé ou juste venu(e) faire la fête… tout le monde est concerné \nCœurs\, flèches\, sourires\, danse et vibes carnavalesques au rendez-vous \nViens comme tu es\, avec ton plus beau cœur… ou ton plus beau masque \nCupidon vous attend… \n  \n\nMPT Carrefour de Tivoli 91 Tivoli Desbrosses\, Fort de France\, 0596 64 06 09
URL:https://www.buzzmagmartinique.com/evenement/parade-carnavalesque-cupidon-fais-son-carnaval-par-lassociation-carrefour-de-tivoli-fort-de-france/
LOCATION:MPT Carrefour de Tivoli\, 91 Tivoli\, Desbrosses\, Fort de France\, 97200\, Martinique
CATEGORIES:Art & Culture
ATTACH;FMTTYPE=image/webp:https://www.buzzmagmartinique.com/wp-content/uploads/2022/11/629453810_25415175071516335_7608025575906115408_n1.webp
ORGANIZER;CN="MPT Carrefour de Tivoli":MAILTO:mpt3@wanadoo.fr
END:VEVENT
BEGIN:VEVENT
DTSTART;TZID=Europe/Paris:20251115T180000
DTEND;TZID=Europe/Paris:20251115T230000
DTSTAMP:20260423T175105
CREATED:20240506T181924Z
LAST-MODIFIED:20251103T205930Z
UID:10075422-1763229600-1763247600@www.buzzmagmartinique.com
SUMMARY:LES 40 ANS DE L'ASSOCIATION CARREFOUR DE TIVOLI\, FORT DE FRANCE
DESCRIPTION:MPT Carrefour de Tivoli 91 Tivoli Desbrosses\, Fort de France\, 0596 64 06 09 \n \n 
URL:https://www.buzzmagmartinique.com/evenement/les-40-ans-de-lassociation-carrefour-de-tivoli-fort-de-france/
LOCATION:MPT Carrefour de Tivoli\, 91 Tivoli\, Desbrosses\, Fort de France\, 97200\, Martinique
CATEGORIES:Art & Culture,Soirée
ATTACH;FMTTYPE=image/webp:https://www.buzzmagmartinique.com/wp-content/uploads/2024/05/575098036_24619427947757722_3542080360688375714_n1.webp
ORGANIZER;CN="MPT Carrefour de Tivoli":MAILTO:mpt3@wanadoo.fr
END:VEVENT
END:VCALENDAR