BEGIN:VCALENDAR
VERSION:2.0
PRODID:-//Buzzmag - ECPv6.15.20//NONSGML v1.0//EN
CALSCALE:GREGORIAN
METHOD:PUBLISH
X-ORIGINAL-URL:https://www.buzzmagmartinique.com
X-WR-CALDESC:Évènements pour Buzzmag
REFRESH-INTERVAL;VALUE=DURATION:PT1H
X-Robots-Tag:noindex
X-PUBLISHED-TTL:PT1H
BEGIN:VTIMEZONE
TZID:Europe/Paris
BEGIN:DAYLIGHT
TZOFFSETFROM:+0100
TZOFFSETTO:+0200
TZNAME:CEST
DTSTART:20250330T010000
END:DAYLIGHT
BEGIN:STANDARD
TZOFFSETFROM:+0200
TZOFFSETTO:+0100
TZNAME:CET
DTSTART:20251026T010000
END:STANDARD
BEGIN:DAYLIGHT
TZOFFSETFROM:+0100
TZOFFSETTO:+0200
TZNAME:CEST
DTSTART:20260329T010000
END:DAYLIGHT
BEGIN:STANDARD
TZOFFSETFROM:+0200
TZOFFSETTO:+0100
TZNAME:CET
DTSTART:20261025T010000
END:STANDARD
BEGIN:DAYLIGHT
TZOFFSETFROM:+0100
TZOFFSETTO:+0200
TZNAME:CEST
DTSTART:20270328T010000
END:DAYLIGHT
BEGIN:STANDARD
TZOFFSETFROM:+0200
TZOFFSETTO:+0100
TZNAME:CET
DTSTART:20271031T010000
END:STANDARD
END:VTIMEZONE
BEGIN:VEVENT
DTSTART;VALUE=DATE:20260110
DTEND;VALUE=DATE:20260112
DTSTAMP:20260421T055356
CREATED:20230512T154652Z
LAST-MODIFIED:20260109T150028Z
UID:10003604-1768003200-1768175999@www.buzzmagmartinique.com
SUMMARY:NATATION "MEETING CLAUDE SUFRIN" PAR LONGVILLIERS CLUB AU CENTRE AQUATIQUE COMMUNAUTAIRE\, LE LAMENTIN
DESCRIPTION:Le Longvilliers Club vous donne rendez-vous pour le meeting Claude Suffrin samedi 10 et dimanche 11 janvier \nCette année\, le Meeting Claude Sufrin prend une dimension exceptionnelle ! \nDe nombreux clubs venus de la Caraïbe\, à savoir Cuba\, Sainte-Lucie\, mais aussi de la Guyane\, de La Réunion et du Canada seront au rendez-vous pour un week-end de compétition intense.  \nVenez nombreux ! \n\nCentre Aquatique Communautaire – CACEM\, Quartier Petit Manoir\, Le Lamentin\, 0596 76 58 88 \n \nLongvilliers club du Lamentin\, Quartier Petit-Manoir \, Le Lamentin\, +596 596 51 54 39
URL:https://www.buzzmagmartinique.com/evenement/natation-meeting-claude-sufrin-par-longvilliers-club-au-centre-aquatique-communautaire-le-lamentin/
LOCATION:Centre Aquatique Communautaire – Pierre Samot\, Petit Manoir\, Le Lamentin\, 97232\, Martinique
CATEGORIES:Sport
ATTACH;FMTTYPE=image/webp:https://www.buzzmagmartinique.com/wp-content/uploads/2023/05/01-11-LONGVILLIERS.webp
ORGANIZER;CN="Longvilliers club du Lamentin":MAILTO:longvilliers@orange.fr
END:VEVENT
END:VCALENDAR