BEGIN:VCALENDAR
VERSION:2.0
PRODID:-//Buzzmag - ECPv6.15.20//NONSGML v1.0//EN
CALSCALE:GREGORIAN
METHOD:PUBLISH
X-ORIGINAL-URL:https://www.buzzmagmartinique.com
X-WR-CALDESC:Évènements pour Buzzmag
REFRESH-INTERVAL;VALUE=DURATION:PT1H
X-Robots-Tag:noindex
X-PUBLISHED-TTL:PT1H
BEGIN:VTIMEZONE
TZID:Europe/Paris
BEGIN:DAYLIGHT
TZOFFSETFROM:+0100
TZOFFSETTO:+0200
TZNAME:CEST
DTSTART:20250330T010000
END:DAYLIGHT
BEGIN:STANDARD
TZOFFSETFROM:+0200
TZOFFSETTO:+0100
TZNAME:CET
DTSTART:20251026T010000
END:STANDARD
BEGIN:DAYLIGHT
TZOFFSETFROM:+0100
TZOFFSETTO:+0200
TZNAME:CEST
DTSTART:20260329T010000
END:DAYLIGHT
BEGIN:STANDARD
TZOFFSETFROM:+0200
TZOFFSETTO:+0100
TZNAME:CET
DTSTART:20261025T010000
END:STANDARD
BEGIN:DAYLIGHT
TZOFFSETFROM:+0100
TZOFFSETTO:+0200
TZNAME:CEST
DTSTART:20270328T010000
END:DAYLIGHT
BEGIN:STANDARD
TZOFFSETFROM:+0200
TZOFFSETTO:+0100
TZNAME:CET
DTSTART:20271031T010000
END:STANDARD
END:VTIMEZONE
BEGIN:VEVENT
DTSTART;TZID=Europe/Paris:20260417T200000
DTEND;TZID=Europe/Paris:20260418T223000
DTSTAMP:20260424T010145
CREATED:20220222T173325Z
LAST-MODIFIED:20260417T185652Z
UID:10003160-1776456000-1776551400@www.buzzmagmartinique.com
SUMMARY:VOLLEY-BALL "FINALES SÉNIOR MASCULIN & FÉMININ" AU HALL DES SPORTS\, RIVIÈRE SALÉE
DESCRIPTION:Ligue Martiniquaise Volley-Ball\, +596 596 73 96 71\, liguemartiniquaisedevolleyball@orange.fr
URL:https://www.buzzmagmartinique.com/evenement/volley-ball-finales-senior-masculin-feminin-au-hall-des-sports-riviere-salee/
CATEGORIES:Sport
ATTACH;FMTTYPE=image/webp:https://www.buzzmagmartinique.com/wp-content/uploads/2022/02/494524753_18289584331247452_5378219276646219584_n.webp
ORGANIZER;CN="Ligue Martiniquaise Volley-Ball":MAILTO:liguemartiniquaisedevolleyball@orange.fr
END:VEVENT
BEGIN:VEVENT
DTSTART;TZID=Europe/Paris:20260404T080000
DTEND;TZID=Europe/Paris:20260404T170000
DTSTAMP:20260424T010145
CREATED:20220812T135745Z
LAST-MODIFIED:20260403T193921Z
UID:10002769-1775289600-1775322000@www.buzzmagmartinique.com
SUMMARY:BEACH VOLLEY "CHAMPIONNAT" SUR LA PLAGE DU COIN\, LE CARBET
DESCRIPTION:Ligue Martiniquaise Volley-Ball\, +596 596 73 96 71\, liguemartiniquaisedevolleyball@orange.fr \n \n 
URL:https://www.buzzmagmartinique.com/evenement/beach-volley-championnat-sur-la-plage-du-coin-le-carbet/
CATEGORIES:Sport
ATTACH;FMTTYPE=image/webp:https://www.buzzmagmartinique.com/wp-content/uploads/2022/08/04-04-VOLLEY.webp
ORGANIZER;CN="Ligue Martiniquaise Volley-Ball":MAILTO:liguemartiniquaisedevolleyball@orange.fr
END:VEVENT
BEGIN:VEVENT
DTSTART;TZID=Europe/Paris:20260404T080000
DTEND;TZID=Europe/Paris:20260404T120000
DTSTAMP:20260424T010145
CREATED:20240105T140913Z
LAST-MODIFIED:20260320T132822Z
UID:10081848-1775289600-1775304000@www.buzzmagmartinique.com
SUMMARY:STAGE DE BEACH VOLLEY  SUR LA PLAGE DU COIN\, LE CARBET
DESCRIPTION:  \n\nLigue Martiniquaise Volley-Ball\, +596 596 73 96 71\, liguemartiniquaisedevolleyball@orange.fr
URL:https://www.buzzmagmartinique.com/evenement/stage-de-beach-volley-sur-la-plage-du-coin-le-carbet/2026-04-04/
CATEGORIES:Sport
ATTACH;FMTTYPE=image/webp:https://www.buzzmagmartinique.com/wp-content/uploads/2022/08/03-29-04-04-VOLLEY.webp
ORGANIZER;CN="Ligue Martiniquaise Volley-Ball":MAILTO:liguemartiniquaisedevolleyball@orange.fr
END:VEVENT
END:VCALENDAR