BEGIN:VCALENDAR
VERSION:2.0
PRODID:-//Buzzmag - ECPv6.15.20//NONSGML v1.0//EN
CALSCALE:GREGORIAN
METHOD:PUBLISH
X-ORIGINAL-URL:https://www.buzzmagmartinique.com
X-WR-CALDESC:Évènements pour Buzzmag
REFRESH-INTERVAL;VALUE=DURATION:PT1H
X-Robots-Tag:noindex
X-PUBLISHED-TTL:PT1H
BEGIN:VTIMEZONE
TZID:Europe/Paris
BEGIN:DAYLIGHT
TZOFFSETFROM:+0100
TZOFFSETTO:+0200
TZNAME:CEST
DTSTART:20250330T010000
END:DAYLIGHT
BEGIN:STANDARD
TZOFFSETFROM:+0200
TZOFFSETTO:+0100
TZNAME:CET
DTSTART:20251026T010000
END:STANDARD
BEGIN:DAYLIGHT
TZOFFSETFROM:+0100
TZOFFSETTO:+0200
TZNAME:CEST
DTSTART:20260329T010000
END:DAYLIGHT
BEGIN:STANDARD
TZOFFSETFROM:+0200
TZOFFSETTO:+0100
TZNAME:CET
DTSTART:20261025T010000
END:STANDARD
BEGIN:DAYLIGHT
TZOFFSETFROM:+0100
TZOFFSETTO:+0200
TZNAME:CEST
DTSTART:20270328T010000
END:DAYLIGHT
BEGIN:STANDARD
TZOFFSETFROM:+0200
TZOFFSETTO:+0100
TZNAME:CET
DTSTART:20271031T010000
END:STANDARD
END:VTIMEZONE
BEGIN:VEVENT
DTSTART;TZID=Europe/Paris:20260421T200000
DTEND;TZID=Europe/Paris:20260421T230000
DTSTAMP:20260420T204944
CREATED:20220404T120517Z
LAST-MODIFIED:20251006T150353Z
UID:10072064-1776801600-1776812400@www.buzzmagmartinique.com
SUMMARY:SOIRÉE KARAOKÉ AVEC ASH AU WANTED PARADISE\, LE MARIN
DESCRIPTION:Envie de chanter\, de t’éclater entre amis et de vivre une soirée pleine d’émotions ? \nKaraoké exceptionnel animé par Ash\, le maître de l’ambiance et des bonnes vibrations ! \nRestauration sur place pour combler les petites faims \nBar à cocktails pour des boissons rafraîchissantes et festives \nAnimation sur la terrasse sous les étoiles\, ambiance garantie \nRéserve vite ta table : 0596 03 25 32 / 0696 53 51 78 \nAmène ta voix\, ton énergie et tes amis… on s’occupe du reste \n  \n\nLe Wanted Paradise\, Nouvelle Marina du Marin\, 0696 53 51 78
URL:https://www.buzzmagmartinique.com/evenement/soiree-karaoke-avec-ash-au-wanted-paradise-le-marin/2026-04-21/
LOCATION:Le Wanted Paradise\, Nouvelle Marina du Marin\, Le Marin\, Martinique
CATEGORIES:Soirée
ATTACH;FMTTYPE=image/webp:https://www.buzzmagmartinique.com/wp-content/uploads/2022/04/5999a35957dfb81a99364221dd12ebb3_700_600_landscape_97.webp
ORGANIZER;CN="Le Wanted Paradise":MAILTO:wap.gestion9@gmail.com
END:VEVENT
END:VCALENDAR