BEGIN:VCALENDAR
VERSION:2.0
PRODID:-//Buzzmag - ECPv6.15.20//NONSGML v1.0//EN
CALSCALE:GREGORIAN
METHOD:PUBLISH
X-WR-CALNAME:Buzzmag
X-ORIGINAL-URL:https://www.buzzmagmartinique.com
X-WR-CALDESC:Évènements pour Buzzmag
REFRESH-INTERVAL;VALUE=DURATION:PT1H
X-Robots-Tag:noindex
X-PUBLISHED-TTL:PT1H
BEGIN:VTIMEZONE
TZID:America/Martinique
BEGIN:STANDARD
TZOFFSETFROM:-0400
TZOFFSETTO:-0400
TZNAME:AST
DTSTART:20250101T000000
END:STANDARD
END:VTIMEZONE
BEGIN:VTIMEZONE
TZID:Europe/Paris
BEGIN:DAYLIGHT
TZOFFSETFROM:+0100
TZOFFSETTO:+0200
TZNAME:CEST
DTSTART:20250330T010000
END:DAYLIGHT
BEGIN:STANDARD
TZOFFSETFROM:+0200
TZOFFSETTO:+0100
TZNAME:CET
DTSTART:20251026T010000
END:STANDARD
BEGIN:DAYLIGHT
TZOFFSETFROM:+0100
TZOFFSETTO:+0200
TZNAME:CEST
DTSTART:20260329T010000
END:DAYLIGHT
BEGIN:STANDARD
TZOFFSETFROM:+0200
TZOFFSETTO:+0100
TZNAME:CET
DTSTART:20261025T010000
END:STANDARD
BEGIN:DAYLIGHT
TZOFFSETFROM:+0100
TZOFFSETTO:+0200
TZNAME:CEST
DTSTART:20270328T010000
END:DAYLIGHT
BEGIN:STANDARD
TZOFFSETFROM:+0200
TZOFFSETTO:+0100
TZNAME:CET
DTSTART:20271031T010000
END:STANDARD
END:VTIMEZONE
BEGIN:VEVENT
DTSTART;TZID=America/Martinique:20260206T090000
DTEND;TZID=America/Martinique:20260426T183000
DTSTAMP:20260423T181917
CREATED:20241022T181243Z
LAST-MODIFIED:20260415T005009Z
UID:10017820-1770368400-1777228200@www.buzzmagmartinique.com
SUMMARY:EXPOSITION "PEINDRE À LA MARTINIQUE UNE HISTOIRE DE L’ART DÉCENTRÉE 1765-1943" PAR CHRISTIAN BERTIN À LA FONDATION CLÉMENT\, LE FRANÇOIS
DESCRIPTION:Christelle Lozère\, commissaire« Peindre à la Martinique » aborde la question des pratiques artistiques en Martinique entre 1765 et 1943. Plus de 150 œuvres retracent les grandes temporalités de l’histoire de l’art de la Martinique : de la construction des imaginaires coloniaux dominants jusqu’à la rébellion esthétique portée par la négritude et le surréalisme\, avec la création de l’école des arts appliqués. L’exposition rend compte des fractures\, des silences\, des préjugés\, mais aussi des résistances et des combats depuis la Martinique et Paris\, pour l’accès à la formation artistique dans les écoles publiques et pour le développement\, dès l’entre-deux-guerres\, d’un art martiniquais représentant les gens\, les scènes et les paysages du 𝑝𝑒́𝑦𝑖.Cette exposition est réalisée avec le prêt et le concours exceptionnels du musée du quai Branly – Jacques ChiracEntrée gratuite sans réservation\n\nPlus d’infos sur notre site web https://bit.ly/3xngpZj[Affiche] Jean Baldoui — Le Flamboyant – Martinique (détail)\, 1930.\nCollection musée du quai Branly – Jacques Chirac.\nPhotographie : H. Lewandowski\nConception graphique : Yvana’Arts\n\n\nFondation Clément\, Habitation Clément\, Le François
URL:https://www.buzzmagmartinique.com/evenement/exposition-peindre-a-la-martinique-une-histoire-de-lart-decentree-1765-1943-par-christian-bertin-a-la-fondation-clement-le-francois/
LOCATION:Fondation Clément\, Habitation Clément\, Le François\, 97240\, Martinique
CATEGORIES:Art & Culture
ATTACH;FMTTYPE=image/webp:https://www.buzzmagmartinique.com/wp-content/uploads/2024/10/627632513_1321969463292708_4551959848603622751_n11.webp
ORGANIZER;CN="Fondation Cl%C3%A9ment":MAILTO:fondation-clement@gbh.fr
END:VEVENT
BEGIN:VEVENT
DTSTART;TZID=Europe/Paris:20260424T163000
DTEND;TZID=Europe/Paris:20260424T183000
DTSTAMP:20260423T181917
CREATED:20181120T160424Z
LAST-MODIFIED:20260213T124721Z
UID:10081512-1777048200-1777055400@www.buzzmagmartinique.com
SUMMARY:VISITES COMMENTÉES "PEINDRE À LA MARTINIQUE" À LA FONDATION CLÉMENT\, LE FRANÇOIS
DESCRIPTION:« Peindre à la Martinique » aborde la question des pratiques artistiques en Martinique entre 1765 et 1943.\nPlus de 150 œuvres retracent les grandes temporalités de l’histoire de l’art de la Martinique : de la construction des imaginaires coloniaux dominants jusqu’à la rébellion esthétique portée par la négritude et le surréalisme\, avec la création de l’école des arts appliqués.\nL’exposition rend compte des fractures\, des silences\, des préjugés\, mais aussi des résistances et des combats depuis la Martinique et Paris\, pour l’accès à la formation artistique dans les écoles publiques et pour le développement\, dès l’entre-deux-guerres\, d’un art martiniquais représentant les gens\, les scènes et les paysages du 𝑝𝑒́𝑦𝑖.\n\n\n\nCette exposition est réalisée avec le prêt et le concours exceptionnels du musée du quai Branly – Jacques Chirac\n\n\n\nVisites commentées : tous les mercredis et vendredis à 16h30\n\n\nActivité gratuite sans réservation\n\nPlus d’infos sur notre site web  https://bit.ly/3xngpZj\n\n\n\nPhoto : JF Gouait\n\n  \n\nFondation Clément\, Habitation Clément\, Le François
URL:https://www.buzzmagmartinique.com/evenement/visites-commentees-peindre-a-la-martinique-a-la-fondation-clement-le-francois/2026-04-24/
LOCATION:Fondation Clément\, Habitation Clément\, Le François\, 97240\, Martinique
CATEGORIES:Art & Culture
ATTACH;FMTTYPE=image/webp:https://www.buzzmagmartinique.com/wp-content/uploads/2018/11/631462740_1328228916000096_2989353763629446974_n1.webp
ORGANIZER;CN="Fondation Cl%C3%A9ment":MAILTO:fondation-clement@gbh.fr
END:VEVENT
END:VCALENDAR