BEGIN:VCALENDAR
VERSION:2.0
PRODID:-//Buzzmag - ECPv6.15.20//NONSGML v1.0//EN
CALSCALE:GREGORIAN
METHOD:PUBLISH
X-ORIGINAL-URL:https://www.buzzmagmartinique.com
X-WR-CALDESC:Évènements pour Buzzmag
REFRESH-INTERVAL;VALUE=DURATION:PT1H
X-Robots-Tag:noindex
X-PUBLISHED-TTL:PT1H
BEGIN:VTIMEZONE
TZID:Europe/Paris
BEGIN:DAYLIGHT
TZOFFSETFROM:+0100
TZOFFSETTO:+0200
TZNAME:CEST
DTSTART:20250330T010000
END:DAYLIGHT
BEGIN:STANDARD
TZOFFSETFROM:+0200
TZOFFSETTO:+0100
TZNAME:CET
DTSTART:20251026T010000
END:STANDARD
BEGIN:DAYLIGHT
TZOFFSETFROM:+0100
TZOFFSETTO:+0200
TZNAME:CEST
DTSTART:20260329T010000
END:DAYLIGHT
BEGIN:STANDARD
TZOFFSETFROM:+0200
TZOFFSETTO:+0100
TZNAME:CET
DTSTART:20261025T010000
END:STANDARD
BEGIN:DAYLIGHT
TZOFFSETFROM:+0100
TZOFFSETTO:+0200
TZNAME:CEST
DTSTART:20270328T010000
END:DAYLIGHT
BEGIN:STANDARD
TZOFFSETFROM:+0200
TZOFFSETTO:+0100
TZNAME:CET
DTSTART:20271031T010000
END:STANDARD
END:VTIMEZONE
BEGIN:VEVENT
DTSTART;TZID=Europe/Paris:20260420T100000
DTEND;TZID=Europe/Paris:20260420T120000
DTSTAMP:20260421T000539
CREATED:20241202T144221Z
LAST-MODIFIED:20250721T145447Z
UID:10061116-1776679200-1776686400@www.buzzmagmartinique.com
SUMMARY:VISITE DE LA MAISON D’AIMÉ CÉSAIRE À REDOUTE\, FORT DE FRANCE
DESCRIPTION:Ouvre ses portes aux visiteurs \n\nFondation Aimé Césaire\, 131 route de Redoute\, Fort de France\, 0596 59 60 00
URL:https://www.buzzmagmartinique.com/evenement/visite-de-la-maison-daime-cesaire-a-redoute-fort-de-france/2026-04-20/
LOCATION:Maison d’Aimé Césaire\, 131 route de Redoute\, Fort de France\, 97200\, Martinique
CATEGORIES:Art & Culture
ATTACH;FMTTYPE=image/jpeg:https://www.buzzmagmartinique.com/wp-content/uploads/2024/06/MAISON-DAIME-CESAIRE.jpeg
ORGANIZER;CN="Fondation Aim%C3%A9 C%C3%A9saire":MAILTO:fondationaimecesaire@outlook.fr
END:VEVENT
END:VCALENDAR