BEGIN:VCALENDAR
VERSION:2.0
PRODID:-//Buzzmag - ECPv6.15.20//NONSGML v1.0//EN
CALSCALE:GREGORIAN
METHOD:PUBLISH
X-WR-CALNAME:Buzzmag
X-ORIGINAL-URL:https://www.buzzmagmartinique.com
X-WR-CALDESC:Évènements pour Buzzmag
REFRESH-INTERVAL;VALUE=DURATION:PT1H
X-Robots-Tag:noindex
X-PUBLISHED-TTL:PT1H
BEGIN:VTIMEZONE
TZID:America/Martinique
BEGIN:STANDARD
TZOFFSETFROM:-0400
TZOFFSETTO:-0400
TZNAME:AST
DTSTART:20250101T000000
END:STANDARD
END:VTIMEZONE
BEGIN:VEVENT
DTSTART;TZID=America/Martinique:20260307T090000
DTEND;TZID=America/Martinique:20260311T190000
DTSTAMP:20260422T032953
CREATED:20240808T212637Z
LAST-MODIFIED:20260220T135505Z
UID:10013602-1772874000-1773255600@www.buzzmagmartinique.com
SUMMARY:EXPOSITION "Ô FEMMES !" PAR LARTGONDSTOUT À LA GUINGUETTE\, ST PIERRE
DESCRIPTION:Salle municipal « La Guinguette »\, RN 2\, Saint Pierre \n \nAssociation culturelle et artistique qui a pour finalité de promouvoir l’art et la culture sous toutes ses formes : peinture\, sculpture\, théâtre…  \nLartgondstout\, 0696 54 65 12\, lartgondstout@laposte.net
URL:https://www.buzzmagmartinique.com/evenement/exposition-o-femmes-par-lartgondstout-a-la-guinguette-st-pierre/
LOCATION:La Guinguette\, Saint-Pierre\, Martinique
CATEGORIES:Art & Culture
ATTACH;FMTTYPE=image/webp:https://www.buzzmagmartinique.com/wp-content/uploads/2024/08/IMG-20260219-WA0007.webp
END:VEVENT
END:VCALENDAR