BEGIN:VCALENDAR
VERSION:2.0
PRODID:-//Buzzmag - ECPv6.15.20//NONSGML v1.0//EN
CALSCALE:GREGORIAN
METHOD:PUBLISH
X-WR-CALNAME:Buzzmag
X-ORIGINAL-URL:https://www.buzzmagmartinique.com
X-WR-CALDESC:Évènements pour Buzzmag
REFRESH-INTERVAL;VALUE=DURATION:PT1H
X-Robots-Tag:noindex
X-PUBLISHED-TTL:PT1H
BEGIN:VTIMEZONE
TZID:Europe/Paris
BEGIN:DAYLIGHT
TZOFFSETFROM:+0100
TZOFFSETTO:+0200
TZNAME:CEST
DTSTART:20250330T010000
END:DAYLIGHT
BEGIN:STANDARD
TZOFFSETFROM:+0200
TZOFFSETTO:+0100
TZNAME:CET
DTSTART:20251026T010000
END:STANDARD
BEGIN:DAYLIGHT
TZOFFSETFROM:+0100
TZOFFSETTO:+0200
TZNAME:CEST
DTSTART:20260329T010000
END:DAYLIGHT
BEGIN:STANDARD
TZOFFSETFROM:+0200
TZOFFSETTO:+0100
TZNAME:CET
DTSTART:20261025T010000
END:STANDARD
BEGIN:DAYLIGHT
TZOFFSETFROM:+0100
TZOFFSETTO:+0200
TZNAME:CEST
DTSTART:20270328T010000
END:DAYLIGHT
BEGIN:STANDARD
TZOFFSETFROM:+0200
TZOFFSETTO:+0100
TZNAME:CET
DTSTART:20271031T010000
END:STANDARD
END:VTIMEZONE
BEGIN:VTIMEZONE
TZID:Europe/Paris
BEGIN:DAYLIGHT
TZOFFSETFROM:+0100
TZOFFSETTO:+0200
TZNAME:CEST
DTSTART:20250330T010000
END:DAYLIGHT
BEGIN:STANDARD
TZOFFSETFROM:+0200
TZOFFSETTO:+0100
TZNAME:CET
DTSTART:20251026T010000
END:STANDARD
BEGIN:DAYLIGHT
TZOFFSETFROM:+0100
TZOFFSETTO:+0200
TZNAME:CEST
DTSTART:20260329T010000
END:DAYLIGHT
BEGIN:STANDARD
TZOFFSETFROM:+0200
TZOFFSETTO:+0100
TZNAME:CET
DTSTART:20261025T010000
END:STANDARD
BEGIN:DAYLIGHT
TZOFFSETFROM:+0100
TZOFFSETTO:+0200
TZNAME:CEST
DTSTART:20270328T010000
END:DAYLIGHT
BEGIN:STANDARD
TZOFFSETFROM:+0200
TZOFFSETTO:+0100
TZNAME:CET
DTSTART:20271031T010000
END:STANDARD
END:VTIMEZONE
BEGIN:VEVENT
DTSTART;VALUE=DATE:20260413
DTEND;VALUE=DATE:20260511
DTSTAMP:20260424T181919
CREATED:20240425T162348Z
LAST-MODIFIED:20260413T154616Z
UID:10083183-1776038400-1778457599@www.buzzmagmartinique.com
SUMMARY:APPELS À CANDIDATURES SEMAINE DU MADRAS PAR LE COLLECTIF DU PATRIMOINE VESTIMENTAIRE MARTINIQUAIS\, LA TRINITÉ
DESCRIPTION:APPELS À CANDIDATURES SEMAINE DU MADRAS CPVM À LA VILLE DE LA TRINITÉ ! \nArtisans\, créateurs de mode\, envie le samedi 16 mai de montrer au grand jour vos créations et votre talent? \nEntre tradition\, modernité et originalité\, le Madras se réinvente entre vos mains ? \nJuste 1 clic : \n️APPEL A CANDIDATURES VILLAGE MADRAS :\nDésir de vendre vos produits et créations en madras\, cliquez sur ce lien pour télécharger le dossier\, prendre connaissance des modalités et candidater :  https://drive.google.com/file/d/1gB5kOZYKA57_OgniLlO2QHfe6SUx1HQg/view?usp=drive_link \n️APPEL A CANDIDATURES SHOW MODE MADRAS :\nCréateurs de mode\, venez exposer vos créations lors d’un défilé. Cliquez sur ce lien pour télécharger le dossier\, prendre connaissance des modalités et candidater : https://drive.google.com/file/d/1MV3dKdRd75uMxua57nXPL_-eDMbByrxG/view?usp=sharing \nSi vous avez une problématique avec les liens\, écrivez au mail du CPVM pour recevoir les dossiers : cpvm972@gmail.com \nSa ké bel ! \n\nLe Collectif du Patrimoine Vestimentaire Martiniquais CPVM : regroupement d’amoureux de notre patrimoine vestimentaire traditionnel œuvrant pour sa (re)valorisation. \nCollectif du Patrimoine Vestimentaire Martiniquais CPVM\, 0696 66 10 22\, cpvm972@gmail.com \n \n 
URL:https://www.buzzmagmartinique.com/evenement/appels-a-candidatures-semaine-du-madras-par-le-collectif-du-patrimoine-vestimentaire-martiniquais-la-trinite/
CATEGORIES:Art & Culture
ATTACH;FMTTYPE=image/webp:https://www.buzzmagmartinique.com/wp-content/uploads/2023/10/IMG-20260413-WA00051.webp
ORGANIZER;CN="Collectif du Patrimoine Vestimentaire Martiniquais CPVM":MAILTO:cpvm972@gmail.com
END:VEVENT
BEGIN:VEVENT
DTSTART;VALUE=DATE:20260511
DTEND;VALUE=DATE:20260517
DTSTAMP:20260424T181919
CREATED:20231019T165737Z
LAST-MODIFIED:20260413T153537Z
UID:10003707-1778457600-1778975999@www.buzzmagmartinique.com
SUMMARY:"LES JOURNÉES DU MADRAS" PAR LE COLLECTIF DU PATRIMOINE VESTIMENTAIRE MARTINIQUAIS
DESCRIPTION:LES JOURNÉES DU MADRAS proposées par le Collectif du Patrimoine Vestimentaire Martiniquais CPVM \nVendredi 15 mai 2026 : Tous en madras ! \nAppel à la population à se vêtir en madras. \nSamedi 16 Mai 2026 : Grand village autour du madras\, Show mode Madras et d’autres surprises ! \nÀ partir de 14h jusqu’au soir ! \nCréateurs\, artisans\, stylistes mais aussi piti kon gran\, tenez-vous prêts ! \n \n  \nPARCE QUE LES JOURNÉES DU MADRAS DU COLLECTIF DU PATRIMOINE VESTIMENTAIRE MARTINIQUAIS SONT AUSSI POUR LES ENFANTS2 dates dédiées aux enfants : les 11 et 12 mai pour les scolaires et le 13 mai dans les crèches et centres aérés ! \n\nLe Collectif du Patrimoine Vestimentaire Martiniquais CPVM : regroupement d’amoureux de notre patrimoine vestimentaire traditionnel œuvrant pour sa (re)valorisation. \nCollectif du Patrimoine Vestimentaire Martiniquais CPVM\, 0696 66 10 22\, cpvm972@gmail.com \n \n 
URL:https://www.buzzmagmartinique.com/evenement/les-journees-du-madras-par-le-collectif-du-patrimoine-vestimentaire-martiniquais/
CATEGORIES:Art & Culture
ATTACH;FMTTYPE=image/webp:https://www.buzzmagmartinique.com/wp-content/uploads/2023/10/639433580_122225696486100935_3148666558226949517_n111.webp
ORGANIZER;CN="Collectif du Patrimoine Vestimentaire Martiniquais CPVM":MAILTO:cpvm972@gmail.com
END:VEVENT
END:VCALENDAR