BEGIN:VCALENDAR
VERSION:2.0
PRODID:-//Buzzmag - ECPv6.15.20//NONSGML v1.0//EN
CALSCALE:GREGORIAN
METHOD:PUBLISH
X-ORIGINAL-URL:https://www.buzzmagmartinique.com
X-WR-CALDESC:Évènements pour Buzzmag
REFRESH-INTERVAL;VALUE=DURATION:PT1H
X-Robots-Tag:noindex
X-PUBLISHED-TTL:PT1H
BEGIN:VTIMEZONE
TZID:America/Martinique
BEGIN:STANDARD
TZOFFSETFROM:-0400
TZOFFSETTO:-0400
TZNAME:AST
DTSTART:20250101T000000
END:STANDARD
END:VTIMEZONE
BEGIN:VEVENT
DTSTART;TZID=America/Martinique:20260423T200000
DTEND;TZID=America/Martinique:20260423T200000
DTSTAMP:20260421T230329
CREATED:20240507T182022Z
LAST-MODIFIED:20260420T170315Z
UID:10010466-1776974400-1776974400@www.buzzmagmartinique.com
SUMMARY:SOIRÉE DJ "YAYAD" AU BLACKWOOD\, DUCOS
DESCRIPTION:Dj: CLIFF • LONY’T \nQuand le zouk fait battre les cœurs et que le kompa fait vibrer les corps… \nYAYAD débarque pour une nuit 100% love & vibes caribéennes. \nUne soirée chaude\, élégante et dansante\, où chaque pas rapproche\, où chaque son raconte une histoire. \nL’abus d’alcool est dangereux pour la santé\, à consommer avec modération. \n\nBlackwood\, Zone Petite Cocotte\, Ducos\, 06 88 39 66 45
URL:https://www.buzzmagmartinique.com/evenement/soiree-dj-yayad-au-blackwood-ducos/
LOCATION:Blackwood\, Zone Petite Cocotte\, Ducos\, 97224\, Martinique
CATEGORIES:Soirée
ATTACH;FMTTYPE=image/webp:https://www.buzzmagmartinique.com/wp-content/uploads/2024/05/118660_894db4b81f911c9ebef8c7786c5f2b33_1400x1867_auto_97.webp
END:VEVENT
BEGIN:VEVENT
DTSTART;TZID=America/Martinique:20260424T200000
DTEND;TZID=America/Martinique:20260424T200000
DTSTAMP:20260421T230329
CREATED:20241023T201212Z
LAST-MODIFIED:20260420T182813Z
UID:10017829-1777060800-1777060800@www.buzzmagmartinique.com
SUMMARY:SOIRÉE DJ "STEAK LAND" AU BLACKWOOD\, DUCOS
DESCRIPTION:La température monte… et les esprits s’échauffent. \nUne nuit où la tentation prend le dessus\, entre vibes brûlantes et ambiance enflammée. \nSTEAK LAND revient plus intense que jamais. \nPrépare-toi à vivre une expérience où chaleur\, musique et énergie ne font qu’un. \n  \nAux platines : \nKENJOX • JAMJAM • SHIMSHIM \n  \nUne seule règle : venir prêt à lâcher prise. \n  \n\nBlackwood\, Zone Petite Cocotte\, Ducos\, 06 88 39 66 45
URL:https://www.buzzmagmartinique.com/evenement/soiree-dj-steak-land-au-blackwood-ducos/
LOCATION:Blackwood\, Zone Petite Cocotte\, Ducos\, 97224\, Martinique
CATEGORIES:Soirée
ATTACH;FMTTYPE=image/webp:https://www.buzzmagmartinique.com/wp-content/uploads/2024/10/119176_e8242b7258c8f74d3ffada0a25c609d5_1400x1867_auto_971.webp
END:VEVENT
END:VCALENDAR