BEGIN:VCALENDAR
VERSION:2.0
PRODID:-//Buzzmag - ECPv6.15.20//NONSGML v1.0//EN
CALSCALE:GREGORIAN
METHOD:PUBLISH
X-WR-CALNAME:Buzzmag
X-ORIGINAL-URL:https://www.buzzmagmartinique.com
X-WR-CALDESC:Évènements pour Buzzmag
REFRESH-INTERVAL;VALUE=DURATION:PT1H
X-Robots-Tag:noindex
X-PUBLISHED-TTL:PT1H
BEGIN:VTIMEZONE
TZID:Europe/Paris
BEGIN:DAYLIGHT
TZOFFSETFROM:+0100
TZOFFSETTO:+0200
TZNAME:CEST
DTSTART:20240331T010000
END:DAYLIGHT
BEGIN:STANDARD
TZOFFSETFROM:+0200
TZOFFSETTO:+0100
TZNAME:CET
DTSTART:20241027T010000
END:STANDARD
BEGIN:DAYLIGHT
TZOFFSETFROM:+0100
TZOFFSETTO:+0200
TZNAME:CEST
DTSTART:20250330T010000
END:DAYLIGHT
BEGIN:STANDARD
TZOFFSETFROM:+0200
TZOFFSETTO:+0100
TZNAME:CET
DTSTART:20251026T010000
END:STANDARD
BEGIN:DAYLIGHT
TZOFFSETFROM:+0100
TZOFFSETTO:+0200
TZNAME:CEST
DTSTART:20260329T010000
END:DAYLIGHT
BEGIN:STANDARD
TZOFFSETFROM:+0200
TZOFFSETTO:+0100
TZNAME:CET
DTSTART:20261025T010000
END:STANDARD
BEGIN:DAYLIGHT
TZOFFSETFROM:+0100
TZOFFSETTO:+0200
TZNAME:CEST
DTSTART:20270328T010000
END:DAYLIGHT
BEGIN:STANDARD
TZOFFSETFROM:+0200
TZOFFSETTO:+0100
TZNAME:CET
DTSTART:20271031T010000
END:STANDARD
END:VTIMEZONE
BEGIN:VTIMEZONE
TZID:America/Martinique
BEGIN:STANDARD
TZOFFSETFROM:-0400
TZOFFSETTO:-0400
TZNAME:AST
DTSTART:20240101T000000
END:STANDARD
END:VTIMEZONE
BEGIN:VEVENT
DTSTART;TZID=Europe/Paris:20260421T190000
DTEND;TZID=Europe/Paris:20260421T190000
DTSTAMP:20260422T005743
CREATED:20250730T160354Z
LAST-MODIFIED:20260420T155831Z
UID:10063103-1776798000-1776798000@www.buzzmagmartinique.com
SUMMARY:SOIRÉE KARAOKÉ AU BLACKWOOD\, DUCOS
DESCRIPTION:Soirée Karaoké Spéciale Tubes \nTu connais les paroles. \nTu chantes déjà dans ta tête des tubes que tout le monde connaît\, Maintenant\, viens le faire POUR DE VRAI. \nTu chantes \nOn chante avec toi \nOn rigole (beaucoup) \nEt parfois… ça devient ICONIQUE \nSpoiler : même les timides finissent sur scène. \nPossibilité de restauration sur place : Cocktail\, Assiettes charcuteries/Fromages\, Croc-monsieur… \nInfos et résa : 0696 92 12 00 \nConsommation obligatoire \n\nBlackwood\, Zone Petite Cocotte\, Ducos\, 06 88 39 66 45
URL:https://www.buzzmagmartinique.com/evenement/soiree-karaoke-au-blackwood-ducos-2/
LOCATION:Blackwood\, Zone Petite Cocotte\, Ducos\, 97224\, Martinique
CATEGORIES:Soirée
ATTACH;FMTTYPE=image/webp:https://www.buzzmagmartinique.com/wp-content/uploads/2025/07/119315_fee064b29609edbf0f67dc449d4574b0_1400x1867_auto_971.webp
END:VEVENT
BEGIN:VEVENT
DTSTART;TZID=America/Martinique:20260419T180000
DTEND;TZID=America/Martinique:20260419T235900
DTSTAMP:20260422T005743
CREATED:20240828T112200Z
LAST-MODIFIED:20260416T221134Z
UID:10002953-1776621600-1776643140@www.buzzmagmartinique.com
SUMMARY:SOIRÉE DJ "LA RÉTRO DU DIMANCHE" AU BLACKWOOD\, DUCOS
DESCRIPTION:Tu aimes le Zouk Rétro\, Classique\, Love \nTous les Dimanches\, le rendez vous Rétro 18h – 23h59 \nOfficial Resident \nDj CLIFF \nSur place.20€ \nBilletterie Bizouk \n\n\n\nBlackwood\, Zone Petite Cocotte\, Ducos\, 06 88 39 66 45
URL:https://www.buzzmagmartinique.com/evenement/soiree-dj-la-retro-du-dimanche-au-blackwood-ducos/
LOCATION:Blackwood\, Zone Petite Cocotte\, Ducos\, 97224\, Martinique
CATEGORIES:Soirée
ATTACH;FMTTYPE=image/webp:https://www.buzzmagmartinique.com/wp-content/uploads/2024/08/699fcade78a3760f6c9e2299caa11e5d_700_600_landscape_971.webp
END:VEVENT
BEGIN:VEVENT
DTSTART;TZID=Europe/Paris:20260418T200000
DTEND;TZID=Europe/Paris:20260418T200000
DTSTAMP:20260422T005743
CREATED:20251009T124519Z
LAST-MODIFIED:20260415T202917Z
UID:10075407-1776542400-1776542400@www.buzzmagmartinique.com
SUMMARY:SOIRÉE DJ "CANDY CRUSH " AU BLACKWOOD\, DUCOS
DESCRIPTION:Billetterie Bizouk \n\n\n\nBlackwood\, Zone Petite Cocotte\, Ducos\, 06 88 39 66 45
URL:https://www.buzzmagmartinique.com/evenement/soiree-dj-candy-crush-au-blackwood-ducos/
LOCATION:Blackwood\, Zone Petite Cocotte\, Ducos\, 97224\, Martinique
CATEGORIES:Soirée
ATTACH;FMTTYPE=image/webp:https://www.buzzmagmartinique.com/wp-content/uploads/2025/10/118777_fd1955071ecf450caaed4186957a056f_700x600_landscape_971.webp
END:VEVENT
BEGIN:VEVENT
DTSTART;TZID=America/Martinique:20260416T210000
DTEND;TZID=America/Martinique:20260416T210000
DTSTAMP:20260422T005743
CREATED:20241104T154104Z
LAST-MODIFIED:20260414T225612Z
UID:10017986-1776373200-1776373200@www.buzzmagmartinique.com
SUMMARY:SOIRÉE DJ "MAD OUT" AU BLACKWOOD\, DUCOS
DESCRIPTION:Prépare-toi pour une nuit où tout peut basculer… \nAmbiance chaude\, vibes sensuelles\, et énergie 100% lâcher-prise \nAux platines : SHY • ASTA’S • JAMJAM \nIls sont prêts à te faire vibrer jusqu’au bout de la nuit… et toi ? \nCocktails\, surprises\, et une atmosphère qui va te rendre complètement MAD… \nBilletterie Bizouk \n\nBlackwood\, Zone Petite Cocotte\, Ducos\, 06 88 39 66 45
URL:https://www.buzzmagmartinique.com/evenement/soiree-dj-mad-out-au-blackwood-ducos/
LOCATION:Blackwood\, Zone Petite Cocotte\, Ducos\, 97224\, Martinique
CATEGORIES:Soirée
ATTACH;FMTTYPE=image/webp:https://www.buzzmagmartinique.com/wp-content/uploads/2024/11/118491_75f04bb94103640ef1909c72e6b7adc5_700x600_landscape_971.webp
END:VEVENT
BEGIN:VEVENT
DTSTART;TZID=America/Martinique:20260218T200000
DTEND;TZID=America/Martinique:20260218T200000
DTSTAMP:20260422T005743
CREATED:20240719T131510Z
LAST-MODIFIED:20260216T131642Z
UID:10010467-1771444800-1771444800@www.buzzmagmartinique.com
SUMMARY:SOIRÉE MERCREDI DES CENDRES "LA NUIT DES CENDRES" AU BLACKWOOD\, DUCOS
DESCRIPTION:AMJAM KENJOX \nLIL’KILLA JUICY \nQuand le carnaval touche à sa fin\, la nuit\, elle\, ne fait que commencer… \nPlonge dans une atmosphère mystérieuse et élégante où les masques tombent\, les corps s’expriment et la musique embrase les cendres encore chaudes du carnaval. \nUne nuit intense\, entre ombre et lumière\, portée par des vibes puissantes et raffinées. \nAux platines\, une rencontre explosive entre talents locaux et invités venus d’ailleurs pour faire vibrer chaque instant jusqu’au bout de la nuit. \nGuest spécial : Groupe de carnaval TIKTOK \nPrépare-toi à vivre une immersion festive\, rythmée\, envoûtante. \nLa Nuit des Cendres\, ce n’est pas une simple soirée. \nC’est un rituel. \nUne transition. \nUn dernier souffle de carnaval… avant l’aube. \nViens écrire l’histoire de cette nuit unique. \n\nBlackwood\, 24 Zone Petite Cocotte Canal\, Ducos\, 06 88 39 66 45
URL:https://www.buzzmagmartinique.com/evenement/soiree-mercredi-des-cendres-la-nuit-des-cendres-au-blackwood-ducos/
LOCATION:Blackwood\, Zone Petite Cocotte\, Ducos\, 97224\, Martinique
CATEGORIES:Soirée
ATTACH;FMTTYPE=image/webp:https://www.buzzmagmartinique.com/wp-content/uploads/2024/07/7eee8d4082875085cc78a8bfae726090_700_600_landscape_97.webp
END:VEVENT
BEGIN:VEVENT
DTSTART;TZID=Europe/Paris:20260207T200000
DTEND;TZID=Europe/Paris:20260207T200000
DTSTAMP:20260422T005743
CREATED:20230330T162204Z
LAST-MODIFIED:20260205T173821Z
UID:10002944-1770494400-1770494400@www.buzzmagmartinique.com
SUMMARY:SOIRÉE DJ "CARRIB' CARNIVAL" AU BLACKWOOD\, DUCOS
DESCRIPTION:Carnival 2026 is open ! \nPlonge au cœur de l’ambiance du meilleur carnaval caribéen ! \nPour ça\, qui de mieux que :\nNATOXIE & JAMJAM\npour un max de pression \nRejoins-nous pour une nuit où la pression du carnaval se fera sentir dans chaque recoin du BlackWood \nGRATUIT SUR INVITATION\nInvitations disponibles sur Bizouk & Sparta \nArrive tôt – places limitées\nTenue correcte & esprit correct exigés\nLa direction se réserve le droit d’entrée \n  \nL’abus d’alcool est dangereux pour la santéà consommer avec modération. \n\nBlackwood\, Zone Petite Cocotte\, Ducos\, 06 88 39 66 45
URL:https://www.buzzmagmartinique.com/evenement/soiree-dj-carrib-carnival-au-blackwood-ducos/
LOCATION:Blackwood\, Zone Petite Cocotte\, Ducos\, 97224\, Martinique
CATEGORIES:Soirée
ATTACH;FMTTYPE=image/webp:https://www.buzzmagmartinique.com/wp-content/uploads/2023/03/ecb21703cb26000849a7a273867793bc_700_600_landscape_971.webp
END:VEVENT
BEGIN:VEVENT
DTSTART;TZID=America/Martinique:20251016T200000
DTEND;TZID=America/Martinique:20251016T200000
DTSTAMP:20260422T005743
CREATED:20250220T192825Z
LAST-MODIFIED:20251007T123348Z
UID:10047487-1760644800-1760644800@www.buzzmagmartinique.com
SUMMARY:SOIRÉE DJ "JEUDREDI’" AU BLACKWOOD\, DUCOS
DESCRIPTION:  \n\nBlackwood\, Zone Petite Cocotte\, Ducos\, 06 88 39 66 45
URL:https://www.buzzmagmartinique.com/evenement/soiree-dj-au-blackwood-ducos-8/
LOCATION:Blackwood\, Zone Petite Cocotte\, Ducos\, 97224\, Martinique
CATEGORIES:Soirée
ATTACH;FMTTYPE=image/webp:https://www.buzzmagmartinique.com/wp-content/uploads/2025/02/195f8fd68cdaefe91f341b555cb393b1_700_600_landscape_97-1.webp
END:VEVENT
BEGIN:VEVENT
DTSTART;TZID=Europe/Paris:20250715T190000
DTEND;TZID=Europe/Paris:20250715T235900
DTSTAMP:20260422T005743
CREATED:20230703T214852Z
LAST-MODIFIED:20250715T030811Z
UID:10003653-1752606000-1752623940@www.buzzmagmartinique.com
SUMMARY:SOIRÉE KARAOKÉ "SPÉCIAL OLD SCHOOL 80-2000" AU BLACKWOOD\, DUCOS
DESCRIPTION:SOIRÉE KARAOKÉ OLD SCHOOL – 80s / 90s / 2000s ! \nChauffe ta voix\, repasse ton bandana et ressors tes vieux tubes… \nPrépare-toi à chanter à tue-tête sur les hits de Whitney Houston\, Britney Spears\, Queen\, TLC\, Backstreet Boys\, Rihanna… et tellement d’autres ! \nDu groove\, des refrains cultes\, du dancefloor et surtout : des fous rires garantis ! \nHappy hour jusqu’à 20h avec l’invitation Bizouk sur les Cocktails classiques alcool et sans alcool. \nCe Mardi 15 Juillet à partir de 19h . \n\nBlackwood\, Zone Petite Cocotte\, Ducos\, 06 88 39 66 45
URL:https://www.buzzmagmartinique.com/evenement/soiree-karaoke-au-blackwood-ducos/
LOCATION:Blackwood\, Zone Petite Cocotte\, Ducos\, 97224\, Martinique
CATEGORIES:Soirée
ATTACH;FMTTYPE=image/webp:https://www.buzzmagmartinique.com/wp-content/uploads/2023/07/32d1031182de902f0ba0e9d025b7b4c1_700_600_landscape_97.webp
END:VEVENT
END:VCALENDAR