BEGIN:VCALENDAR
VERSION:2.0
PRODID:-//Buzzmag - ECPv6.15.20//NONSGML v1.0//EN
CALSCALE:GREGORIAN
METHOD:PUBLISH
X-ORIGINAL-URL:https://www.buzzmagmartinique.com
X-WR-CALDESC:Évènements pour Buzzmag
REFRESH-INTERVAL;VALUE=DURATION:PT1H
X-Robots-Tag:noindex
X-PUBLISHED-TTL:PT1H
BEGIN:VTIMEZONE
TZID:Europe/Paris
BEGIN:DAYLIGHT
TZOFFSETFROM:+0100
TZOFFSETTO:+0200
TZNAME:CEST
DTSTART:20240331T010000
END:DAYLIGHT
BEGIN:STANDARD
TZOFFSETFROM:+0200
TZOFFSETTO:+0100
TZNAME:CET
DTSTART:20241027T010000
END:STANDARD
BEGIN:DAYLIGHT
TZOFFSETFROM:+0100
TZOFFSETTO:+0200
TZNAME:CEST
DTSTART:20250330T010000
END:DAYLIGHT
BEGIN:STANDARD
TZOFFSETFROM:+0200
TZOFFSETTO:+0100
TZNAME:CET
DTSTART:20251026T010000
END:STANDARD
BEGIN:DAYLIGHT
TZOFFSETFROM:+0100
TZOFFSETTO:+0200
TZNAME:CEST
DTSTART:20260329T010000
END:DAYLIGHT
BEGIN:STANDARD
TZOFFSETFROM:+0200
TZOFFSETTO:+0100
TZNAME:CET
DTSTART:20261025T010000
END:STANDARD
END:VTIMEZONE
BEGIN:VEVENT
DTSTART;TZID=Europe/Paris:20250303T090000
DTEND;TZID=Europe/Paris:20250322T180000
DTSTAMP:20260420T173308
CREATED:20230220T154622Z
LAST-MODIFIED:20250225T124427Z
UID:10003546-1740992400-1742666400@www.buzzmagmartinique.com
SUMMARY:KANNAVAL "LA GRANDE PARADE DU SUD 2025"\, DUCOS
DESCRIPTION:Un spectacle grandiose\, des costumes éclatants\, une ambiance électrique !\nDanseurs\, groupes à pied\, reines de beauté et plein de surprises ! \n9h – 18h : Village du Carnaval\n14h30 : Départ de la GRANDE PARADE \nViens vibrer au rythme du Carnaval et vivre un moment magique ! \n  \n \n\nAssociation Carnaval Sud Martinique (ACSM)\, 0696 92 45 19\, carnavalsud972@gmail.com
URL:https://www.buzzmagmartinique.com/evenement/kannaval-la-grande-parade-du-sud-2025-ducos/
CATEGORIES:Art & Culture
ATTACH;FMTTYPE=image/jpeg:https://www.buzzmagmartinique.com/wp-content/uploads/2023/02/481087794_1043220494499181_5111529499780929452_n.jpg
ORGANIZER;CN="Association Carnaval Sud Martinique (ACSM)":MAILTO:carnavalsud972@gmail.com
END:VEVENT
BEGIN:VEVENT
DTSTART;TZID=Europe/Paris:20250223T090000
DTEND;TZID=Europe/Paris:20250223T160000
DTSTAMP:20260420T173308
CREATED:20231205T164957Z
LAST-MODIFIED:20260206T151204Z
UID:10003754-1740301200-1740326400@www.buzzmagmartinique.com
SUMMARY:KANNAVAL "ÉLECTIONS DES REINES" PAR CARNAVAL SUD MARTINIQUE SUR LE FRONT DE MER\, LES TROIS ÎLETS
DESCRIPTION:L’élection de la Mini Reine\, de la Reine et la Reine Mére du Sud le dimanche 8 février à 10h sur le Front de mer des Trois Ilets. \nVenez découvrir un spectacle féerique avec la participation des communes du sud\, qui feront preuve d’imagination pour vous offrir un spectacle inoubliable. \n  \n\nAssociation Carnaval Sud Martinique (ACSM)\, 0696 92 45 19\, carnavalsud972@gmail.com
URL:https://www.buzzmagmartinique.com/evenement/kannaval-elections-des-reines-par-carnaval-sud-martinique-sur-le-front-de-mer-les-trois-ilets/
CATEGORIES:Art & Culture
ATTACH;FMTTYPE=image/webp:https://www.buzzmagmartinique.com/wp-content/uploads/2023/12/5fb1d2e0e6e619332b1f39a072584067_700_600_landscape_971.webp
ORGANIZER;CN="Association Carnaval Sud Martinique (ACSM)":MAILTO:carnavalsud972@gmail.com
END:VEVENT
END:VCALENDAR