BEGIN:VCALENDAR
VERSION:2.0
PRODID:-//Buzzmag - ECPv6.15.20//NONSGML v1.0//EN
CALSCALE:GREGORIAN
METHOD:PUBLISH
X-WR-CALNAME:Buzzmag
X-ORIGINAL-URL:https://www.buzzmagmartinique.com
X-WR-CALDESC:Évènements pour Buzzmag
REFRESH-INTERVAL;VALUE=DURATION:PT1H
X-Robots-Tag:noindex
X-PUBLISHED-TTL:PT1H
BEGIN:VTIMEZONE
TZID:America/Martinique
BEGIN:STANDARD
TZOFFSETFROM:-0400
TZOFFSETTO:-0400
TZNAME:AST
DTSTART:20250101T000000
END:STANDARD
END:VTIMEZONE
BEGIN:VEVENT
DTSTART;TZID=America/Martinique:20260419T090000
DTEND;TZID=America/Martinique:20260419T120000
DTSTAMP:20260424T141034
CREATED:20240703T004722Z
LAST-MODIFIED:20260417T173647Z
UID:10013135-1776589200-1776600000@www.buzzmagmartinique.com
SUMMARY:AÏKIDO "MASTERCLASS" AU QUARTIER RIVIÈRE BAMBOU\, LE FRANÇOIS
DESCRIPTION:Évènement nouveau à la Ligue d’Aïkido de la Martinique : regroupement des pratiquant-e-s à partir du 2°Kyu pour créer d’une dynamique et du lien entre nous.\n\nOn vous attend ce dimanche 19 avril au Dojo du François de 9H à 12H. \n\nContacts : 0696 26 24 46 martinique@aikido.com.fr\n\n\n\n\n\n\n\n\n\n\n\n\nAikido Ligue FFAAA Martinique\, 0696 26 24 46\, martinique@aikido.com.fr
URL:https://www.buzzmagmartinique.com/evenement/aikido-masterclass-au-quartier-riviere-bambou-le-francois/
CATEGORIES:Sport
ATTACH;FMTTYPE=image/webp:https://www.buzzmagmartinique.com/wp-content/uploads/2024/07/04-19-AIKIDO.webp
ORGANIZER;CN="Aikido Ligue FFAAA Martinique":MAILTO:martinique@aikido.com.fr
END:VEVENT
END:VCALENDAR