BEGIN:VCALENDAR
VERSION:2.0
PRODID:-//Buzzmag - ECPv6.15.20//NONSGML v1.0//EN
CALSCALE:GREGORIAN
METHOD:PUBLISH
X-ORIGINAL-URL:https://www.buzzmagmartinique.com
X-WR-CALDESC:Évènements pour Buzzmag
REFRESH-INTERVAL;VALUE=DURATION:PT1H
X-Robots-Tag:noindex
X-PUBLISHED-TTL:PT1H
BEGIN:VTIMEZONE
TZID:America/Martinique
BEGIN:STANDARD
TZOFFSETFROM:-0400
TZOFFSETTO:-0400
TZNAME:AST
DTSTART:20250101T000000
END:STANDARD
END:VTIMEZONE
BEGIN:VEVENT
DTSTART;TZID=America/Martinique:20260429T200000
DTEND;TZID=America/Martinique:20260429T200000
DTSTAMP:20260423T220346
CREATED:20250204T205252Z
LAST-MODIFIED:20260126T184626Z
UID:10079842-1777492800-1777492800@www.buzzmagmartinique.com
SUMMARY:SOIRÉE DJ ZOUK KONPA "ZOUK LA SÉ SÈL MÉDIKAMAN NOU NI" AU YUNU ROOFTOP\, FORT DE FRANCE
DESCRIPTION:Soirée zouk et kompa avec un cours d’initiation au zouk et kompa de 20h à 21h. \n  \n\nYunu Rooftop\,  7 rue de la Liberté\, Fort-de-France\, 0696 94 38 66
URL:https://www.buzzmagmartinique.com/evenement/soiree-dj-zouk-konpa-zouk-la-se-sel-medikaman-nou-ni-au-yunu-rooftop-fort-de-france/2026-04-29/
LOCATION:Yunu Rooftop\, 7 rue de la Liberté\, angle rue de la liberté et rue Victor Hugo\, Fort-de-France\, 97270\, Martinique
CATEGORIES:Soirée
ATTACH;FMTTYPE=image/webp:https://www.buzzmagmartinique.com/wp-content/uploads/2025/02/ff633fa4199fbc1606e323e8636a6b98_700_600_landscape_971.webp
END:VEVENT
END:VCALENDAR