BEGIN:VCALENDAR
VERSION:2.0
PRODID:-//Buzzmag - ECPv6.15.20//NONSGML v1.0//EN
CALSCALE:GREGORIAN
METHOD:PUBLISH
X-ORIGINAL-URL:https://www.buzzmagmartinique.com
X-WR-CALDESC:Évènements pour Buzzmag
REFRESH-INTERVAL;VALUE=DURATION:PT1H
X-Robots-Tag:noindex
X-PUBLISHED-TTL:PT1H
BEGIN:VTIMEZONE
TZID:America/Martinique
BEGIN:STANDARD
TZOFFSETFROM:-0400
TZOFFSETTO:-0400
TZNAME:AST
DTSTART:20240101T000000
END:STANDARD
END:VTIMEZONE
BEGIN:VEVENT
DTSTART;TZID=America/Martinique:20260422T200000
DTEND;TZID=America/Martinique:20260422T200000
DTSTAMP:20260423T235105
CREATED:20250204T205252Z
LAST-MODIFIED:20260126T184626Z
UID:10079841-1776888000-1776888000@www.buzzmagmartinique.com
SUMMARY:SOIRÉE DJ ZOUK KONPA "ZOUK LA SÉ SÈL MÉDIKAMAN NOU NI" AU YUNU ROOFTOP\, FORT DE FRANCE
DESCRIPTION:Soirée zouk et kompa avec un cours d’initiation au zouk et kompa de 20h à 21h. \n  \n\nYunu Rooftop\,  7 rue de la Liberté\, Fort-de-France\, 0696 94 38 66
URL:https://www.buzzmagmartinique.com/evenement/soiree-dj-zouk-konpa-zouk-la-se-sel-medikaman-nou-ni-au-yunu-rooftop-fort-de-france/2026-04-22/
LOCATION:Yunu Rooftop\, 7 rue de la Liberté\, angle rue de la liberté et rue Victor Hugo\, Fort-de-France\, 97270\, Martinique
CATEGORIES:Soirée
ATTACH;FMTTYPE=image/webp:https://www.buzzmagmartinique.com/wp-content/uploads/2025/02/ff633fa4199fbc1606e323e8636a6b98_700_600_landscape_971.webp
END:VEVENT
BEGIN:VEVENT
DTSTART;TZID=America/Martinique:20260117T190000
DTEND;TZID=America/Martinique:20260117T190000
DTSTAMP:20260423T235105
CREATED:20251013T140440Z
LAST-MODIFIED:20260408T185158Z
UID:10075410-1768676400-1768676400@www.buzzmagmartinique.com
SUMMARY:SOIRÉE DJ "ÉLECTRO ROOFTOP" AU YUNU ROOFTOP\, FORT DE FRANCE
DESCRIPTION:  \n\nYunu\,  7 rue de la Liberté\, Fort-de-France\, 0696 94 38 66
URL:https://www.buzzmagmartinique.com/evenement/soiree-dj-electro-rooftop-au-yunu-rooftop-fort-de-france/
LOCATION:Yunu Rooftop\, 7 rue de la Liberté\, angle rue de la liberté et rue Victor Hugo\, Fort-de-France\, 97270\, Martinique
CATEGORIES:Soirée
ATTACH;FMTTYPE=image/webp:https://www.buzzmagmartinique.com/wp-content/uploads/2025/10/118852_8c12090273d5796194b6d3160161508f_700x600_landscape_97.webp
END:VEVENT
BEGIN:VEVENT
DTSTART;TZID=America/Martinique:20251129T180000
DTEND;TZID=America/Martinique:20251129T235900
DTSTAMP:20260423T235105
CREATED:20240812T082656Z
LAST-MODIFIED:20251127T163514Z
UID:10077879-1764439200-1764460740@www.buzzmagmartinique.com
SUMMARY:SOIRÉE DJ "LA CIRCULAIRE" AU BAYOU\, CHEZ LUCRÈCE\, AU PATIO 19 & AU YUNU ROOFTOP\, FORT DE FRANCE
DESCRIPTION:  \n\n\nLe Bayou\, Bar Culturel & Social Club\, 302 Bd de la Pointe Simon\, Fort-de-France\n\n\n\n  \nChez Lucrèce\, 22 rue Garnier Pagès\, Fort-de-France\, 0596 71 09 28 \n \n  \nLePatio19\, Café Cultural CoWorking\, La Rue Colorée\, 19 rue Garnier Pagès\, Fort de France\, 0596 67 20 67 \n \n \n  \nYunu Rooftop\, 7 rue de la Liberté\, angle rue de la liberté et rue Victor Hugo\, Fort-de-France\, 0696 94 38 66 \n \n  \n 
URL:https://www.buzzmagmartinique.com/evenement/soiree-dj-la-circulaire-au-bayou-chez-lucrece-au-patio-19-au-yunu-rooftop-fort-de-france/
LOCATION:Chez Lucrèce\, 22 rue Garnier Pagès\, Fort-de-France\, 97200\, Martinique
CATEGORIES:Soirée
ATTACH;FMTTYPE=image/webp:https://www.buzzmagmartinique.com/wp-content/uploads/2024/08/IMG-20251127-WA0014.webp
END:VEVENT
BEGIN:VEVENT
DTSTART;TZID=America/Martinique:20251121T190000
DTEND;TZID=America/Martinique:20251121T190000
DTSTAMP:20260423T235105
CREATED:20250124T185148Z
LAST-MODIFIED:20251121T124441Z
UID:10035749-1763751600-1763751600@www.buzzmagmartinique.com
SUMMARY:SOIRÉE DJ "BOILER ROOF FRIDAY NIGHT" AU YUNU ROOFTOP\, FORT DE FRANCE
DESCRIPTION:  \n\nYunu\,  7 rue de la Liberté\, Fort-de-France\, 0696 94 38 66
URL:https://www.buzzmagmartinique.com/evenement/soiree-dj-boiler-roof-friday-night-au-yunu-rooftop-fort-de-france/
LOCATION:Yunu Rooftop\, 7 rue de la Liberté\, angle rue de la liberté et rue Victor Hugo\, Fort-de-France\, 97270\, Martinique
CATEGORIES:Soirée
ATTACH;FMTTYPE=image/webp:https://www.buzzmagmartinique.com/wp-content/uploads/2025/01/131e7853f1c749018155a63d6e91c911_700_600_landscape_97.webp
END:VEVENT
BEGIN:VEVENT
DTSTART;TZID=America/Martinique:20251101T190000
DTEND;TZID=America/Martinique:20251101T190000
DTSTAMP:20260423T235105
CREATED:20240229T150006Z
LAST-MODIFIED:20251029T222143Z
UID:10009268-1762023600-1762023600@www.buzzmagmartinique.com
SUMMARY:SOIRÉE DJ "STARLIGHT" AU YUNU ROOFTOP\, FORT DE FRANCE
DESCRIPTION:L’évènement électro sur le rooftop de Fort-de-France \n\nYunu Rooftop\, 7 rue de la Liberté\, angle rue de la liberté et rue Victor Hugo\, Fort-de-France\, 0696 94 38 66
URL:https://www.buzzmagmartinique.com/evenement/soiree-dj-starlight-au-yunu-rooftop-fort-de-france/
LOCATION:Yunu Rooftop\, 7 rue de la Liberté\, angle rue de la liberté et rue Victor Hugo\, Fort-de-France\, 97270\, Martinique
CATEGORIES:Soirée
ATTACH;FMTTYPE=image/webp:https://www.buzzmagmartinique.com/wp-content/uploads/2024/02/9eeb43a3d94bdc06c1fd29fab27f8191_700_600_landscape_971.webp
END:VEVENT
BEGIN:VEVENT
DTSTART;TZID=America/Martinique:20251011T190000
DTEND;TZID=America/Martinique:20251011T190000
DTSTAMP:20260423T235105
CREATED:20240708T202121Z
LAST-MODIFIED:20251009T121959Z
UID:10013330-1760209200-1760209200@www.buzzmagmartinique.com
SUMMARY:"UNIVERS BY YUNU ROOFTOP" AU YUNU ROOFTOP\, FORT DE FRANCE
DESCRIPTION:NOUVEAU CONCEPT : UNIVERS BY YUNU ROOFTOP \nLe Yunu ouvre les portes d’un tout nouveau voyage sonore : UNIVERS\nUn concept de soirée où chaque édition met à l’honneur un DJ ou un artiste\, invité à nous faire découvrir son univers musical\, ses influences\, ses sons\, son énergie. \nPour cette première édition\, on plonge dans les vibes électro\, afro et caribéennes de DJ GREEZY\nUn set unique\, une atmosphère immersive\, une vue sur les étoiles…\nBienvenue dans l’univers de GREEZY\, ce samedi 11 octobre\, au Yunu Rooftop \nL’abus d’alcool est dangereux pour la santé à consommer avec modération. \n\nYunu\,  7 rue de la Liberté\, Fort-de-France\, 0696 94 38 66
URL:https://www.buzzmagmartinique.com/evenement/univers-by-yunu-rooftop-au-yunu-fort-de-france-2/
LOCATION:Yunu Rooftop\, 7 rue de la Liberté\, angle rue de la liberté et rue Victor Hugo\, Fort-de-France\, 97270\, Martinique
CATEGORIES:Soirée
ATTACH;FMTTYPE=image/webp:https://www.buzzmagmartinique.com/wp-content/uploads/2024/07/bf8079768ac492de9f543cc455a651e2_700_600_landscape_97.webp
END:VEVENT
END:VCALENDAR