BEGIN:VCALENDAR
VERSION:2.0
PRODID:-//Buzzmag - ECPv6.15.20//NONSGML v1.0//EN
CALSCALE:GREGORIAN
METHOD:PUBLISH
X-WR-CALNAME:Buzzmag
X-ORIGINAL-URL:https://www.buzzmagmartinique.com
X-WR-CALDESC:Évènements pour Buzzmag
REFRESH-INTERVAL;VALUE=DURATION:PT1H
X-Robots-Tag:noindex
X-PUBLISHED-TTL:PT1H
BEGIN:VTIMEZONE
TZID:America/Halifax
BEGIN:DAYLIGHT
TZOFFSETFROM:-0400
TZOFFSETTO:-0300
TZNAME:ADT
DTSTART:20240310T060000
END:DAYLIGHT
BEGIN:STANDARD
TZOFFSETFROM:-0300
TZOFFSETTO:-0400
TZNAME:AST
DTSTART:20241103T050000
END:STANDARD
BEGIN:DAYLIGHT
TZOFFSETFROM:-0400
TZOFFSETTO:-0300
TZNAME:ADT
DTSTART:20250309T060000
END:DAYLIGHT
BEGIN:STANDARD
TZOFFSETFROM:-0300
TZOFFSETTO:-0400
TZNAME:AST
DTSTART:20251102T050000
END:STANDARD
BEGIN:DAYLIGHT
TZOFFSETFROM:-0400
TZOFFSETTO:-0300
TZNAME:ADT
DTSTART:20260308T060000
END:DAYLIGHT
BEGIN:STANDARD
TZOFFSETFROM:-0300
TZOFFSETTO:-0400
TZNAME:AST
DTSTART:20261101T050000
END:STANDARD
END:VTIMEZONE
BEGIN:VTIMEZONE
TZID:America/Martinique
BEGIN:STANDARD
TZOFFSETFROM:-0400
TZOFFSETTO:-0400
TZNAME:AST
DTSTART:20240101T000000
END:STANDARD
END:VTIMEZONE
BEGIN:VTIMEZONE
TZID:Europe/Paris
BEGIN:DAYLIGHT
TZOFFSETFROM:+0100
TZOFFSETTO:+0200
TZNAME:CEST
DTSTART:20240331T010000
END:DAYLIGHT
BEGIN:STANDARD
TZOFFSETFROM:+0200
TZOFFSETTO:+0100
TZNAME:CET
DTSTART:20241027T010000
END:STANDARD
BEGIN:DAYLIGHT
TZOFFSETFROM:+0100
TZOFFSETTO:+0200
TZNAME:CEST
DTSTART:20250330T010000
END:DAYLIGHT
BEGIN:STANDARD
TZOFFSETFROM:+0200
TZOFFSETTO:+0100
TZNAME:CET
DTSTART:20251026T010000
END:STANDARD
BEGIN:DAYLIGHT
TZOFFSETFROM:+0100
TZOFFSETTO:+0200
TZNAME:CEST
DTSTART:20260329T010000
END:DAYLIGHT
BEGIN:STANDARD
TZOFFSETFROM:+0200
TZOFFSETTO:+0100
TZNAME:CET
DTSTART:20261025T010000
END:STANDARD
END:VTIMEZONE
BEGIN:VTIMEZONE
TZID:Europe/Paris
BEGIN:DAYLIGHT
TZOFFSETFROM:+0100
TZOFFSETTO:+0200
TZNAME:CEST
DTSTART:20240331T010000
END:DAYLIGHT
BEGIN:STANDARD
TZOFFSETFROM:+0200
TZOFFSETTO:+0100
TZNAME:CET
DTSTART:20241027T010000
END:STANDARD
BEGIN:DAYLIGHT
TZOFFSETFROM:+0100
TZOFFSETTO:+0200
TZNAME:CEST
DTSTART:20250330T010000
END:DAYLIGHT
BEGIN:STANDARD
TZOFFSETFROM:+0200
TZOFFSETTO:+0100
TZNAME:CET
DTSTART:20251026T010000
END:STANDARD
BEGIN:DAYLIGHT
TZOFFSETFROM:+0100
TZOFFSETTO:+0200
TZNAME:CEST
DTSTART:20260329T010000
END:DAYLIGHT
BEGIN:STANDARD
TZOFFSETFROM:+0200
TZOFFSETTO:+0100
TZNAME:CET
DTSTART:20261025T010000
END:STANDARD
END:VTIMEZONE
BEGIN:VEVENT
DTSTART;TZID=America/Halifax:20251009T193000
DTEND;TZID=America/Halifax:20251009T213000
DTSTAMP:20260423T164004
CREATED:20250211T125043Z
LAST-MODIFIED:20251002T150059Z
UID:10035432-1760038200-1760045400@www.buzzmagmartinique.com
SUMMARY:JÉDIMIZIK "TILO BERTHOLO - HYBRIDA" À TROPIQUES ATRIUM\, FORT DE FRANCE
DESCRIPTION:JédiMizik\nSalle Frantz Fanon \nSortie de Résidence : Tilo Bertholo – Hybrida \nNé en Martinique en 1990\, Laurent-Emmanuel Bertholo dit Tilo débute la batterie à 3 ans et demi avec le batteur Romain Pallud (Perfecta\, Malavoi) puis étudie à l’École de Musique Paulo Rosine (EMAP) à Rivière-Pilote\, avec Jacky Alpha (Fal Frett). \n1er Prix de Batterie de l’école Dante Agostini en 2013\, Tilo Bertholo est aussi diplômé de l’Université du Mirail en musicologie et du Conservatoire de Toulouse (DEM). Il accompagne des artistes de la scène antillaise (José Privat\, Maher Beauroy\, Dédé Saint-Prix)\, internationale (Julia Biel\, Kellylee Evans\, Andy Narell). Il se révèle dans le trio de Grégory Privat. Il a participé au Big in Jazz Collective et collabore avec des leaders de la nouvelle scène jazz (Kareen Guiock-Thuram\, Malika Tirolien\, Jowee Omicil\, Sly Johnson\, Somi\, Josiah Woodson\, Linley Marthe\, Chris Jennings…). Durant sa résidence de recherche\, il a conçu le projet Hybrida où il mélange sa culture musicale martiniquaise au Jazz\, sans oublier ses influences urbaines. \n\n\n\n\n\n\n\n\n\n\n\n\n\n\n\n\n\n  \nPROGRAMME COMPLET : Tropiques Atrium \n \n\n\nHoraires expositions\nDu mardi au vendredi : 13h – 18h & samedi 10h – 13h\n \nRDV au 0596 70 79 31 pour les scolaires et les groupes\nVisite commentée à partir de 10 personnes \nTropiques Atrium\, 6 rue Jacques Cazotte\, Fort de France\, 0596 70 79 29
URL:https://www.buzzmagmartinique.com/evenement/jedimizik-tilo-bertholo-hybrida-a-tropiques-atrium-fort-de-france/
LOCATION:TROPIQUES ATRIUM SCENE NATIONALE\, 6\, rue Jacques Cazotte\, Fort-de-France\, 97200\, Martinique
CATEGORIES:Art & Culture
ATTACH;FMTTYPE=image/webp:https://www.buzzmagmartinique.com/wp-content/uploads/2025/02/556411982_1307481284757862_2707549786106437704_n1.webp
ORGANIZER;CN="TROPIQUES ATRIUM SCENE NATIONALE":MAILTO:info@tropiques-atrium.fr
END:VEVENT
BEGIN:VEVENT
DTSTART;TZID=America/Martinique:20250704T190000
DTEND;TZID=America/Martinique:20250704T210000
DTSTAMP:20260423T164004
CREATED:20240912T224021Z
LAST-MODIFIED:20250605T113919Z
UID:10015160-1751655600-1751662800@www.buzzmagmartinique.com
SUMMARY:SPECTACLE DES ÉLÈVES DE LA MAISON ROUGE "AMAZONIA: L'ÂME DE LA FORÊT" À TROPIQUES ATRIUM\, FORT DE FRANCE
DESCRIPTION:La Maison Rouge : Maison des Arts vous invite à son spectacle.\n\nCette année\, les élèves de La Maison Rouge : Maison des Arts vous emmènent en Amazonie pour leur spectacle « Amazonia : L’âme de la forêt » !\n\nAu cœur de la forêt tropicale\, partez à l’aventure avec eux et découvrez une flore majestueuse et une faune unique au monde !\nEntre méduses\, légendes amérindiennes\, fleurs exotiques et animaux sauvages\, les chorégraphies et scénographie imaginé mettront en avant la richesse du paysage amazonien et les mystères qui entourent ce paradis vert…\n\nÀ travers ce spectacle\, nous tachons de sensibiliser nos élèves aux soins à apporter à la nature.\n\nCette année\, grande nouveauté ! Les danseuses de l’atelier « une autre danse » mené par le chorégraphe Jean Félix Zaïre (ouvert au + de 18 ans) participeront également au spectacle.\n\nRéservation sur : https://my.weezevent.com/amazonia\n\nTarifs :\n12€ Adulte\n8€ Enfant\n\nAttention : La salle n’est pas accessible au moins de 3 ans\n\n\n\n\nTropiques Atrium Scène Nationale\, 6 rue Jacques Cazotte\, Fort-de-France\, 0596 70 79 29
URL:https://www.buzzmagmartinique.com/evenement/spectacle-des-eleves-de-la-maison-rouge-amazonia-lame-de-la-foret-a-tropiques-atrium-fort-de-france/
LOCATION:TROPIQUES ATRIUM SCENE NATIONALE\, 6\, rue Jacques Cazotte\, Fort-de-France\, 97200\, Martinique
CATEGORIES:Art & Culture,Jeune public
ATTACH;FMTTYPE=image/webp:https://www.buzzmagmartinique.com/wp-content/uploads/2024/09/504009297_1310123934450111_2630692808793469280_n.webp
ORGANIZER;CN="La Maison Rouge":MAILTO:lamaisonrouge97200@gmail.com
END:VEVENT
BEGIN:VEVENT
DTSTART;TZID=Europe/Paris:20250612T200000
DTEND;TZID=Europe/Paris:20250612T200000
DTSTAMP:20260423T164004
CREATED:20181118T154242Z
LAST-MODIFIED:20250527T123831Z
UID:10002234-1749758400-1749758400@www.buzzmagmartinique.com
SUMMARY:SPECTACLE DE L'ACADÉMIE DE DANSE MELVIN ANGARICA À TROPIQUES ATRIUM\, FORT DE FRANCE
DESCRIPTION:Grand spectacle de l’Académie de Danse Melvin Angarica \nPlus de 80 danseurs passionnés vous invitent à vivre un moment unique\, entre performance\, émotion et célébration. \nPréparez-vous à un véritable banquet pour les sens : une croisade latine pleine de soleil\, de couleurs et de chaleur\, où la salsa\, la bachata\, la rumba\, le chachacha et le reggaetón vous feront vibrer aux rythmes de la Caraïbe. \nVenez nombreux assister à ce gala et laissez-vous emporter par la maîtrise technique\, l’expression artistique et la passion contagieuse de nos talentueux danseurs et danseuses. \n\n\nSalle Aimé Césaire\n\nBillets en vente en ligne ou directement à l’académie et sur monipass.com\n\n\n  \n\nTropiques Atrium Scène Nationale\, 6 rue Jacques Cazotte\, Fort-de-France\, 0596 70 79 29
URL:https://www.buzzmagmartinique.com/evenement/spectacle-de-lacademie-de-danse-melvin-angarica-a-tropiques-atrium-fort-de-france/
LOCATION:TROPIQUES ATRIUM SCENE NATIONALE\, 6\, rue Jacques Cazotte\, Fort-de-France\, 97200\, Martinique
CATEGORIES:Art & Culture
ATTACH;FMTTYPE=image/webp:https://www.buzzmagmartinique.com/wp-content/uploads/2018/11/IMG-20250526-WA0026.webp
ORGANIZER;CN="L'Acad%C3%A9mie de danse Melvin Angarica":MAILTO:melvin.academiedanse@hotmail.fr
END:VEVENT
BEGIN:VEVENT
DTSTART;TZID=Europe/Paris:20250129T190000
DTEND;TZID=Europe/Paris:20250129T220000
DTSTAMP:20260423T164004
CREATED:20241029T205934Z
LAST-MODIFIED:20250128T140556Z
UID:10017930-1738177200-1738188000@www.buzzmagmartinique.com
SUMMARY:FILMER LE THÉÂTRE À TROPIQUES ATRIUM\, FORT DE FRANCE
DESCRIPTION:Filmer le théâtre\nProjection de film et rencontre débat \nQuelles passerelles entre théâtre et cinéma ? Peut-on\, et si oui comment\, filmer le théâtre ? A partir  de quels dispositifs ? \nDébat Animé par Steve Zébina et Alfred Alexandre \nDans le cadre du ciné club de Tropiques Atrium\, et de la rediffusion de “Letters Home” de Chantal Akerman\,  ETC Caraïbe vous invite à un échange sur la question de l’adaptation cinématographique d’œuvre théâtrale. L’occasion\, pour les professionnel.le.s du théâtre et du cinéma\, de partager les expériences et d’ouvrir des perspectives de projet. \nRésumé \nEn 1984\, Françoise Merle met en scène au Théâtre de Paris une pièce de Rose Leiman Goldemberg\, adaptation de la correspondance de la poétesse américaine Sylvia Path avec sa mère\, parue en 1975 sous le titre Letters Home. Chantal Akerman signe alors sur support vidéo son unique essai de théâtre filmé\, posant sa caméra devant et même sur un plateau qui réunit dans un huis clos intime Delphine et Coralie Seyrig. \nInfos et renseignements +596 596 70 79 29 \nTarif 7€ – 5€ avec le code ETCCARAIBE \n  \n\nEtc_Caraïbe est une agence d’auteurs et d’autrices domiciliée en Martinique \nEtc_caraïbe Officiel\, 0696 92 77 55\, http://www.etc-caraibe.fr/
URL:https://www.buzzmagmartinique.com/evenement/filmer-le-theatre-a-tropiques-atrium-fort-de-france/
LOCATION:TROPIQUES ATRIUM SCENE NATIONALE\, 6\, rue Jacques Cazotte\, Fort-de-France\, 97200\, Martinique
CATEGORIES:Art & Culture
ORGANIZER;CN="Etc_cara%C3%AFbe Officiel":MAILTO:etc_caraibe@yahoo.com
END:VEVENT
END:VCALENDAR