BEGIN:VCALENDAR
VERSION:2.0
PRODID:-//Buzzmag - ECPv6.15.20//NONSGML v1.0//EN
CALSCALE:GREGORIAN
METHOD:PUBLISH
X-ORIGINAL-URL:https://www.buzzmagmartinique.com
X-WR-CALDESC:Évènements pour Buzzmag
REFRESH-INTERVAL;VALUE=DURATION:PT1H
X-Robots-Tag:noindex
X-PUBLISHED-TTL:PT1H
BEGIN:VTIMEZONE
TZID:America/Halifax
BEGIN:DAYLIGHT
TZOFFSETFROM:-0400
TZOFFSETTO:-0300
TZNAME:ADT
DTSTART:20250309T060000
END:DAYLIGHT
BEGIN:STANDARD
TZOFFSETFROM:-0300
TZOFFSETTO:-0400
TZNAME:AST
DTSTART:20251102T050000
END:STANDARD
BEGIN:DAYLIGHT
TZOFFSETFROM:-0400
TZOFFSETTO:-0300
TZNAME:ADT
DTSTART:20260308T060000
END:DAYLIGHT
BEGIN:STANDARD
TZOFFSETFROM:-0300
TZOFFSETTO:-0400
TZNAME:AST
DTSTART:20261101T050000
END:STANDARD
BEGIN:DAYLIGHT
TZOFFSETFROM:-0400
TZOFFSETTO:-0300
TZNAME:ADT
DTSTART:20270314T060000
END:DAYLIGHT
BEGIN:STANDARD
TZOFFSETFROM:-0300
TZOFFSETTO:-0400
TZNAME:AST
DTSTART:20271107T050000
END:STANDARD
END:VTIMEZONE
BEGIN:VTIMEZONE
TZID:Europe/Paris
BEGIN:DAYLIGHT
TZOFFSETFROM:+0100
TZOFFSETTO:+0200
TZNAME:CEST
DTSTART:20250330T010000
END:DAYLIGHT
BEGIN:STANDARD
TZOFFSETFROM:+0200
TZOFFSETTO:+0100
TZNAME:CET
DTSTART:20251026T010000
END:STANDARD
BEGIN:DAYLIGHT
TZOFFSETFROM:+0100
TZOFFSETTO:+0200
TZNAME:CEST
DTSTART:20260329T010000
END:DAYLIGHT
BEGIN:STANDARD
TZOFFSETFROM:+0200
TZOFFSETTO:+0100
TZNAME:CET
DTSTART:20261025T010000
END:STANDARD
BEGIN:DAYLIGHT
TZOFFSETFROM:+0100
TZOFFSETTO:+0200
TZNAME:CEST
DTSTART:20270328T010000
END:DAYLIGHT
BEGIN:STANDARD
TZOFFSETFROM:+0200
TZOFFSETTO:+0100
TZNAME:CET
DTSTART:20271031T010000
END:STANDARD
END:VTIMEZONE
BEGIN:VEVENT
DTSTART;VALUE=DATE:20260403
DTEND;VALUE=DATE:20260702
DTSTAMP:20260421T034734
CREATED:20250331T192424Z
LAST-MODIFIED:20260407T144535Z
UID:10049612-1775174400-1782950399@www.buzzmagmartinique.com
SUMMARY:APPEL À FILM DU CINÉMARTINIQUE FESTIVAL 2026 PAR TROPIQUES ATRIUM\, FORT DE FRANCE
DESCRIPTION:Le Festival Cinémartinique lance son appel à films pour l’année 2026 et pour cette nouvelle édition\, vous pouvez proposer votre film documentaire ou court-métrage et l’inscrire aux compétitions !\n\n\n\nDate limite : Mercredi 1er juillet 2026 à 23h59 !!!\n\n\n\nRendez-vous sur le site de Tropiques Atrium\, pour soumettre votre film ou plus d’infos : https://bit.ly/appel26TASN\n\n\n\n\n\nTropiques Atrium\, 6 rue Jacques Cazotte\, Fort-de-France\, 0596 70 79 29
URL:https://www.buzzmagmartinique.com/evenement/appel-a-film-du-cinemartinique-festival-2026-par-tropiques-atrium-fort-de-france/
LOCATION:TROPIQUES ATRIUM SCENE NATIONALE\, 6\, rue Jacques Cazotte\, Fort-de-France\, 97200\, Martinique
CATEGORIES:Art & Culture
ATTACH;FMTTYPE=image/webp:https://www.buzzmagmartinique.com/wp-content/uploads/2025/03/658870866_1475262374646418_7613358751880488914_n1.webp
ORGANIZER;CN="TROPIQUES ATRIUM SCENE NATIONALE":MAILTO:info@tropiques-atrium.fr
END:VEVENT
BEGIN:VEVENT
DTSTART;TZID=America/Halifax:20260421T130000
DTEND;TZID=America/Halifax:20260421T180000
DTSTAMP:20260421T034734
CREATED:20251230T140711Z
LAST-MODIFIED:20260319T154313Z
UID:10081685-1776776400-1776794400@www.buzzmagmartinique.com
SUMMARY:EXPOSITION "LES GENS DES MORNES" À TROPIQUES ATRIUM\, FORT DE FRANCE
DESCRIPTION:À découvrir pendant le Festival Ceiba !\n\n\n\nLes gens de mornes de Pierre Roy-Camile\n\n\nLe plasticien martiniquais propose une installation pensée spécialement pour un carbet. Comme lors de sa résidence où les toiles occupaient l’espace en créant des rythmes et des passages\, l’exposition transpose cette expérience à Tropiques Atrium\, vous proposant un parcours où le corps est engagé et le regard sans cesse en mouvement.\n\n\n\nExposition visible du 3 mars au 2 mai à la galerie André Arsenec\n\n\n\nHoraires des expositions\nDu mardi au vendredi : 13h – 18h\nLe samedi : 10h – 13h\nRDV au 0596 70 79 31 pour les scolaires et les groupes\nVisite commentée à partir de 10 personnes \nTropiques Atrium\, 6 rue Jacques Cazotte\, Fort de France\, 0596 70 79 29
URL:https://www.buzzmagmartinique.com/evenement/exposition-les-gens-des-mornes-a-tropiques-atrium-fort-de-france/2026-04-21/
LOCATION:TROPIQUES ATRIUM SCENE NATIONALE\, 6\, rue Jacques Cazotte\, Fort-de-France\, 97200\, Martinique
CATEGORIES:Art & Culture
ATTACH;FMTTYPE=image/webp:https://www.buzzmagmartinique.com/wp-content/uploads/2025/12/tempFileForShare_20260226-1143371.webp
ORGANIZER;CN="TROPIQUES ATRIUM SCENE NATIONALE":MAILTO:info@tropiques-atrium.fr
END:VEVENT
BEGIN:VEVENT
DTSTART;TZID=America/Halifax:20260421T130000
DTEND;TZID=America/Halifax:20260421T180000
DTSTAMP:20260421T034734
CREATED:20260226T162342Z
LAST-MODIFIED:20260408T182530Z
UID:10082414-1776776400-1776794400@www.buzzmagmartinique.com
SUMMARY:EXPOSITION "STARTER" À TROPIQUES ATRIUM\, FORT DE FRANCE
DESCRIPTION:Starter de 10 alumni du Campus Caraïbéen des Arts \nUne exposition collective qui met en lumière la création émergente caribéenne. \n\nDécouvrez l’exposition collective STARTER à Tropiques Atrium et venez rencontrer les artistes !\n\nCes artistes\, issus de différentes promotions du Campus Caraibéen des Arts\, y présentent des œuvres aux langages\, techniques et expressions multiples\, incarnant la diversité et la vitalité des arts visuels dans la région.\n\nUne permanence sera assurée pendant l’exposition les mardi et les jeudi. C’est l’occasion pour les plus curieux de rencontrer et d’échanger avec les artistes.\n\nPlus d’infos : https://tropiques-atrium.fr/…/events/arts-visuels-starter/\n\n\n\n\n\n\n\n\n\n\n\n\n\n\n\n\n\n\n\n\n\n\n\n\n\n\n\n\n\n\n\n\n\n\n\n\nHoraires des expositions\nDu mardi au vendredi : 13h – 18h\nLe samedi : 10h – 13h\nRDV au 0596 70 79 31 pour les scolaires et les groupes\nVisite commentée à partir de 10 personnes \nTropiques Atrium\, 6 rue Jacques Cazotte\, Fort de France\, 0596 70 79 29
URL:https://www.buzzmagmartinique.com/evenement/exposition-starter-a-tropiques-atrium-fort-de-france/2026-04-21/
LOCATION:TROPIQUES ATRIUM SCENE NATIONALE\, 6\, rue Jacques Cazotte\, Fort-de-France\, 97200\, Martinique
CATEGORIES:Art & Culture
ATTACH;FMTTYPE=image/webp:https://www.buzzmagmartinique.com/wp-content/uploads/2025/12/tempFileForShare_20260226-1144021.webp
ORGANIZER;CN="TROPIQUES ATRIUM SCENE NATIONALE":MAILTO:info@tropiques-atrium.fr
END:VEVENT
BEGIN:VEVENT
DTSTART;TZID=America/Halifax:20260421T193000
DTEND;TZID=America/Halifax:20260421T220000
DTSTAMP:20260421T034734
CREATED:20260331T152244Z
LAST-MODIFIED:20260408T174618Z
UID:10082369-1776799800-1776808800@www.buzzmagmartinique.com
SUMMARY:CYCLE CINÉMA À TROPIQUES ATRIUM\, FORT DE FRANCE
DESCRIPTION:Cinétropiques\n\n\n\n\nNos séances à Tropiques Atrium\n\n\n\n\n\n\n\n\nSalle Frantz Fanon\n\n Le gâteau du président \n\n\n\n\n\n\nSalle Frantz Fanon\n\n Un jour avec mon père \n\n\n\n\n\n\nSalle Frantz Fanon\n\n Une jeunesse indienne \n\n\n\n\n\n\nSalle Frantz Fanon\n\n Ciné Toupiti : La Princesse et le rossignol \n\n\n\n\n\n\nSalle Frantz Fanon\n\n Lupin III – La lignée immortelle \n\n\n\n\n\n\nSalle Frantz Fanon\n\n Planètes \n\n\n\n\n\n\nSalle Frantz Fanon\n\n Fantastique \n\n\n\n\n\n\nSalle Frantz Fanon\n\n Nuestra Tierra \n\n\n\n\n\n\nSalle Frantz Fanon\n\n La corde au cou \n\n\n\n\n\n\nSalle Frantz Fanon\n\n Soumsoum\, la nuit des astres \n\n\n\n\n\n\nSalle Frantz Fanon\n\n Le cri des gardes \n\n\n\n\n\n\n\n\nAttention : Tropiques Atrium ouvre ses séances scolaires à tous les publics\, avec des tarifs attractifs !\nMais\, les places étant limitées pour les séances en scolaire\, il vous est donc conseillé de contacter la billetterie la veille pour connaître les disponibilités. \n\n\n\n\n\n\n\n\n\nTropiques Atrium\, 6 rue Jacques Cazotte\, Fort-de-France\, 0596 70 79 29
URL:https://www.buzzmagmartinique.com/evenement/cycle-cinema-a-tropiques-atrium-fort-de-france-2-2/2026-04-21/
LOCATION:TROPIQUES ATRIUM SCENE NATIONALE\, 6\, rue Jacques Cazotte\, Fort-de-France\, 97200\, Martinique
CATEGORIES:Art & Culture,Jeune public
ATTACH;FMTTYPE=image/webp:https://www.buzzmagmartinique.com/wp-content/uploads/2026/03/Screenshot_20260407_082133_WhatsApp-1.webp
ORGANIZER;CN="TROPIQUES ATRIUM SCENE NATIONALE":MAILTO:info@tropiques-atrium.fr
END:VEVENT
BEGIN:VEVENT
DTSTART;TZID=America/Halifax:20260422T180000
DTEND;TZID=America/Halifax:20260424T210000
DTSTAMP:20260421T034734
CREATED:20210114T073611Z
LAST-MODIFIED:20260403T142455Z
UID:10002802-1776880800-1777064400@www.buzzmagmartinique.com
SUMMARY:DANSE "MASTER CLASS CONTACT IMPROVISATION" À TROPIQUES ATRIUM\, FORT DE FRANCE
DESCRIPTION:Master class Contact improvisation\, animée par Jean-Hugues Mirédin Infos pratiques : Dates : 22\, 23 et 24 avril\, de 18h à 21h.Public : Danseurs de tous niveauxTarif : 25€Le contact improvisation est une danse dans laquelle les partenaires en contact physique vont chercher une rencontre dans un mouvement qui laisse toujours chacun libre d’intéragir à son gré.Inscription : Corinne Badian – cbadian@tropiques-atrium.fr Plus d’infos : https://tropiques-atrium.fr/…/master-class-contact…/ \n\n\nTropiques Atrium Scène Nationale\, 6 rue Cazotte\, Fort de France\, 0596 70 79 29
URL:https://www.buzzmagmartinique.com/evenement/danse-master-class-contact-improvisation-a-tropiques-atrium-fort-de-france/
LOCATION:TROPIQUES ATRIUM SCENE NATIONALE\, 6\, rue Jacques Cazotte\, Fort-de-France\, 97200\, Martinique
CATEGORIES:Art & Culture
ATTACH;FMTTYPE=image/webp:https://www.buzzmagmartinique.com/wp-content/uploads/2021/01/661689831_1473085461530776_5291013029146371847_n1.webp
ORGANIZER;CN="TROPIQUES ATRIUM SCENE NATIONALE":MAILTO:info@tropiques-atrium.fr
END:VEVENT
BEGIN:VEVENT
DTSTART;TZID=America/Halifax:20260424T190000
DTEND;TZID=America/Halifax:20260424T210000
DTSTAMP:20260421T034734
CREATED:20260119T192814Z
LAST-MODIFIED:20260407T143236Z
UID:10049993-1777057200-1777064400@www.buzzmagmartinique.com
SUMMARY:THÉÂTRE "L'AVARE" À TROPIQUES ATRIUM\, FORT DE FRANCE
DESCRIPTION:L’AVARESalle Aimé CésaireTarif : 30€ 25€ 12€Réservez dès maintenant !  urlr.me/4Ks28qAu lieu de jeter\, ramenez ce que vous n’utilisez plus pour qu’il trouve sa place sur scène !Clément Poirée revisite l’Avare\, pièce hilarante de Molière sur un grand vice\, un désir ogresque qui confine à la folie\, à la tyrannie\, « en mode radin » pour interroger ses résonances au temps de la décroissance aujourd’hui où les valeurs sont renversées. Sur scène\, une troupe en slip devant des étagères vides ! Tout le monde est là\, les interprètes mais aussi l’équipe artistique qui habituellement œuvre dans le secret des répétitions. Ils n’attendent que le public et… ce qu’il voudra bien leur donner. Objets\, vêtements\, draps\, livres\, papier\, boîtes\, bijoux\, CD\, craies\, café soluble… tout est bon !Un happening chaque soir différent. Une manière d’éclairer notre rapport intime à l’avarice et de mettre à nu ce qui fait la richesse d’un spectacle : une équipe à l’unisson et un public-artiste qui apporte la pièce manquante. Un Avare à l’épreuve de ce qui fonde l’art de la représentation : le partage. Une expérience d’économie circulaire aussi puisque vos dons seront redistribués pour le réemploi solidaire. Alors\, prodigue ou avare\, une chose est sûre\, n’oubliez pas votre objet !————–Production :Théâtre de la Tempête\, subventionné par le ministère de la Culture et la région Ile-de-France\, soutenu par la ville de ParisCoproduction :Théâtre de la Manufacture – CDN Nancy Lorraine\, la CREA – Coopérative de Résidence pour les Écritures et les Auteurs-rices – Mont-Saint-Michel – Normandie\, Les Passerelles\, scène de Paris – Vallée de la Marne à Pontault-Combault\, L’Azimut – Antony / Châtenay-Malabry\, Pôle National Cirque en Ile-de France\, Théâtre Romain Rolland – Scène Conventionnée de Villejuif et du Grand-Orly Seine BièvreAvec le soutien de :Théâtre de Sartrouville et des Yvelines – CDN\, de l’École de la Comédie de Saint-Étienne/DIÈSE# Auvergne Rhône-Alpes\, dispositif d’insertion de l’École du Nord et de la Région Ile-de-France \n\n\n\n\n\n\n\n\n\n\n\n\n\n\n\n\n\n\nTropiques Atrium\, 6 rue Jacques Cazotte\, Fort de France\, 0596 70 79 29
URL:https://www.buzzmagmartinique.com/evenement/theatre-lavare-a-tropiques-atrium-fort-de-france/
LOCATION:TROPIQUES ATRIUM SCENE NATIONALE\, 6\, rue Jacques Cazotte\, Fort-de-France\, 97200\, Martinique
CATEGORIES:Art & Culture
ATTACH;FMTTYPE=image/webp:https://www.buzzmagmartinique.com/wp-content/uploads/2026/01/660171534_1476779567828032_5200545805605094310_n1.webp
END:VEVENT
BEGIN:VEVENT
DTSTART;TZID=America/Halifax:20260425T193000
DTEND;TZID=America/Halifax:20260425T213000
DTSTAMP:20260421T034734
CREATED:20210104T124444Z
LAST-MODIFIED:20260407T145630Z
UID:10002774-1777145400-1777152600@www.buzzmagmartinique.com
SUMMARY:MUSIQUE "SARAH CAMILLE" À TROPIQUES ATRIUM\, FORT DE FRANCE
DESCRIPTION:Sarah Camille – An ni songé (sortie de résidence)Salle Frantz FanonTarif : 10€Réservez dès maintenant !  urlr.me/MZQbuvUn vibrant voyage musical et poétiqueInspiré du poème éponyme de Gilbert Gratiant\, mis en musique par Paulette Nardal\, traversant un paysage entre la Norvège et la Martinique\, Sarah Camille présente un concert teinté de ses propres compositions et textes.Durant sa résidence d’artiste Sarah Camille a exploré plus en profondeur le patrimoine culturel martiniquais. Son univers se situe entre chanson\, jazz et musique traditionnelle\, avec en fil rouge son chant doux et proche\, en forme de paysage sonore magnifique et transportant.Sarah Camille et ses musiciens sont aussi allés à la rencontre de la musique et de la danse bèlè avec l’association Bèlè an Wout\, ainsi que du producteur Joël Jacoulet et de l’artiste Jann Beaudry.Ce concert présente un aperçu de ces rencontres créatives et de ces échanges artistiques. Sarah Camille\, basée en Norvège\, avait été une belle découverte au Festival culturel de Fort-de-France en 2022. \n  \n\nTropiques Atrium Scène Nationale\, 6 rue Jacques Cazotte\, Fort de France\, 0596 70 79 29
URL:https://www.buzzmagmartinique.com/evenement/spectacle-il-etait-une-fois-la-martinique-a-tropiques-atrium-fort-de-france/
LOCATION:TROPIQUES ATRIUM SCENE NATIONALE\, 6\, rue Jacques Cazotte\, Fort-de-France\, 97200\, Martinique
CATEGORIES:Art & Culture
ATTACH;FMTTYPE=image/webp:https://www.buzzmagmartinique.com/wp-content/uploads/2021/01/661070744_1476784521160870_6257442029602792974_n1.webp
END:VEVENT
BEGIN:VEVENT
DTSTART;TZID=Europe/Paris:20260429T193000
DTEND;TZID=Europe/Paris:20260429T213000
DTSTAMP:20260421T034734
CREATED:20250401T165633Z
LAST-MODIFIED:20260408T181644Z
UID:10010586-1777491000-1777498200@www.buzzmagmartinique.com
SUMMARY:THÉÂTRE "MATRICES" À TROPIQUES ATRIUM\, FORT DE FRANCE
DESCRIPTION:Salle Frantz Fanon\nTarif E 25€ 20€ 10€\n\nRéservez dès maintenant !  urlr.me/tk2buX\n\n\n\nUne Dame arrive. Quelque chose dérange sa matrice. Retraversant les pages de son passé\, son corps se démultiplie. Elle se revoit Fille\, encagée dans une cité de banlieue parisienne\, dans une famille aliénée\, elle se revoit Femme\, de retour sur son île antillaise\, captive d’un couple rongé par la violence patriarcale.\n\n\n\nPourquoi le fruit de son ventre s’est-il perdu ? Sa blessure intime réveille alors les spectres lovés dans le ventre des femmes de sa lignée depuis plusieurs générations. La Dame devra plonger dans la matrice sombre d’une histoire coloniale traumatique pour libérer les silences qui continuent à déposséder les corps aujourd’hui. Mêlant scènes ordinaires et oniriques\,\n\nMatrices est un chant collectif célébrant le corps et la mémoire pour féconder un devenir puissant.\n\n\n\nUn spectacle d’une grande force\, une expérience ontologique nécessaire pour comprendre la matrice où s’originent les violences et la déshumanisation de nos sociétés contemporaines\n– Africultures\n\n\n\n———–\n\nProduction : Compagnie TRACK\n\n\nCoproduction ; Théâtre de l’Union – CDN du Limousin\, Les Francophonies – Des écritures à la scène\, Tropiques Atrium Scène nationale\, Etc_Caraïbe\n\n\nSoutiens : DRAC Martinique\, Agence Française de Développement\, Collectivité Territoriale de Martinique\, Institut français «Des mots à la scène»\, ARTCENA – Centre national des arts du cirque\, de la rue et du théâtre\, La Chartreuse-Centre National des Écritures du Spectacle\, Fondation pour la Mémoire de l’Esclavage\, FEAC – Fonds d’Aide aux Échanges Artistiques et Culturels pour l’Outre-mer cofinancé par le Ministère de l’Outre-Mer et le Ministère de la Culture\, FDVA – Fonds pour le Développement de la Vie Associative\, Ville du Saint-Esprit Partenaires [la fabrique francophone] et La Scène d’Anglars – Espace Culturel\, Communauté de Communes de la Vallée du Lot et du Vignoble\, les Francopholires\, Collectif Terre d’Arts\, TOM (Téyat Otonom Mawon)\n\n\n\nRemerciements : David Khatile\, Éric Godard\n\n\nTropiques Atrium Scène Nationale\, 6 rue Jacques Cazotte\, Fort de France\, 0596 70 79 29 \n \n \n 
URL:https://www.buzzmagmartinique.com/evenement/theatre-matrices-a-tropiques-atrium-fort-de-france/
LOCATION:TROPIQUES ATRIUM SCENE NATIONALE\, 6\, rue Jacques Cazotte\, Fort-de-France\, 97200\, Martinique
CATEGORIES:Art & Culture
ATTACH;FMTTYPE=image/webp:https://www.buzzmagmartinique.com/wp-content/uploads/2025/04/666729046_1479322304240425_8499213484324041735_n1.webp
END:VEVENT
BEGIN:VEVENT
DTSTART;VALUE=DATE:20260603
DTEND;VALUE=DATE:20260627
DTSTAMP:20260421T034734
CREATED:20240502T132745Z
LAST-MODIFIED:20260319T132837Z
UID:10008988-1780444860-1782518340@www.buzzmagmartinique.com
SUMMARY:FESTIVAL "CEIBA 2026" À TROPIQUES ATRIUM\, FORT DE FRANCE
DESCRIPTION:Du 27 février au 21 mars 2026\, à Tropiques Atrium\, Arts visuels\, Cinéma\, Conte\, Danse\, Musique\, Slam et Théâtre seront au rendez-vous de cette 3ème édition du CEIBA !!! \n  \n \nSoirée d’ouverture du Festival Ceiba !Vendredi 27 février à 18h30Musique • Arts visuels • PerformanceEsplanade Eugène Mona / Espace Eda Pierre / AtriumEntrée libre – Restauration sur placeAu programme :O’Siyaj — Jeunes artistes martiniquais qui puisent dans les racines du patrimoine musical\, en particulier la tradition bèlè\, pour créer un son puissant et authentique.X’Trem Roots — Miki Télèphe & Jeff Baillard\, accompagnés de musiciens chevronnés : Jacques Bajal\, José Marie-Rose et José Zébina fusionnent bèlè et musiques électroniques pour une performance explosive.Arts visuels : 7 artisanes présenteront leurs créations originales\, reflet de savoir-faire\, d’inventivité et de beauté caribéenne.Défilé-performance de Drag Queens avec : Saint-Claude\, Sherry Jones\, This is Diamond \nUne soirée d’ouverture culturellement riche et variée\, à l’image du Festival Ceiba.Plus d’info : urlr.me/DbxvzN \n  \n \n\n\n\n \n \n \n\nJe suis blanc et je vous merde\nJeudi 5 mars 2026 | 19h30\nSalle Frantz Fanon\nTarifs : E 25€ • 20€ • 8€\nÀ partir de 14 ans\nBilletterie\n\n\n\nUn thriller théâtral puissant qui interroge nos représentations\, les masques identitaires et les héritages coloniaux. Une pièce à ne pas manquer dans la programmation du Festival Ceiba.\n\n\n\n\nKOLÉ VWA pou pou dwa fanmNotre Chorale éphémère se réunira le samedi 7 mars de 15h à 18h\, à l’approche de la journée internationale des droits des femmes.Attention\, l’Entrée est libre (c’est gratuit!) mais la participation se fait obligatoirement sur inscription et le nombre de places restantes est limité !Pour cette 3ème édition\, nous reprendrons le morceau “Monté lariviè” de Kali !Tu aimes chanter sous la douche\, dans ta voiture ou avec tes amis ? Viens découvrir et participer à cette extraordinaire expérience collective\, le 7 mars de 15h à 18h : la chorale éphémère KOLÉ VWA pou pou dwa fanm !Viens t’amuser\, partager et vivre la musique dans un cadre bienveillant et convivial : https://bit.ly/kolevwa3 \n  \n \nCiné-club : The watermelon womanMardi 10 mars – 19hSalle Frantz FanonCheryl\, jeune femme noire lesbienne travaillant dans un vidéoclub à Philadelphie\, enquête sur une actrice noire oubliée des années 30\, surnommée « The watermelon woman »\, cantonnée à des rôles stéréotypés. Très vite\, elle se heurte à un vide : aucune archive\, aucune trace officielle.Œuvre emblématique du New Queer Cinema\, The Watermelon Woman émerge comme l’œuvre qui cristallise l’effervescence d’une communauté de cinéastes noires et lesbiennes de la côte est.La projection sera suivie d’un échange avec le public dans l’esprit Ciné-Club !Plus d’infos : https://tropiques-atrium.fr/…/the-watermelon-woman-2/ \n  \n \n\n\nMercredi 11 mars\nMaster Class Latin Jazz\n\n\nDe 19h à 21h\nPublic : Saxophonistes et clarinettistes de tous niveaux\nTarif : 25 €\n\n\n\nNe ratez pas une master class exceptionnelle animée par Jesus Fuentes ! Une occasion unique d’échanger\, de pratiquer et d’enrichir votre approche musicale aux côtés d’un musicien reconnu.\n\n\nRenseignements : Corinne Badian – cbadian@tropiques-atrium.fr\n\n\n\n\n\n\nVendredi 13 mars à 19h30Salle Frantz FanonHaïti – Voix de libertéQuand voix lyrique et voix populaire dialoguent.Haïti – Voix de Liberté est une création du Carib’Ensemble qui fait résonner la mémoire haïtienne dans une forme musicale et scénique habitée. Le spectacle s’articule autour de la Cantate à Toussaint Louverture d’Amos Coulanges et des Trois Scènes historiques de Werner Jaegerhuber\, deux œuvres majeures du patrimoine haïtien.Piano\, percussions et voix y dialoguent dans une écriture vivante et incarnée. James Germain en est le fil conducteur\, témoin de l’histoire comme du quotidien. Le chant devient alors un acte de transmission\, où mémoire et présent dialoguent. Ce spectacle donne à entendre une Haïti vivante\, traversée d’histoire\, de résistance et d’espérance.Plus d’infos : https://tropiques-atrium.fr/…/haiti-voix-de-liberte/ \n\n  \n \nConférence – La production musicale à Cuba : l’exemple du Latin JazzSamedi 14 mars10h00Tropiques Atrium – Scène nationale · Salle Case à vents \nEntrée libreRencontrez Emilio Vega\, musicien multi-instrumentiste\, compositeur et producteur cubain. \nÀ travers son parcours\, il partagera son regard sur la création musicale et les influences qui façonnent aujourd’hui le Latin Jazz. \n  \n \n\n\nSamedi 14 mars | 19h30\nSalle Aimé Césaire\nEmilio Vega y paso al frente\n\nTarif C : 35€ • 30€ • 15€\nBilletterie : urlr.me/2W9jMb\n\n\nPréparez-vous à une soirée jazz unique ! \n\n\nPaso al Frente\, le groupe du pianiste et compositeur cubain Emilio Vega\, fusionne jazz\, pop\, rock et rythmes cubains/antillais pour créer un son riche et métissé.\nVenez découvrir un artiste aux nombreuses distinctions et nominations prestigieuses qui a marqué les scènes jazz internationales.\n\n\n\n\n\n\n\n\n\nMère Prison\n\n\nMardi 17 mars – 19h30\nSalle Frantz Fanon\nTarifs : E 25€ • 20€ • 8€\nÀ partir de 14 ans\nBilletterie : bit.ly/4slJLOk\n\n\n\n\n\n\nMercredi 18 mars – 19h30Salle Aimé Césaire (Plateau)\n\nÀ partir de 14 ansLet’s go back to the riverHommage à la déesse Oxun !La chorégraphe Annabel Guérédrat conçoit Let’s go back to the river comme une procession-rituel inspirée des traditions caribéennes. Poursuivant son exploration du corps politique et de la place des femmes noires et métisses\, elle rend hommage à Oxun\, divinité des eaux douces\, symbole de prospérité et d’émancipation féminine.Mêlant savoirs chamaniques et rituels afro-descendants\, cette danse incarne l’héritage collectif des femmes de la Caraïbe.Plus d’infos : https://tropiques-atrium.fr/…/lets-go-back-to-the-river/\n\n\n\n\n\nJeudi 19 mars à 19hPitt le Flamboyant – Vauclin \nMizik’n food : Alex Bernard TrioTarif unique 25€Billetterie : https://bit.ly/mnfabtLe Jeudi 19 mars à 19h\, Alex Bernard vous donne rendez-vous dans un lieu pittoresque\, au Pitt le Flamboyant(au Vauclin) pour une expérience unique mettant en lumière l’un des plus talentueux bassistes et contrebassistes de la scène jazz antillaise.Accompagné de deux talentueux musiciens\, Claude Césaire et Dominique Bougrainville\, Alex Bernard vous invite à un voyage musical entre standards et compositions originales\, mêlant savamment jazz\, rythmes caribéens et improvisations ! \n\n  \n \nVendredi 20 mars – 19h30Salle La Terrasse \nM.E.R.(Mujer En Refrigerador / Femme dans le réfrigérateur) Durée : 40 minTarif G 15€ 10€Billetterie : https://bit.ly/MeRÀ partir de 14 ansM.E.R. est un Solo intense entre une danseuse et un réfrigérateur ! Une femme et un réfrigérateur\, tous deux protagonistes d’une série de rêves ou de cauchemars qui s’entremêlent et se répètent constamment au cours d’une chaude nuit d’été.Chorégraphe\, danseuse\, professeur formée à Cuba\, Diana Mary Cano Rodriguez\, avec M.E.R\, fait voyager le spectateur entre Danse et Théâtre avec une grande sensibilité ! \n  \n  \n \n\n\n\n\n\nTropiques Atrium\, 6 rue Jacques Cazotte\, Fort de France\, 0596 70 79 29 \n\n \n\n \n 
URL:https://www.buzzmagmartinique.com/evenement/festival-ceiba-2026-a-tropiques-atrium-fort-de-france/
LOCATION:TROPIQUES ATRIUM SCENE NATIONALE\, 6\, rue Jacques Cazotte\, Fort-de-France\, 97200\, Martinique
CATEGORIES:Art & Culture
ATTACH;FMTTYPE=image/webp:https://www.buzzmagmartinique.com/wp-content/uploads/2024/05/639782538_18047342087708173_2936847559673490170_n.webp
ORGANIZER;CN="TROPIQUES ATRIUM SCENE NATIONALE":MAILTO:info@tropiques-atrium.fr
END:VEVENT
END:VCALENDAR