BEGIN:VCALENDAR
VERSION:2.0
PRODID:-//Buzzmag - ECPv6.15.20//NONSGML v1.0//EN
CALSCALE:GREGORIAN
METHOD:PUBLISH
X-ORIGINAL-URL:https://www.buzzmagmartinique.com
X-WR-CALDESC:Évènements pour Buzzmag
REFRESH-INTERVAL;VALUE=DURATION:PT1H
X-Robots-Tag:noindex
X-PUBLISHED-TTL:PT1H
BEGIN:VTIMEZONE
TZID:America/Martinique
BEGIN:STANDARD
TZOFFSETFROM:-0400
TZOFFSETTO:-0400
TZNAME:AST
DTSTART:20250101T000000
END:STANDARD
END:VTIMEZONE
BEGIN:VTIMEZONE
TZID:Europe/Paris
BEGIN:DAYLIGHT
TZOFFSETFROM:+0100
TZOFFSETTO:+0200
TZNAME:CEST
DTSTART:20250330T010000
END:DAYLIGHT
BEGIN:STANDARD
TZOFFSETFROM:+0200
TZOFFSETTO:+0100
TZNAME:CET
DTSTART:20251026T010000
END:STANDARD
BEGIN:DAYLIGHT
TZOFFSETFROM:+0100
TZOFFSETTO:+0200
TZNAME:CEST
DTSTART:20260329T010000
END:DAYLIGHT
BEGIN:STANDARD
TZOFFSETFROM:+0200
TZOFFSETTO:+0100
TZNAME:CET
DTSTART:20261025T010000
END:STANDARD
BEGIN:DAYLIGHT
TZOFFSETFROM:+0100
TZOFFSETTO:+0200
TZNAME:CEST
DTSTART:20270328T010000
END:DAYLIGHT
BEGIN:STANDARD
TZOFFSETFROM:+0200
TZOFFSETTO:+0100
TZNAME:CET
DTSTART:20271031T010000
END:STANDARD
END:VTIMEZONE
BEGIN:VTIMEZONE
TZID:America/Halifax
BEGIN:DAYLIGHT
TZOFFSETFROM:-0400
TZOFFSETTO:-0300
TZNAME:ADT
DTSTART:20250309T060000
END:DAYLIGHT
BEGIN:STANDARD
TZOFFSETFROM:-0300
TZOFFSETTO:-0400
TZNAME:AST
DTSTART:20251102T050000
END:STANDARD
BEGIN:DAYLIGHT
TZOFFSETFROM:-0400
TZOFFSETTO:-0300
TZNAME:ADT
DTSTART:20260308T060000
END:DAYLIGHT
BEGIN:STANDARD
TZOFFSETFROM:-0300
TZOFFSETTO:-0400
TZNAME:AST
DTSTART:20261101T050000
END:STANDARD
BEGIN:DAYLIGHT
TZOFFSETFROM:-0400
TZOFFSETTO:-0300
TZNAME:ADT
DTSTART:20270314T060000
END:DAYLIGHT
BEGIN:STANDARD
TZOFFSETFROM:-0300
TZOFFSETTO:-0400
TZNAME:AST
DTSTART:20271107T050000
END:STANDARD
END:VTIMEZONE
BEGIN:VEVENT
DTSTART;TZID=America/Martinique:20260404T190000
DTEND;TZID=America/Martinique:20260404T190000
DTSTAMP:20260423T105800
CREATED:20240813T120503Z
LAST-MODIFIED:20260401T115753Z
UID:10002441-1775329200-1775329200@www.buzzmagmartinique.com
SUMMARY:SLAM BIM! PAR LA SLAMADA AU TOM\, FORT DE FRANCE
DESCRIPTION:Way ! Nou kontan !\nLa SlaMada au TOM\nParole libérée\nSlam Bim !\nVini di… Vini tann !\n\n\nTOM\, Téat’ Otonom Mawon \, Croix Mission\, Boulevard du Général de Gaulle\, 122 rue Victor Sévère\, Fort de France \n \n \n 
URL:https://www.buzzmagmartinique.com/evenement/slam-bim-par-la-slamada-au-tom-fort-de-france/
LOCATION:TOM\, Téat’ Otonom Mawon\, Croix Mission\, Boulevard du Général de Gaulle\, Fort de France\, 97200\, Martinique
CATEGORIES:Art & Culture
ATTACH;FMTTYPE=image/webp:https://www.buzzmagmartinique.com/wp-content/uploads/2024/08/IMG-20260331-WA0024.webp
END:VEVENT
BEGIN:VEVENT
DTSTART;TZID=America/Martinique:20260328T090000
DTEND;TZID=America/Martinique:20260328T130000
DTSTAMP:20260423T105800
CREATED:20260223T114925Z
LAST-MODIFIED:20260326T192833Z
UID:10077891-1774688400-1774702800@www.buzzmagmartinique.com
SUMMARY:ATELIER THÉÂTRE & ÉCRITURE "LE PLATEAU" PAR LA COMPAGNIE PLUME D'ANANAS AU TOM\, FORT DE FRANCE
DESCRIPTION:L’atelier Théâtre & Écriture de Plateau de la Compagnie Plume d’Ananas\nTu aimes la scène\, tu aimes jouer\, créer\, t’amuser ?\nAlors rejoins-nous au PLATEAU.\nUn espace vivant où les idées s’inventent\, s’écrivent\, se jouent.\nUn laboratoire chaleureux où chacun peut explorer\, créer et se révéler. \nCrée – fais émerger tes idées.\nJoue – mets-les en mouvement.\nÉcris – façonne des scènes uniques.\nOse – amuse-toi et fais-toi plaisir \nIci\, les mots quittent ta tête et rencontrent le plateau.\nOn improvise\, on cherche\, on partage\, on construit ensemble.\nUn atelier ouvert à tous les adultes curieux\, passionnés ou simplement attirés par la scène. \nInfos & inscriptions : +596 696 65 64 28 \nPar la Compagnie Plume d’Ananas \n\n\n\n\nTOM\, Téat’ Otonom Mawon \, Croix Mission\, Boulevard du Général de Gaulle\, 122 rue Victor Sévère\, Fort de France
URL:https://www.buzzmagmartinique.com/evenement/atelier-theatre-ecriture-le-plateau-par-la-compagnie-plume-dananas-au-tom-fort-de-france/
LOCATION:TOM\, Téat’ Otonom Mawon\, Croix Mission\, Boulevard du Général de Gaulle\, Fort de France\, 97200\, Martinique
CATEGORIES:Art & Culture
ATTACH;FMTTYPE=image/webp:https://www.buzzmagmartinique.com/wp-content/uploads/2026/02/116983_8e337ccb574519020fbf1ac3b893898e_700x600_landscape_97.webp
ORGANIZER;CN="Compagnie Plume d'Ananas":MAILTO:plumedananas@gmail.com
END:VEVENT
BEGIN:VEVENT
DTSTART;TZID=Europe/Paris:20260315T180000
DTEND;TZID=Europe/Paris:20260315T200000
DTSTAMP:20260423T105800
CREATED:20240211T163551Z
LAST-MODIFIED:20260223T115841Z
UID:10008242-1773597600-1773604800@www.buzzmagmartinique.com
SUMMARY:THÉÂTRE "LOVE SHOTS 3" AU TOM\, FORT DE FRANCE
DESCRIPTION:LOVE SHOTS 3 fait presque son cinéma \nDes scènes d’amour courtes.\nDrôles. Tendres. Piquantes.\nDes histoires qui se boivent comme des shots…\net qui donnent des frissons. \nDu théâtre\n️Des émotions\nUne soirée pas comme les autres \n10€ \nBilletterie Bizouk \n\nTOM\, Téat’ Otonom Mawon \, Croix Mission\, Boulevard du Général de Gaulle\, 122 rue Victor Sévère\, Fort de France
URL:https://www.buzzmagmartinique.com/evenement/theatre-love-shots-3-au-tom-fort-de-france/
LOCATION:TOM\, Téat’ Otonom Mawon\, Croix Mission\, Boulevard du Général de Gaulle\, Fort de France\, 97200\, Martinique
CATEGORIES:Art & Culture
ATTACH;FMTTYPE=image/webp:https://www.buzzmagmartinique.com/wp-content/uploads/2024/02/IMG-20260220-WA0019.webp
END:VEVENT
BEGIN:VEVENT
DTSTART;TZID=America/Halifax:20260312T180000
DTEND;TZID=America/Halifax:20260312T200000
DTSTAMP:20260423T105800
CREATED:20240819T133047Z
LAST-MODIFIED:20260224T165441Z
UID:10015145-1773338400-1773345600@www.buzzmagmartinique.com
SUMMARY:CINÉ-DÉBAT "COMMENT VALORISE-T-ON L'AGRICULTURE ET L'ALIMENTATION LOCALE?" AU TOM\, FORT DE FRANCE
DESCRIPTION:Comment valorise-t’on l’agriculture et l’alimentation l’agriculture et l’alimentation locale en Martinique ? \nAu programme de cette soirée : projection du 1er épisode de notre série-documentaire (Re)Nourrir la Martinique\, suivi d’un échange avec nos intervenants et l’équipe de Cultiver l’avenir en local. \nOn vous attend nombreux et nombreuses pour partager votre vision \n\nTOM\, Téat’ Otonom Mawon \, Croix Mission \nAngle Boulevard Général de Gaulle & Rue Victor Sévère\, Fort de France
URL:https://www.buzzmagmartinique.com/evenement/cine-debat-comment-valorise-t-on-lagriculture-et-lalimentation-locale-au-tom-fort-de-france/
LOCATION:TOM\, Téat’ Otonom Mawon\, Croix Mission\, Boulevard du Général de Gaulle\, Fort de France\, 97200\, Martinique
CATEGORIES:Environnement
ATTACH;FMTTYPE=image/webp:https://www.buzzmagmartinique.com/wp-content/uploads/2024/08/tempFileForShare_20260224-1251081.webp
END:VEVENT
BEGIN:VEVENT
DTSTART;TZID=Europe/Paris:20260310T184500
DTEND;TZID=Europe/Paris:20260310T210000
DTSTAMP:20260423T105800
CREATED:20240917T130816Z
LAST-MODIFIED:20260224T163950Z
UID:10015273-1773168300-1773176400@www.buzzmagmartinique.com
SUMMARY:CINÉ DU TOM "PROMIS LE CIEL" PAR KONTRIBUSYON AU TOM\, FORT DE FRANCE
DESCRIPTION:Marie\, pasteure ivoirienne et ancienne journaliste\, vit à Tunis. \nElle héberge Naney\, une jeune mère en quête d’un avenir meilleur\, et Jolie\, une étudiante déterminée qui porte les espoirs de sa famille restée au pays. \nQuand les trois femmes recueillent Kenza\, 4 ans\, rescapée d’un naufrage\, leur refuge se transforme en famille recomposée tendre mais intranquille dans un climat social de plus en plus préoccupant. \n\nTOM\, Téat’ Otonom Mawon \, Croix Mission\, Boulevard du Général de Gaulle\, 122 rue Victor Sévère\, Fort de France \n \n  \nVille de Fort-De-France \n \n  \nAssociation Kontribusyon\, +596 696 66 52 32
URL:https://www.buzzmagmartinique.com/evenement/cine-du-tom-promis-le-ciel-par-kontribusyon-au-tom-fort-de-france/
LOCATION:TOM\, Téat’ Otonom Mawon\, Croix Mission\, Boulevard du Général de Gaulle\, Fort de France\, 97200\, Martinique
CATEGORIES:Art & Culture
ATTACH;FMTTYPE=image/webp:https://www.buzzmagmartinique.com/wp-content/uploads/2024/09/641346441_122173126742605653_2821868221080590763_n1.webp
ORGANIZER;CN="Association Kontribusyon":MAILTO:cinedutom@gmail.com
END:VEVENT
BEGIN:VEVENT
DTSTART;TZID=Europe/Paris:20260308T190000
DTEND;TZID=Europe/Paris:20260308T210000
DTSTAMP:20260423T105800
CREATED:20250805T144605Z
LAST-MODIFIED:20260220T134401Z
UID:10063192-1772996400-1773003600@www.buzzmagmartinique.com
SUMMARY:THÉÂTRE "LES SECRETS D'UN GAINAGE EFFICACE" PAR LARTGONDSTOUT\, À LA GUINGUETTE\, SAINT PIERRE
DESCRIPTION:Elles sont cinq femmes qui se saisissent de l’anatomie féminine\, objet des canons de beauté mais aussi de la honte de soi\, de méconnaissance et de tabous\, pour écrire un livre sur le corps des femmes comme leurs aînées dans les années 70. \nElles débattent et se débattent avec les hontes et les traumatismes liés à ce corps et disent tout haut ce que beaucoup pensent tout bas : corps malmené par lui même et par le corps social\, médiatique et politique. \nElles explorent leur intimité et les clichés qui leur collent à la peau à grands coups d’autodérision et d’humour. \nElles explorent leur intimité autant que l’histoire ou la presse réinventent les raisons de la colère. Des injonctions esthétiques à la transmission mère-fille. \n  \n\nTOM\, Téat’ Otonom Mawon \, Croix Mission\, Boulevard du Général de Gaulle\, 122 rue Victor Sévère\, Fort de France \n \n 
URL:https://www.buzzmagmartinique.com/evenement/spectacle-juste-avant-noel-au-tom-fort-de-france/
LOCATION:TOM\, Téat’ Otonom Mawon\, Croix Mission\, Boulevard du Général de Gaulle\, Fort de France\, 97200\, Martinique
CATEGORIES:Art & Culture
ATTACH;FMTTYPE=image/webp:https://www.buzzmagmartinique.com/wp-content/uploads/2025/08/IMG-20260219-WA0009.webp
ORGANIZER;CN="Lartgondstout":MAILTO:lartgondstout@laposte.net
END:VEVENT
BEGIN:VEVENT
DTSTART;TZID=America/Martinique:20260306T190000
DTEND;TZID=America/Martinique:20260306T210000
DTSTAMP:20260423T105800
CREATED:20240930T135250Z
LAST-MODIFIED:20260225T143234Z
UID:10077890-1772823600-1772830800@www.buzzmagmartinique.com
SUMMARY:PROJECTION-DÉBAT "L'AFFAIRE DE L'OJAM"  AU TOM\, FORT DE FRANCE
DESCRIPTION:La Fabrique fait son carême\, jour 3 ! \nLe 22 décembre 1962\, l’OJAM\, Organisation de la Jeunesse Anticolonialiste de la Martinique\, affiche clandestinement\, sur tous les bâtiments publics de l’île\, son manifeste “La Martinique aux Martiniquais”. Nous sommes en plein contexte mondial de décolonisation\, tout juste après la défaite de la France lors de la guerre d’Algérie\, et le pouvoir gaulliste craint que les troubles “sécessionnistes” s’étendent à ses “vieilles colonies”. \nJosiane Saint-Louis-Augustin\, Rodolphe Désiré\, Renaud de Grandmaison\, Henri Pied\, Victor Lessort\, Marc Pulvar\, Joseph René-Corail\, Léon Sainte-Rose\, Gesner Mencé… voici quelques uns des noms de ces jeunes militants\, souvent étudiants\, qui seront arrêtés puis transféré à la prison de Frênes à Paris. Ils seront inculpés pour complot et atteinte à la sécurité du territoire dans un long procès médiatique. \nMais qu’était vraiment l’OJAM ? L’indépendance de la Martinique s’est-elle jouée en 1962 ? Que viennent faire ceux qui n’ont pas été arrêtés (Glissant\, Béville\, Manville) dans cette histoire? \nTout cela nous l’aborderons lors de la projection du film “La Martinique aux Martiniquais – L’Affaire de l’OJAM” de la réalisatrice martiniquaise Camille Mauduech. La projection sera suivie d’un échange en présence de la réalisatrice. #fabriquedecoloniale #zistlit \nInscription obligatoire. Venez nombreux ! \nNos événements sont gratuits\ncontact@fabriquedecoloniale.org \n\n\n\n\nTOM\, Téat’ Otonom Mawon \, Croix Mission\, Boulevard du Général de Gaulle\, 122 rue Victor Sévère\, Fort de France
URL:https://www.buzzmagmartinique.com/evenement/projection-debat-laffaire-de-lojam-au-tom-fort-de-france-2/
LOCATION:TOM\, Téat’ Otonom Mawon\, Croix Mission\, Boulevard du Général de Gaulle\, Fort de France\, 97200\, Martinique
CATEGORIES:Art & Culture
ATTACH;FMTTYPE=image/webp:https://www.buzzmagmartinique.com/wp-content/uploads/2024/09/IMG-20260225-WA0005.webp
END:VEVENT
BEGIN:VEVENT
DTSTART;TZID=Europe/Paris:20260227T190000
DTEND;TZID=Europe/Paris:20260227T220000
DTSTAMP:20260423T105800
CREATED:20250805T143758Z
LAST-MODIFIED:20260224T213327Z
UID:10063191-1772218800-1772229600@www.buzzmagmartinique.com
SUMMARY:PROJECTION-DÉBAT "L'AFFAIRE DE L'OJAM"  AU TOM\, FORT DE FRANCE
DESCRIPTION:La Fabrique fait son carême\, jour 3 ! \nLe 22 décembre 1962\, l’OJAM\, Organisation de la Jeunesse Anticolonialiste de la Martinique\, affiche clandestinement\, sur tous les bâtiments publics de l’île\, son manifeste “La Martinique aux Martiniquais”. Nous sommes en plein contexte mondial de décolonisation\, tout juste après la défaite de la France lors de la guerre d’Algérie\, et le pouvoir gaulliste craint que les troubles “sécessionnistes” s’étendent à ses “vieilles colonies”. \nJosiane Saint-Louis-Augustin\, Rodolphe Désiré\, Renaud de Grandmaison\, Henri Pied\, Victor Lessort\, Marc Pulvar\, Joseph René-Corail\, Léon Sainte-Rose\, Gesner Mencé… voici quelques uns des noms de ces jeunes militants\, souvent étudiants\, qui seront arrêtés puis transféré à la prison de Frênes à Paris. Ils seront inculpés pour complot et atteinte à la sécurité du territoire dans un long procès médiatique. \nMais qu’était vraiment l’OJAM ? L’indépendance de la Martinique s’est-elle jouée en 1962 ? Que viennent faire ceux qui n’ont pas été arrêtés (Glissant\, Béville\, Manville) dans cette histoire? \nTout cela nous l’aborderons lors de la projection du film “La Martinique aux Martiniquais – L’Affaire de l’OJAM” de la réalisatrice martiniquaise Camille Mauduech. La projection sera suivie d’un échange en présence de la réalisatrice. #fabriquedecoloniale #zistlit \nInscription obligatoire. Venez nombreux ! \nNos événements sont gratuits\ncontact@fabriquedecoloniale.org \n\nTOM\, Téat’ Otonom Mawon \, Croix Mission\, Boulevard du Général de Gaulle\, 122 rue Victor Sévère\, Fort de France \n \n 
URL:https://www.buzzmagmartinique.com/evenement/projection-debat-laffaire-de-lojam-au-tom-fort-de-france/
LOCATION:TOM\, Téat’ Otonom Mawon\, Croix Mission\, Boulevard du Général de Gaulle\, Fort de France\, 97200\, Martinique
CATEGORIES:Art & Culture
ATTACH;FMTTYPE=image/webp:https://www.buzzmagmartinique.com/wp-content/uploads/2025/08/IMG-20260220-WA0014.webp
ORGANIZER;CN="La Fabrique D%C3%A9coloniale":MAILTO:contact@fabriquedecoloniale.org
END:VEVENT
BEGIN:VEVENT
DTSTART;TZID=America/Martinique:20260226T190000
DTEND;TZID=America/Martinique:20260226T220000
DTSTAMP:20260423T105800
CREATED:20251014T121257Z
LAST-MODIFIED:20260220T124516Z
UID:10068624-1772132400-1772143200@www.buzzmagmartinique.com
SUMMARY:PRÉSENTATTION & DÉBAT AUTOUR DU LIVRE "AN TI PONMPONM À FOYAL..." AU TOM\, FORT DE FRANCE
DESCRIPTION:La Fabrique décoloniale fait son carême\, 2e jour ! \nLe 26 Février à 19h\, présentation et débat autour du livre “An ti ponmponm Foyal: la grammaire décoloniale d’Aimé Césaire” d’Elisabeth Landi. \nIl est d’usage d’opposer Aimé Césaire le politique et Aimé Césaire le poète. L’un serait accommodant et conventionnel \, l’autre un révolutionnaire. Pourtant\, Fort-de-France offre un exemple rare et puissant d’une urbanité pensée comme langage politique. Durant plusieurs décennies\, sous le long mandat d’Aimé Césaire\, les choix symboliques opérés dans l’espace public – statues laissées mutilées\, places renommées\, rues conservées ou débaptisées\, sculptures insurgées\, toponymie militante – ont contribué à écrire une « grammaire décoloniale » inscrite dans la pierre\, le végétal et le récit. Ce travail d’urbanisme poétique transforme la ville en un texte vivant\, où chaque lieu engage une réflexion sur l’histoire coloniale\, la justice\, la mémoire et l’émancipation. \nVenez échanger et discuter avec nous autour de cette approche historique innovante de l’héritage césairien. \nElisabeth Landi est professeur de chaire supérieure en classes préparatoires et agrégée d’Histoire. C’est un membre fondateur de la Fabrique décoloniale. \nNos événements sont gratuits \ncontact@fabriquedecoloniale.org \n\n\n\n\nTOM\, Téat’ Otonom Mawon \, Croix Mission\, Boulevard du Général de Gaulle\, 122 rue Victor Sévère\, Fort de France
URL:https://www.buzzmagmartinique.com/evenement/presentattion-debat-autour-du-livre-an-ti-ponmponm-a-foyal-au-tom-fort-de-france/
LOCATION:TOM\, Téat’ Otonom Mawon\, Croix Mission\, Boulevard du Général de Gaulle\, Fort de France\, 97200\, Martinique
CATEGORIES:Art & Culture
ATTACH;FMTTYPE=image/webp:https://www.buzzmagmartinique.com/wp-content/uploads/2025/10/tempFileForShare_20260219-2056521.webp
END:VEVENT
BEGIN:VEVENT
DTSTART;TZID=America/Halifax:20260224T190000
DTEND;TZID=America/Halifax:20260224T210000
DTSTAMP:20260423T105800
CREATED:20241224T120407Z
LAST-MODIFIED:20260223T124451Z
UID:10013352-1771959600-1771966800@www.buzzmagmartinique.com
SUMMARY:SESSION ÉDUCATIVE "LA MORT" PAR CLUB ÉLOQUENCE 972 AU TOM TÉYAT OTONOM MAWON\, FORT DE FRANCE
DESCRIPTION:TOM\, Téat’ Otonom Mawon \, Croix Mission\, Boulevard du Général de Gaulle\, 122 rue Victor Sévère\, Fort de France \n \n  \nClub Éloquence 972\, 0696 75 71 69 \n \n 
URL:https://www.buzzmagmartinique.com/evenement/session-educative-linfluence-par-club-eloquence-972/
LOCATION:TOM\, Téat’ Otonom Mawon\, Croix Mission\, Boulevard du Général de Gaulle\, Fort de France\, 97200\, Martinique
CATEGORIES:Art & Culture
ATTACH;FMTTYPE=image/webp:https://www.buzzmagmartinique.com/wp-content/uploads/2024/12/IMG-20260221-WA0022.webp
END:VEVENT
BEGIN:VEVENT
DTSTART;TZID=America/Martinique:20260205T183000
DTEND;TZID=America/Martinique:20260205T220000
DTSTAMP:20260423T105800
CREATED:20240422T193820Z
LAST-MODIFIED:20260202T193855Z
UID:10015425-1770316200-1770328800@www.buzzmagmartinique.com
SUMMARY:BOKANTAJ AVEC ASHAKI & DÎNER DANSANT AVEC KOLO BARST AU TOM\, FORT DE FRANCE
DESCRIPTION:DANS LE CADRE DU MOIS DE KAMA \nTHE ETHIOPIAN WORLD FEDERATION INCORPORATED LOCAL DE MARTINIQUE YEMIKELAKEL SEVEN \nvous invite au Festival IFAM \nITAL FOOD ARTS & MUSIC \n  \nPortes ouvertes dès 18h \nVenez découvrir les actions de Bob Marley en tant que Panafricain avec Ashaki Grangenois puis dîner en toute détente et en conscience sur les mélodies de Kolo Barst \nTarif à l’entrée : participation solidaire pour soutenir The Ethiopian world Federation incorporated Yemikelakel 7  \n  \n\nTOM\, Téat’ Otonom Mawon \, Croix Mission\, Boulevard du Général de Gaulle\, 122 rue Victor Sévère\, Fort de France
URL:https://www.buzzmagmartinique.com/evenement/bokantaj-avec-ashaki-diner-dansant-avec-kolo-barst-au-tom-fort-de-france/
LOCATION:TOM\, Téat’ Otonom Mawon\, Croix Mission\, Boulevard du Général de Gaulle\, Fort de France\, 97200\, Martinique
CATEGORIES:Art & Culture
ATTACH;FMTTYPE=image/webp:https://www.buzzmagmartinique.com/wp-content/uploads/2024/04/IMG-20260127-WA0026.webp
END:VEVENT
BEGIN:VEVENT
DTSTART;TZID=America/Martinique:20260203T180000
DTEND;TZID=America/Martinique:20260203T200000
DTSTAMP:20260423T105800
CREATED:20250424T151608Z
LAST-MODIFIED:20260127T150334Z
UID:10015460-1770141600-1770148800@www.buzzmagmartinique.com
SUMMARY:CONFÉRENCE-DÉBAT "UNE ÉCONOMIE SOCIALE ET SOLIDAIRE EST-ELLE POSSIBLE EN MARTINIQUE?" AU TOM\, FORT DE FRANCE
DESCRIPTION:Rejoignez-nous pour une conférence-débat sur la thématique : « Une économie sociale et solidaire est-elle possible en Martinique ? » \nAvec :\n️Francette Florimond – Journaliste économique et auteure\n️Raphaelle Goma – Directrice de France Active Martinique\n️Hector Elizabeth – Sociologue\n️Michel Monlouis – Président de la CRESS Martinique \nL’évènement est gratuit mais nous vous prions de vous inscrire\, https://framaforms.org/inscription-a-la-conference-debat-du-030226-au-tom-1768942136 \nVenez partager vos expériences\, vos questionnements et vos perspectives pour construire ensemble une économie plus humaine et résiliente. \n\nTOM\, Téat’ Otonom Mawon \, Croix Mission\, Boulevard du Général de Gaulle\, 122 rue Victor Sévère\, Fort de France
URL:https://www.buzzmagmartinique.com/evenement/conference-debat-une-economie-sociale-et-solidaire-est-elle-possible-en-martinique-au-tom-fort-de-france/
LOCATION:TOM\, Téat’ Otonom Mawon\, Croix Mission\, Boulevard du Général de Gaulle\, Fort de France\, 97200\, Martinique
CATEGORIES:Buzziness
ATTACH;FMTTYPE=image/webp:https://www.buzzmagmartinique.com/wp-content/uploads/2025/04/IMG-20260126-WA0022.webp
END:VEVENT
BEGIN:VEVENT
DTSTART;TZID=Europe/Paris:20260131T130000
DTEND;TZID=Europe/Paris:20260131T160000
DTSTAMP:20260423T105800
CREATED:20220804T113636Z
LAST-MODIFIED:20260115T151329Z
UID:10060694-1769864400-1769875200@www.buzzmagmartinique.com
SUMMARY:ATELIER THÉÂTRE & ÉCRITURE DE PLATEAU "LE PLATEAU" PAR LA COMPAGNIE PLUME D'ANANAS AU TOM\, FORT DE FRANCE
DESCRIPTION:LE PLATEAU \nAtelier théâtre & écriture de plateau \nUn espace où les idées se testent\, se jouent\, se transforment.\nOn crée.\nOn joue.\nOn écrit.\nOn ose. \nIci\, les mots quittent la page pour rencontrer le plateau.\nOn explore\, on improvise\, on rit\, on cherche\, on essaye — ensemble. \nUn atelier convivial et vivant\, ouvert à tous les adultes curieux\, artistes en devenir ou simples passionnés de scène. \nInfos : +596696 65 64 28 \n  \n\nTOM\, Téat’ Otonom Mawon \, Croix Mission\, Boulevard du Général de Gaulle\, 122 rue Victor Sévère\, Fort de France
URL:https://www.buzzmagmartinique.com/evenement/atelier-theatre-ecriture-de-plateau-le-plateau-par-la-compagnie-plume-dananas-au-tom-fort-de-france/
LOCATION:TOM\, Téat’ Otonom Mawon\, Croix Mission\, Boulevard du Général de Gaulle\, Fort de France\, 97200\, Martinique
CATEGORIES:Art & Culture
ATTACH;FMTTYPE=image/webp:https://www.buzzmagmartinique.com/wp-content/uploads/2022/08/IMG-20260114-WA0020.webp
END:VEVENT
BEGIN:VEVENT
DTSTART;TZID=America/Martinique:20260120T190000
DTEND;TZID=America/Martinique:20260120T210000
DTSTAMP:20260423T105800
CREATED:20250922T130415Z
LAST-MODIFIED:20260116T140009Z
UID:10051258-1768935600-1768942800@www.buzzmagmartinique.com
SUMMARY:SESSION ÉDUCATIVE "RENOUVEAU" AU TOM\, FORT DE FRANCE
DESCRIPTION:TOM\, Téat’ Otonom Mawon \, Croix Mission\, Boulevard du Général de Gaulle\, 122 rue Victor Sévère\, Fort de France \n \n  \nClub Eloquence 972\, 0696 75 71 69
URL:https://www.buzzmagmartinique.com/evenement/session-educative-renouveau-au-tom-fort-de-france/
LOCATION:TOM\, Téat’ Otonom Mawon\, Croix Mission\, Boulevard du Général de Gaulle\, Fort de France\, 97200\, Martinique
CATEGORIES:Art & Culture
ATTACH;FMTTYPE=image/webp:https://www.buzzmagmartinique.com/wp-content/uploads/2025/09/IMG-20260115-WA0027.webp
ORGANIZER;CN="Club Eloquence 972":MAILTO:eloquence972@gmail.com
END:VEVENT
END:VCALENDAR