BEGIN:VCALENDAR
VERSION:2.0
PRODID:-//Buzzmag - ECPv6.15.20//NONSGML v1.0//EN
CALSCALE:GREGORIAN
METHOD:PUBLISH
X-WR-CALNAME:Buzzmag
X-ORIGINAL-URL:https://www.buzzmagmartinique.com
X-WR-CALDESC:Évènements pour Buzzmag
REFRESH-INTERVAL;VALUE=DURATION:PT1H
X-Robots-Tag:noindex
X-PUBLISHED-TTL:PT1H
BEGIN:VTIMEZONE
TZID:America/Halifax
BEGIN:DAYLIGHT
TZOFFSETFROM:-0400
TZOFFSETTO:-0300
TZNAME:ADT
DTSTART:20230312T060000
END:DAYLIGHT
BEGIN:STANDARD
TZOFFSETFROM:-0300
TZOFFSETTO:-0400
TZNAME:AST
DTSTART:20231105T050000
END:STANDARD
BEGIN:DAYLIGHT
TZOFFSETFROM:-0400
TZOFFSETTO:-0300
TZNAME:ADT
DTSTART:20240310T060000
END:DAYLIGHT
BEGIN:STANDARD
TZOFFSETFROM:-0300
TZOFFSETTO:-0400
TZNAME:AST
DTSTART:20241103T050000
END:STANDARD
BEGIN:DAYLIGHT
TZOFFSETFROM:-0400
TZOFFSETTO:-0300
TZNAME:ADT
DTSTART:20250309T060000
END:DAYLIGHT
BEGIN:STANDARD
TZOFFSETFROM:-0300
TZOFFSETTO:-0400
TZNAME:AST
DTSTART:20251102T050000
END:STANDARD
END:VTIMEZONE
BEGIN:VEVENT
DTSTART;TZID=America/Halifax:20240826T200000
DTEND;TZID=America/Halifax:20240826T230000
DTSTAMP:20260422T014330
CREATED:20240812T095638Z
LAST-MODIFIED:20240826T152250Z
UID:10002601-1724702400-1724713200@www.buzzmagmartinique.com
SUMMARY:MUSIQUE LIVE À L'INDIGO FACTORY\, LE MARIN
DESCRIPTION:Restaurant Indigo Factory\, Marina du Marin\, 0596 74 76 74
URL:https://www.buzzmagmartinique.com/evenement/musique-live-a-lindigo-factory-le-marin/
LOCATION:Restaurant Indigo Factory\, Marina du Marin\, Le Marin\, 97290\, Martinique
CATEGORIES:Soirée
ATTACH;FMTTYPE=image/jpeg:https://www.buzzmagmartinique.com/wp-content/uploads/2024/08/IMG-20240824-WA0028.jpg
END:VEVENT
END:VCALENDAR