BEGIN:VCALENDAR
VERSION:2.0
PRODID:-//Buzzmag - ECPv6.15.20//NONSGML v1.0//EN
CALSCALE:GREGORIAN
METHOD:PUBLISH
X-WR-CALNAME:Buzzmag
X-ORIGINAL-URL:https://www.buzzmagmartinique.com
X-WR-CALDESC:Évènements pour Buzzmag
REFRESH-INTERVAL;VALUE=DURATION:PT1H
X-Robots-Tag:noindex
X-PUBLISHED-TTL:PT1H
BEGIN:VTIMEZONE
TZID:Europe/Paris
BEGIN:DAYLIGHT
TZOFFSETFROM:+0100
TZOFFSETTO:+0200
TZNAME:CEST
DTSTART:20250330T010000
END:DAYLIGHT
BEGIN:STANDARD
TZOFFSETFROM:+0200
TZOFFSETTO:+0100
TZNAME:CET
DTSTART:20251026T010000
END:STANDARD
BEGIN:DAYLIGHT
TZOFFSETFROM:+0100
TZOFFSETTO:+0200
TZNAME:CEST
DTSTART:20260329T010000
END:DAYLIGHT
BEGIN:STANDARD
TZOFFSETFROM:+0200
TZOFFSETTO:+0100
TZNAME:CET
DTSTART:20261025T010000
END:STANDARD
BEGIN:DAYLIGHT
TZOFFSETFROM:+0100
TZOFFSETTO:+0200
TZNAME:CEST
DTSTART:20270328T010000
END:DAYLIGHT
BEGIN:STANDARD
TZOFFSETFROM:+0200
TZOFFSETTO:+0100
TZNAME:CET
DTSTART:20271031T010000
END:STANDARD
END:VTIMEZONE
BEGIN:VEVENT
DTSTART;TZID=Europe/Paris:20260425T070000
DTEND;TZID=Europe/Paris:20260425T120000
DTSTAMP:20260423T145745
CREATED:20241203T194145Z
LAST-MODIFIED:20260422T133107Z
UID:10042760-1777100400-1777118400@www.buzzmagmartinique.com
SUMMARY:MARCHÉ BIO PAR RE-BÈL BIO À LA FERME PERRINE\, LE LAMENTIN
DESCRIPTION:Au marché BIO alimentaire mais pas que\, des fleurs\, des accessoires\, du bien être et …du partage.\n\nPlus d’infos cliquez ICI\n\nRE-BÈL BIO\, La Ferme de Perrine\, Chemin Carrère\, Le Lamentin\, 0696 03 55 57
URL:https://www.buzzmagmartinique.com/evenement/marche-bio-par-re-bel-bio-a-la-ferme-perrine-le-lamentin-2023-02-25-2-3/2026-04-25/
LOCATION:Re-Bèl Bio\, La Ferme de Perrine\, Chemin Carrère\, Le Lamentin\, 97232\, Martinique
CATEGORIES:Marché
ATTACH;FMTTYPE=image/jpeg:https://www.buzzmagmartinique.com/wp-content/uploads/2019/03/369043980_704565328361577_4403149789245636175_n.jpg
ORGANIZER;CN="Re-B%C3%A8l Bio":MAILTO:r.belbio972@gmail.com
END:VEVENT
END:VCALENDAR