BEGIN:VCALENDAR
VERSION:2.0
PRODID:-//Buzzmag - ECPv6.15.20//NONSGML v1.0//EN
CALSCALE:GREGORIAN
METHOD:PUBLISH
X-WR-CALNAME:Buzzmag
X-ORIGINAL-URL:https://www.buzzmagmartinique.com
X-WR-CALDESC:Évènements pour Buzzmag
REFRESH-INTERVAL;VALUE=DURATION:PT1H
X-Robots-Tag:noindex
X-PUBLISHED-TTL:PT1H
BEGIN:VTIMEZONE
TZID:Europe/Paris
BEGIN:DAYLIGHT
TZOFFSETFROM:+0100
TZOFFSETTO:+0200
TZNAME:CEST
DTSTART:20250330T010000
END:DAYLIGHT
BEGIN:STANDARD
TZOFFSETFROM:+0200
TZOFFSETTO:+0100
TZNAME:CET
DTSTART:20251026T010000
END:STANDARD
BEGIN:DAYLIGHT
TZOFFSETFROM:+0100
TZOFFSETTO:+0200
TZNAME:CEST
DTSTART:20260329T010000
END:DAYLIGHT
BEGIN:STANDARD
TZOFFSETFROM:+0200
TZOFFSETTO:+0100
TZNAME:CET
DTSTART:20261025T010000
END:STANDARD
BEGIN:DAYLIGHT
TZOFFSETFROM:+0100
TZOFFSETTO:+0200
TZNAME:CEST
DTSTART:20270328T010000
END:DAYLIGHT
BEGIN:STANDARD
TZOFFSETFROM:+0200
TZOFFSETTO:+0100
TZNAME:CET
DTSTART:20271031T010000
END:STANDARD
END:VTIMEZONE
BEGIN:VTIMEZONE
TZID:Europe/Paris
BEGIN:DAYLIGHT
TZOFFSETFROM:+0100
TZOFFSETTO:+0200
TZNAME:CEST
DTSTART:20250330T010000
END:DAYLIGHT
BEGIN:STANDARD
TZOFFSETFROM:+0200
TZOFFSETTO:+0100
TZNAME:CET
DTSTART:20251026T010000
END:STANDARD
BEGIN:DAYLIGHT
TZOFFSETFROM:+0100
TZOFFSETTO:+0200
TZNAME:CEST
DTSTART:20260329T010000
END:DAYLIGHT
BEGIN:STANDARD
TZOFFSETFROM:+0200
TZOFFSETTO:+0100
TZNAME:CET
DTSTART:20261025T010000
END:STANDARD
BEGIN:DAYLIGHT
TZOFFSETFROM:+0100
TZOFFSETTO:+0200
TZNAME:CEST
DTSTART:20270328T010000
END:DAYLIGHT
BEGIN:STANDARD
TZOFFSETFROM:+0200
TZOFFSETTO:+0100
TZNAME:CET
DTSTART:20271031T010000
END:STANDARD
END:VTIMEZONE
BEGIN:VEVENT
DTSTART;TZID=Europe/Paris:20260422T133000
DTEND;TZID=Europe/Paris:20260422T173000
DTSTAMP:20260423T161041
CREATED:20220127T143655Z
LAST-MODIFIED:20260402T150059Z
UID:10082294-1776864600-1776879000@www.buzzmagmartinique.com
SUMMARY:CYCLE DE PROJECTIONS "MWA SILÉMA LAKARAYIB" À L'UNIVERSITÉ DES ANTILLES\, SCHOELCHER
DESCRIPTION:La Faculté Jean Bernabé vous invite à découvrir le « Mwa Siléma Lakarayib »\, un cycle de projections\, gratuit et ouvert à tous\, consacré aux cinémas de la Caraïbe et de l’océan Indien.Organisé avec la participation des étudiants de la licence Créole\, ce rendez-vous sera l’occasion de découvrir des œuvres cinématographiques issues de la Caraïbe et de l’océan Indien et d’échanger autour des thématiques abordées.Tous les mercredisDu 25 mars au 20 mai 202613h30 – 17h30Salle 10 – Faculté Jean BernabéConsulter le programme complet :https://www.calameo.com/read/00561866757cf7ec89ce1Responsable et coordinateur : David Khatile. \n\nNous espérons vous y retrouver nombreuses et nombreux. \n\n\n\n\n\n\n\n\n\n\n\n\n\n\n\n\nPôle Universitaire de la Martinique\, Campus de Schœlcher\, 0596 72 73 01 \n \n 
URL:https://www.buzzmagmartinique.com/evenement/cycle-de-projections-mwa-silema-lakarayib-a-luniversite-des-antilles-schoelcher/2026-04-22/
LOCATION:Pôle Universitaire de la Martinique\, Campus de Schœlcher\, Schœlcher\, 97275\, Martinique
CATEGORIES:Art & Culture
ATTACH;FMTTYPE=image/webp:https://www.buzzmagmartinique.com/wp-content/uploads/2022/01/657881920_1344850534356747_6435589554606091381_n.webp
END:VEVENT
BEGIN:VEVENT
DTSTART;TZID=Europe/Paris:20260422T073000
DTEND;TZID=Europe/Paris:20260422T190000
DTSTAMP:20260423T161041
CREATED:20181204T115549Z
LAST-MODIFIED:20260326T154116Z
UID:10081937-1776843000-1776884400@www.buzzmagmartinique.com
SUMMARY:EXPOSITION "TRENTE ANS DE SÉDIMENTATION D'UNE FEMME-MONDE" PAR BABOO MÉLIBOO À L'UNIVERSITÉ DES ANTILLES\, SCHOELCHER
DESCRIPTION:Une œuvre qui s’écrit.\n\nUne œuvre qui s’incarne.\n\n« Trente ans de sédimentation d’une Femme-Monde »\n\nUne exposition conçue par Baboo Méliboo autour de l’univers de Nicole Cage.\n\nElle ouvrira la table ronde le 27 mars à 16h : « Nicole Cage – 30 ans d’écriture. Regard croisés sur un parcours et une œuvre pluriels.\n\nBU Campus de Schœlcher\n\nExpo visible du 27 mars au 30 avril\n\nPôle Universitaire de la Martinique\, Campus de Schœlcher\, Schœlcher\, 0596 72 73 01
URL:https://www.buzzmagmartinique.com/evenement/exposition-trente-ans-de-sedimentation-dune-femme-monde-par-baboo-meliboo-a-luniversite-des-antilles-schoelcher/2026-04-22/
LOCATION:Pôle Universitaire de la Martinique\, Campus de Schœlcher\, Schœlcher\, 97275\, Martinique
CATEGORIES:Art & Culture
ATTACH;FMTTYPE=image/webp:https://www.buzzmagmartinique.com/wp-content/uploads/2018/12/656269372_18415759453123113_5723085668502980091_n1.webp
END:VEVENT
BEGIN:VEVENT
DTSTART;TZID=Europe/Paris:20260328T080000
DTEND;TZID=Europe/Paris:20260328T120000
DTSTAMP:20260423T161041
CREATED:20241002T132731Z
LAST-MODIFIED:20260327T192231Z
UID:10016258-1774684800-1774699200@www.buzzmagmartinique.com
SUMMARY:HANDBALL "BABYHAND TOUR" SUR LE CAMPUS DE L'UA\, SCHOELCHER
DESCRIPTION:Top départ du BabyHand Tour ! \nLe 1er regroupement dédié aux tout-petits est lancé \nLes enfants de 3 à 5 ans auront l’occasion de découvrir le handball le 28 mars 2026 de 8h30 à 12h sur le campus de Schoelcher ! \nUn moment idéal pour faire ses premiers pas dans le handball tout en s’amusant \nOn vous attend nombreux pour ce premier rendez-vous du BabyHand Tour ! \n\nLigue de Handball de Martinique\, 6600000@ffhandball.net
URL:https://www.buzzmagmartinique.com/evenement/handball-babyhand-tour-sur-le-campus-de-lua-schoelcher/
LOCATION:Pôle Universitaire de la Martinique\, Campus de Schœlcher\, Schœlcher\, 97275\, Martinique
CATEGORIES:Jeune public,Sport
ATTACH;FMTTYPE=image/webp:https://www.buzzmagmartinique.com/wp-content/uploads/2024/10/03-28-HANDBALL.webp
ORGANIZER;CN="Ligue de Handball de Martinique":MAILTO:6600000@ffhandball.net
END:VEVENT
BEGIN:VEVENT
DTSTART;TZID=Europe/Paris:20260327T160000
DTEND;TZID=Europe/Paris:20260327T200000
DTSTAMP:20260423T161041
CREATED:20240122T130629Z
LAST-MODIFIED:20260331T235144Z
UID:10052763-1774627200-1774641600@www.buzzmagmartinique.com
SUMMARY:CONFÉRENCE "LES KALINAGO AUTOUR DU MANUSCRIT DE L'ANONYME DE CARPENTRAS" À L'UNIVERSITÉ DES ANTILLES\, SCHOELCHER
DESCRIPTION:La BU du campus de Schœlcher a le plaisir de vous inviter à la conférence « Les Kalinago autour du manuscrit de l’Anonyme de Carpentras » \nMardi 14 avril à 17h \nAuditorium Danielle Bégot (Campus de Schoelcher) \nAvec :– Des Indiens sans plume. Écrire une histoire des Antilles autochtones au XVIIe siècle : sources\, silences et médiations par Benoît Roux\, Chercheur de l’ERIAC (UR 4705) – Chercheur associé à Mondes Américains — ESNA (UMR 8168)et– Construire une kanawa chez les Kalinago\, un regard anonyme par Benoît Bérard\, Professeur des universités en archéologie précolombienne\, Université des Antilles\, Chercheur associé UMR ArchAm.Entrée gratuite\, dans la limite des places disponibles. \n  \n\nPôle Universitaire de la Martinique\, Campus de Schœlcher\, 0596 72 73 01
URL:https://www.buzzmagmartinique.com/evenement/conference-les-kalinago-autour-du-manuscrit-de-lanonyme-de-carpentras-a-luniversite-des-antilles-schoelcher/
LOCATION:Pôle Universitaire de la Martinique\, Campus de Schœlcher\, Schœlcher\, 97275\, Martinique
CATEGORIES:Art & Culture
ATTACH;FMTTYPE=image/webp:https://www.buzzmagmartinique.com/wp-content/uploads/2024/01/658919759_1344845574357243_3289280813481692561_n1.webp
END:VEVENT
END:VCALENDAR