BEGIN:VCALENDAR
VERSION:2.0
PRODID:-//Buzzmag - ECPv6.15.20//NONSGML v1.0//EN
CALSCALE:GREGORIAN
METHOD:PUBLISH
X-ORIGINAL-URL:https://www.buzzmagmartinique.com
X-WR-CALDESC:Évènements pour Buzzmag
REFRESH-INTERVAL;VALUE=DURATION:PT1H
X-Robots-Tag:noindex
X-PUBLISHED-TTL:PT1H
BEGIN:VTIMEZONE
TZID:Europe/Paris
BEGIN:DAYLIGHT
TZOFFSETFROM:+0100
TZOFFSETTO:+0200
TZNAME:CEST
DTSTART:20240331T010000
END:DAYLIGHT
BEGIN:STANDARD
TZOFFSETFROM:+0200
TZOFFSETTO:+0100
TZNAME:CET
DTSTART:20241027T010000
END:STANDARD
BEGIN:DAYLIGHT
TZOFFSETFROM:+0100
TZOFFSETTO:+0200
TZNAME:CEST
DTSTART:20250330T010000
END:DAYLIGHT
BEGIN:STANDARD
TZOFFSETFROM:+0200
TZOFFSETTO:+0100
TZNAME:CET
DTSTART:20251026T010000
END:STANDARD
BEGIN:DAYLIGHT
TZOFFSETFROM:+0100
TZOFFSETTO:+0200
TZNAME:CEST
DTSTART:20260329T010000
END:DAYLIGHT
BEGIN:STANDARD
TZOFFSETFROM:+0200
TZOFFSETTO:+0100
TZNAME:CET
DTSTART:20261025T010000
END:STANDARD
END:VTIMEZONE
BEGIN:VEVENT
DTSTART;TZID=Europe/Paris:20250706T120000
DTEND;TZID=Europe/Paris:20250706T150000
DTSTAMP:20260424T142533
CREATED:20190112T152947Z
LAST-MODIFIED:20250630T133501Z
UID:10018649-1751803200-1751814000@www.buzzmagmartinique.com
SUMMARY:MUSIQUE LIVE "BEACH LOVE" À PIERRE & VACANCES\, SAINTE LUCE
DESCRIPTION:Pierre & Vacances – Sainte Luce\, Pointe Philippeau\, Sainte-Luce\, 0596 62 12 62
URL:https://www.buzzmagmartinique.com/evenement/musique-live-beach-love-a-pierre-vacances-sainte-luce/
LOCATION:Pierre & Vacances – Sainte Luce\, Pointe Philippeau\, Sainte-Luce\, 97228
CATEGORIES:Soirée
ATTACH;FMTTYPE=image/webp:https://www.buzzmagmartinique.com/wp-content/uploads/2019/01/513464914_1922333991836892_2443535035763113832_n.webp
END:VEVENT
END:VCALENDAR