BEGIN:VCALENDAR
VERSION:2.0
PRODID:-//Buzzmag - ECPv6.15.20//NONSGML v1.0//EN
CALSCALE:GREGORIAN
METHOD:PUBLISH
X-ORIGINAL-URL:https://www.buzzmagmartinique.com
X-WR-CALDESC:Évènements pour Buzzmag
REFRESH-INTERVAL;VALUE=DURATION:PT1H
X-Robots-Tag:noindex
X-PUBLISHED-TTL:PT1H
BEGIN:VTIMEZONE
TZID:Europe/Paris
BEGIN:DAYLIGHT
TZOFFSETFROM:+0100
TZOFFSETTO:+0200
TZNAME:CEST
DTSTART:20240331T010000
END:DAYLIGHT
BEGIN:STANDARD
TZOFFSETFROM:+0200
TZOFFSETTO:+0100
TZNAME:CET
DTSTART:20241027T010000
END:STANDARD
BEGIN:DAYLIGHT
TZOFFSETFROM:+0100
TZOFFSETTO:+0200
TZNAME:CEST
DTSTART:20250330T010000
END:DAYLIGHT
BEGIN:STANDARD
TZOFFSETFROM:+0200
TZOFFSETTO:+0100
TZNAME:CET
DTSTART:20251026T010000
END:STANDARD
BEGIN:DAYLIGHT
TZOFFSETFROM:+0100
TZOFFSETTO:+0200
TZNAME:CEST
DTSTART:20260329T010000
END:DAYLIGHT
BEGIN:STANDARD
TZOFFSETFROM:+0200
TZOFFSETTO:+0100
TZNAME:CET
DTSTART:20261025T010000
END:STANDARD
BEGIN:DAYLIGHT
TZOFFSETFROM:+0100
TZOFFSETTO:+0200
TZNAME:CEST
DTSTART:20270328T010000
END:DAYLIGHT
BEGIN:STANDARD
TZOFFSETFROM:+0200
TZOFFSETTO:+0100
TZNAME:CET
DTSTART:20271031T010000
END:STANDARD
END:VTIMEZONE
BEGIN:VTIMEZONE
TZID:Europe/Paris
BEGIN:DAYLIGHT
TZOFFSETFROM:+0100
TZOFFSETTO:+0200
TZNAME:CEST
DTSTART:20240331T010000
END:DAYLIGHT
BEGIN:STANDARD
TZOFFSETFROM:+0200
TZOFFSETTO:+0100
TZNAME:CET
DTSTART:20241027T010000
END:STANDARD
BEGIN:DAYLIGHT
TZOFFSETFROM:+0100
TZOFFSETTO:+0200
TZNAME:CEST
DTSTART:20250330T010000
END:DAYLIGHT
BEGIN:STANDARD
TZOFFSETFROM:+0200
TZOFFSETTO:+0100
TZNAME:CET
DTSTART:20251026T010000
END:STANDARD
BEGIN:DAYLIGHT
TZOFFSETFROM:+0100
TZOFFSETTO:+0200
TZNAME:CEST
DTSTART:20260329T010000
END:DAYLIGHT
BEGIN:STANDARD
TZOFFSETFROM:+0200
TZOFFSETTO:+0100
TZNAME:CET
DTSTART:20261025T010000
END:STANDARD
END:VTIMEZONE
BEGIN:VTIMEZONE
TZID:America/Halifax
BEGIN:DAYLIGHT
TZOFFSETFROM:-0400
TZOFFSETTO:-0300
TZNAME:ADT
DTSTART:20240310T060000
END:DAYLIGHT
BEGIN:STANDARD
TZOFFSETFROM:-0300
TZOFFSETTO:-0400
TZNAME:AST
DTSTART:20241103T050000
END:STANDARD
BEGIN:DAYLIGHT
TZOFFSETFROM:-0400
TZOFFSETTO:-0300
TZNAME:ADT
DTSTART:20250309T060000
END:DAYLIGHT
BEGIN:STANDARD
TZOFFSETFROM:-0300
TZOFFSETTO:-0400
TZNAME:AST
DTSTART:20251102T050000
END:STANDARD
BEGIN:DAYLIGHT
TZOFFSETFROM:-0400
TZOFFSETTO:-0300
TZNAME:ADT
DTSTART:20260308T060000
END:DAYLIGHT
BEGIN:STANDARD
TZOFFSETFROM:-0300
TZOFFSETTO:-0400
TZNAME:AST
DTSTART:20261101T050000
END:STANDARD
END:VTIMEZONE
BEGIN:VTIMEZONE
TZID:America/Martinique
BEGIN:STANDARD
TZOFFSETFROM:-0400
TZOFFSETTO:-0400
TZNAME:AST
DTSTART:20240101T000000
END:STANDARD
END:VTIMEZONE
BEGIN:VEVENT
DTSTART;TZID=Europe/Paris:20260421T183000
DTEND;TZID=Europe/Paris:20260421T213000
DTSTAMP:20260422T005534
CREATED:20250709T143405Z
LAST-MODIFIED:20260421T141036Z
UID:10060488-1776796200-1776807000@www.buzzmagmartinique.com
SUMMARY:ÉCHANGE "J'AI RESPIRÉ PAR LA PEAU DU VENTRE" À LA MÉDIATHÈQUE AMD\, LE SAINT ESPRIT
DESCRIPTION:𝐑𝐄𝐍𝐃𝐄𝐙-𝐕𝐎𝐔𝐒 𝐀𝐕𝐄𝐂 𝐉’𝐀𝐈 𝐑𝐄𝐒𝐏𝐈𝐑𝐄́ 𝐏𝐀𝐑 𝐋𝐀 𝐏𝐄𝐀𝐔 𝐃𝐔 𝐕𝐄𝐍𝐓𝐑𝐄 𝐃’𝐀𝐍𝐍𝐀𝐁𝐄𝐋 𝐆𝐔𝐄́𝐑𝐄́𝐃𝐑𝐀𝐓 𝐄𝐓 𝐑𝐀𝐏𝐇𝐀𝐄̈𝐋 𝐆𝐀𝐔𝐓𝐈𝐄𝐑 \nLe Centre Culturel de Rencontre Les Coulisses vous invite à un temps d’échange autour de la création « J’ai respiré par la peau du ventre »\, en présence d’Annabel Guérédrat\, chorégraphe\, danseuse et performeuse\, et de Raphaël Gautier\, guitariste (Compagnie Artincidence). \nCe projet prend la forme d’une création pluridisciplinaire mêlant danse\, musique live et performance vocale. Il explore le corps et la voix comme des espaces d’expression sensibles et politiques\, dans une esthétique qui croise écritures poétiques\, imaginaires caribéens et références afro-féministes. \nNous vous invitons à la rencontre des artistes et de leur démarche de création. \nEntrée libre\nRenseignements : 0596 56 57 71 / 0696 31 23 13 \nCrédit photo : Robert Charlotte. \n\n\n\n\n\n\n\n\nMédiathèque Alfred Melon-Dégras\, rue Schoelcher\, Saint Esprit\, 0596 61 00 07
URL:https://www.buzzmagmartinique.com/evenement/echange-jai-respire-par-la-peau-du-ventre-a-la-mediatheque-amd-le-saint-esprit/
LOCATION:Médiathèque Alfred Melon-Dégras\, Rue Schoelcher\, Le Saint Esprit\, 97270\, Martinique
CATEGORIES:Art & Culture
ATTACH;FMTTYPE=image/webp:https://www.buzzmagmartinique.com/wp-content/uploads/2025/07/IMG-20260418-WA003411.webp
END:VEVENT
BEGIN:VEVENT
DTSTART;TZID=Europe/Paris:20260204T150000
DTEND;TZID=Europe/Paris:20260204T170000
DTSTAMP:20260422T005534
CREATED:20250331T185147Z
LAST-MODIFIED:20260202T164514Z
UID:10060600-1770217200-1770224400@www.buzzmagmartinique.com
SUMMARY:ATELIER CRÉATIF LUDIQUE "DERRIÈRE MON LOUP... DEVINE QUI JE SUIS" À LA MÉDIATHÈQUE AMD\, LE SAINT ESPRIT
DESCRIPTION:La Médiathèque Alfred Melon-Dégras invite les enfants à plonger dans un univers coloré et plein d’imagination ce mercredi 4 février de 15h à 17h.Masques\, plumes\, couleurs et mystère seront au rendez-vous pour un atelier créatif ludique où chacun pourra laisser parler sa créativité… et se cacher derrière son loup.Gratuit – Places limitéesInscription : 0596 61 00 07 \n\n\n\n\n\n\n\n\nMédiathèque Alfred Melon-Dégras\, rue Schoelcher\, Saint Esprit\, 0596 61 00 07
URL:https://www.buzzmagmartinique.com/evenement/atelier-creatif-ludique-derriere-mon-loup-devine-qui-je-suis-a-la-mediatheque-amd-le-saint-esprit/
LOCATION:Médiathèque Alfred Melon-Dégras\, Rue Schoelcher\, Le Saint Esprit\, 97270\, Martinique
CATEGORIES:Jeune public
ATTACH;FMTTYPE=image/webp:https://www.buzzmagmartinique.com/wp-content/uploads/2025/03/625999585_1376696634497447_8366297881139884717_n1.webp
END:VEVENT
BEGIN:VEVENT
DTSTART;TZID=Europe/Paris:20251213T090000
DTEND;TZID=Europe/Paris:20251213T113000
DTSTAMP:20260422T005534
CREATED:20241021T182013Z
LAST-MODIFIED:20251211T150506Z
UID:10017815-1765616400-1765625400@www.buzzmagmartinique.com
SUMMARY:RENCONTRE DU CLUB À PORTÉE DE CLIC À LA MÉDIATHÈQUE AMD\, SAINT ESPRIT
DESCRIPTION:La Médiathèque du Saint-Esprit vous invite à un nouveau rendez-vous du Club À portée de clic: un moment convivial pour comprendre les bases de la cybersécurité et apprendre les bons gestes pour naviguer en ligne en toute sécurité. \nRejoignez-nous ce samedi 13 décembre de 9h à 11h30 pour un Café Cyber chaleureux et accessible à tous. \nOn vous attend nombreux pour partager\, apprendre… et rester bien protégés ! \n\n\n\n\n\n\n\n\n\n\n\n\n\n\n\n\n\n\nlundi & jeudi: 09:00 – 16:00\nmardi & mercredi: 09:00 – 18:00\nvendredi: 13:00 – 18:00\nsamedi: 09:00 – 12:00 \n\n\n\nMédiathèque Alfred Melon-Dégras\, rue Schoelcher\, Saint Esprit\, 0596 61 00 07\n\n \n\n\n\n\n 
URL:https://www.buzzmagmartinique.com/evenement/rencontre-du-club-a-portee-de-clic-a-la-mediatheque-amd-saint-esprit/
LOCATION:Médiathèque Alfred Melon-Dégras\, Rue Schoelcher\, Le Saint Esprit\, 97270\, Martinique
CATEGORIES:Art & Culture
ATTACH;FMTTYPE=image/webp:https://www.buzzmagmartinique.com/wp-content/uploads/2024/10/IMG-20251210-WA0009.webp
END:VEVENT
BEGIN:VEVENT
DTSTART;TZID=America/Halifax:20251202T190000
DTEND;TZID=America/Halifax:20251202T220000
DTSTAMP:20260422T005534
CREATED:20241104T191954Z
LAST-MODIFIED:20251201T181712Z
UID:10009664-1764702000-1764712800@www.buzzmagmartinique.com
SUMMARY:CONFÉRENCE\, ATELIER BIEN-ÊTRE "ABUNDANCIA\, DE L'ABANDON À L'ABONDANCE" À LA MÉDIATHÈQUE AMD\, LE SAINT ESPRIT
DESCRIPTION:La Médiathèque Alfred MELON-DÉGRAS vous invite à un rendez-vous dédié au bien-être et à la transformation personnelle ce mardi 2 décembre à 19h avec “Abundancia\, de l’abandon à l’abondance”\, avec Nadine JOSEPH-BONIFACE.\n\nÀ travers une conférence/atelier alliant partage et introspection\, elle vous invitera à reconnecter avec votre force intérieure et à ouvrir un nouvel espace de possibilités.\n\nLa soirée sera également marquée par la présentation du manuscrit “De la blessure à l’envol” par son auteur\, Danaus.\n\nUn moment pour se recentrer\, respirer\, se laisser guider… et cheminer vers plus de sérénité.\n  \n\n\nlundi & jeudi: 09:00 – 16:00\nmardi & mercredi: 09:00 – 18:00\nvendredi: 13:00 – 18:00\nsamedi: 09:00 – 12:00 \n\n\n\nMédiathèque Alfred Melon-Dégras\, rue Schoelcher\, Saint Esprit\, 0596 61 00 07
URL:https://www.buzzmagmartinique.com/evenement/conference-atelier-bien-etre-abundancia-de-labandon-a-labondance-a-la-mediatheque-amd-le-saint-esprit/
LOCATION:Médiathèque Alfred Melon-Dégras\, Rue Schoelcher\, Le Saint Esprit\, 97270\, Martinique
CATEGORIES:Art & Culture
ATTACH;FMTTYPE=image/webp:https://www.buzzmagmartinique.com/wp-content/uploads/2024/11/IMG-20251201-WA00021.webp
END:VEVENT
BEGIN:VEVENT
DTSTART;TZID=Europe/Paris:20251022T150000
DTEND;TZID=Europe/Paris:20251022T170000
DTSTAMP:20260422T005534
CREATED:20240917T194328Z
LAST-MODIFIED:20251017T114620Z
UID:10015288-1761145200-1761152400@www.buzzmagmartinique.com
SUMMARY:ATELIER CRÉATIF "LA MÉTÉO DES ENFANTS" À LA MÉDIATHÈQUE AMD\, SAINT ESPRIT
DESCRIPTION:𝐀𝐓𝐄𝐋𝐈𝐄𝐑 𝐂𝐑𝐄́𝐀𝐓𝐈𝐅 \nLes enfants (à partir de 3 ans) sont invités à venir explorer le soleil\, la pluie et les arcs en ciel\, à travers la peinture\, le dessin et l’imaginaire ! \nRendez-vous mercredi 22 octobre\, de 15 h à 17 h\, à la Médiathèque Alfred Melon-Dégras. \nGratuit – places limitées \nInscription au 0596 61 00 07 \n\n\n\n\n\n\n\n\n\n\n\n\n\n\n\n\nlundi & jeudi: 09:00 – 16:00\nmardi & mercredi: 09:00 – 18:00\nvendredi: 13:00 – 18:00\nsamedi: 09:00 – 12:00 \n\n\n\nMédiathèque Alfred Melon-Dégras\, rue Schoelcher\, Saint Esprit\, 0596 61 00 07\n\n \n\n\n\n\n 
URL:https://www.buzzmagmartinique.com/evenement/atelier-creatif-la-meteo-des-enfants-a-la-mediatheque-amd-saint-esprit/
LOCATION:Médiathèque Alfred Melon-Dégras\, Rue Schoelcher\, Le Saint Esprit\, 97270\, Martinique
CATEGORIES:Art & Culture,Jeune public
ATTACH;FMTTYPE=image/webp:https://www.buzzmagmartinique.com/wp-content/uploads/2024/09/IMG-20251016-WA0009.webp
END:VEVENT
BEGIN:VEVENT
DTSTART;TZID=America/Martinique:20251013T180000
DTEND;TZID=America/Martinique:20251013T200000
DTSTAMP:20260422T005534
CREATED:20240901T123809Z
LAST-MODIFIED:20251014T135818Z
UID:10007790-1760378400-1760385600@www.buzzmagmartinique.com
SUMMARY:SEMAINE DE LA SANTÉ MENTALE À LA MÉDIATHÈQUE AMD\, LE SAINT ESPRIT
DESCRIPTION:𝐒𝐄𝐌𝐀𝐈𝐍𝐄 𝐃𝐄 𝐋𝐀 𝐒𝐀𝐍𝐓𝐄́ 𝐌𝐄𝐍𝐓𝐀𝐋𝐄\nLa Ville du Saint-Esprit et l’ARS Martinique vous invitent à une journée de partage et de réflexion\, ce mercredi 15 octobre\, à la Médiathèque Alfred Melon-Dégras. \nAu programme :\n9h–12h : Restitution des ateliers\n• Bibliothérapie avec Sand’arth\n• Bèlè Thérapie avec l’Association AM4 \n18h30 : Conférence-débat\n« La santé mentale chez les jeunes » avec Malik DURANTY\, sociologue. \nL’entrée est libre. \n  \n\n\n\n\nlundi & jeudi: 09:00 – 16:00\nmardi & mercredi: 09:00 – 18:00\nvendredi: 13:00 – 18:00\nsamedi: 09:00 – 12:00 \n\n\n\nMédiathèque Alfred Melon-Dégras\, rue Schoelcher\, Saint Esprit\, 0596 61 00 07\n\n \n\n\n\n\n 
URL:https://www.buzzmagmartinique.com/evenement/semaine-de-la-sante-mentale-a-la-mediatheque-amd-le-saint-esprit/
LOCATION:Médiathèque Alfred Melon-Dégras\, Rue Schoelcher\, Le Saint Esprit\, 97270\, Martinique
CATEGORIES:Art & Culture,Santé
ATTACH;FMTTYPE=image/webp:https://www.buzzmagmartinique.com/wp-content/uploads/2024/09/IMG-20251014-WA0002.webp
END:VEVENT
BEGIN:VEVENT
DTSTART;TZID=Europe/Paris:20250922T080000
DTEND;TZID=Europe/Paris:20250922T130000
DTSTAMP:20260422T005534
CREATED:20220719T213605Z
LAST-MODIFIED:20250916T174109Z
UID:10002740-1758528000-1758546000@www.buzzmagmartinique.com
SUMMARY:DON DE SANG SUR L'ESPLANADE RAYMOND FÉLIX-THÉODOSE\, LE SAINT ESPRIT
DESCRIPTION:𝗗𝗢𝗡 𝐃𝐄 𝗦𝗔𝗡𝗚 | 𝗘𝗙𝗦 | 𝗘𝗦𝗣𝗟𝗔𝗡𝗔𝗗𝗘 𝗥𝗔𝗬𝗠𝗢𝗡𝗗 𝗙𝗘𝗟𝗜𝗫-𝗧𝗛𝗘𝗢𝗗𝗢𝗦𝗘 \nL’Unité Mobile de l’Établissement Français du Sang (EFS) vous donne rendez-vous le 𝐥𝐮𝐧𝐝𝐢 𝟐𝟐 𝐬𝐞𝐩𝐭𝐞𝐦𝐛𝐫𝐞 𝟐𝟎𝟐𝟓\, 𝐝𝐞 𝟖 𝐡 𝐚̀ 𝟏𝟑 𝐡\, 𝐬𝐮𝐫 𝐥’𝐄𝐬𝐩𝐥𝐚𝐧𝐚𝐝𝐞 𝐑𝐚𝐲𝐦𝐨𝐧𝐝 𝐅𝐞́𝐥𝐢𝐱-𝐓𝐡𝐞́𝐨𝐝𝐨𝐬𝐞 (en face de l’Hôtel de Ville) pour vos dons de sang. \n  \n\n\n\n\n\n\n\n\n\n\n\n\n\n\n\nVille du Saint Esprit \n \n\n\n 
URL:https://www.buzzmagmartinique.com/evenement/don-de-sang-sur-lesplanade-raymond-felix-theodose-le-saint-esprit/
LOCATION:Médiathèque Alfred Melon-Dégras\, Rue Schoelcher\, Le Saint Esprit\, 97270\, Martinique
CATEGORIES:Santé
ATTACH;FMTTYPE=image/webp:https://www.buzzmagmartinique.com/wp-content/uploads/2022/07/IMG-20250916-WA0009.webp
END:VEVENT
BEGIN:VEVENT
DTSTART;TZID=Europe/Paris:20250813T090000
DTEND;TZID=Europe/Paris:20250813T120000
DTSTAMP:20260422T005534
CREATED:20181119T205235Z
LAST-MODIFIED:20250802T154116Z
UID:10063110-1755075600-1755086400@www.buzzmagmartinique.com
SUMMARY:PASSION MANGA À LA MÉDIATHÈQUE AMD\, LE SAINT ESPRIT
DESCRIPTION:  \n\nMédiathèque Alfred Melon-Dégras\, rue Schoelcher\, Saint Esprit\, 0596 61 00 07
URL:https://www.buzzmagmartinique.com/evenement/passion-manga-a-la-mediatheque-amd-le-saint-esprit/2025-08-13/
LOCATION:Médiathèque Alfred Melon-Dégras\, Rue Schoelcher\, Le Saint Esprit\, 97270\, Martinique
CATEGORIES:Art & Culture,Jeune public
ATTACH;FMTTYPE=image/webp:https://www.buzzmagmartinique.com/wp-content/uploads/2018/11/IMG-20250801-WA00331.webp
END:VEVENT
BEGIN:VEVENT
DTSTART;TZID=Europe/Paris:20250729T140000
DTEND;TZID=Europe/Paris:20250729T170000
DTSTAMP:20260422T005534
CREATED:20250213T130957Z
LAST-MODIFIED:20250728T155127Z
UID:10043473-1753797600-1753808400@www.buzzmagmartinique.com
SUMMARY:ESCAPE GAME "IRÈNE A DISPARU!" À LA MÉDIATHÈQUE AMD\, LE SAINT ESPRIT
DESCRIPTION:𝙎𝙝𝙚𝙧𝙡𝙤𝙘𝙠 𝙃𝙤𝙡𝙢𝙚𝙨 𝙚𝙩 𝘼𝙧𝙨𝙚̀𝙣𝙚 𝙇𝙪𝙥𝙞𝙣 𝙤𝙣𝙩 𝙗𝙚𝙨𝙤𝙞𝙣 𝙙𝙚 𝙩𝙤𝙞 !\n\nIrène s’est volatilisée … Tu as 9 ans et plus\, viens résoudre l’Escape Game « Irène a disparu ! »\, inspiré de la célèbre série de romans Sherlock\, Lupin & Moi. \nPrépare ton esprit logique et ton sens de l’observation\, l’enquête commence bientôt… \n\n𝙄𝙣𝙨𝙘𝙧𝙞𝙥𝙩𝙞𝙤𝙣 𝙤𝙗𝙡𝙞𝙜𝙖𝙩𝙤𝙞𝙧𝙚 : 𝟬𝟱𝟵𝟲 𝟲𝟭 𝟬𝟬 𝟬𝟳\n\nPlaces limitées !\n\n\n\n\n\n\n\n\n\n\n\n\nMédiathèque Alfred Melon-Dégras\, rue Schoelcher\, Saint Esprit\, 0596 61 00 07
URL:https://www.buzzmagmartinique.com/evenement/escape-game-irene-a-disparu-a-la-mediatheque-amd-le-saint-esprit/
LOCATION:Médiathèque Alfred Melon-Dégras\, Rue Schoelcher\, Le Saint Esprit\, 97270\, Martinique
CATEGORIES:Jeune public
ATTACH;FMTTYPE=image/webp:https://www.buzzmagmartinique.com/wp-content/uploads/2025/02/IMG-20250725-WA00111.webp
END:VEVENT
BEGIN:VEVENT
DTSTART;TZID=Europe/Paris:20250724T090000
DTEND;TZID=Europe/Paris:20250724T160000
DTSTAMP:20260422T005534
CREATED:20250204T160108Z
LAST-MODIFIED:20250709T135730Z
UID:10060487-1753347600-1753372800@www.buzzmagmartinique.com
SUMMARY:LES JEUDIS DU NUMÉRIK À LA MÉDIATHÈQUE AMD\, LE SAINT ESPRIT
DESCRIPTION:𝐋𝐞𝐬 𝐉𝐞𝐮𝐝𝐢𝐬 𝐝𝐮 𝐍𝐮𝐦𝐞́𝐫𝐢𝐤 𝐝𝐞́𝐛𝐚𝐫𝐪𝐮𝐞𝐧𝐭 𝐚̀ 𝐥𝐚 𝐌𝐞́𝐝𝐢𝐚𝐭𝐡𝐞̀𝐪𝐮𝐞 𝐝𝐮 𝐒𝐚𝐢𝐧𝐭-𝐄𝐬𝐩𝐫𝐢𝐭 ! \n𝐃𝐮 𝟏𝟎 𝐚𝐮 𝟑𝟏 𝐣𝐮𝐢𝐥𝐥𝐞𝐭\, participe à des ateliers gratuits\, pour apprendre\, créer et t’amuser autour du numérique. \n𝐀̀ 𝐩𝐨𝐫𝐭𝐞́𝐞 𝐝𝐞 𝐜𝐥𝐢𝐜 (𝟗 𝐡–𝟏𝟐 𝐡) : initiation aux outils numériques (ados/adultes) \n𝐆𝐞𝐞𝐤 𝐚𝐧𝐝 𝐂𝐡𝐢𝐥𝐥 (𝟏𝟒 𝐡–𝟏𝟔. 𝐡) : jeux vidéo\, culture geek\, création numérique… \nCes ateliers sont proposés par la Direction de la Culture de la Ville du Saint-Esprit\, avec le soutien de la DAC Martinique. \n\n\n  \n\nMédiathèque Alfred Melon-Dégras\, rue Schoelcher\, Saint Esprit\, 0596 61 00 07
URL:https://www.buzzmagmartinique.com/evenement/les-jeudis-du-numerik-a-la-mediatheque-amd-le-saint-esprit/2025-07-24/
LOCATION:Médiathèque Alfred Melon-Dégras\, Rue Schoelcher\, Le Saint Esprit\, 97270\, Martinique
CATEGORIES:Art & Culture,Jeune public
ATTACH;FMTTYPE=image/webp:https://www.buzzmagmartinique.com/wp-content/uploads/2025/02/517516545_1145494840939565_8586379891840036760_n.webp
END:VEVENT
END:VCALENDAR