BEGIN:VCALENDAR
VERSION:2.0
PRODID:-//Buzzmag - ECPv6.15.20//NONSGML v1.0//EN
CALSCALE:GREGORIAN
METHOD:PUBLISH
X-ORIGINAL-URL:https://www.buzzmagmartinique.com
X-WR-CALDESC:Évènements pour Buzzmag
REFRESH-INTERVAL;VALUE=DURATION:PT1H
X-Robots-Tag:noindex
X-PUBLISHED-TTL:PT1H
BEGIN:VTIMEZONE
TZID:Europe/Paris
BEGIN:DAYLIGHT
TZOFFSETFROM:+0100
TZOFFSETTO:+0200
TZNAME:CEST
DTSTART:20250330T010000
END:DAYLIGHT
BEGIN:STANDARD
TZOFFSETFROM:+0200
TZOFFSETTO:+0100
TZNAME:CET
DTSTART:20251026T010000
END:STANDARD
BEGIN:DAYLIGHT
TZOFFSETFROM:+0100
TZOFFSETTO:+0200
TZNAME:CEST
DTSTART:20260329T010000
END:DAYLIGHT
BEGIN:STANDARD
TZOFFSETFROM:+0200
TZOFFSETTO:+0100
TZNAME:CET
DTSTART:20261025T010000
END:STANDARD
BEGIN:DAYLIGHT
TZOFFSETFROM:+0100
TZOFFSETTO:+0200
TZNAME:CEST
DTSTART:20270328T010000
END:DAYLIGHT
BEGIN:STANDARD
TZOFFSETFROM:+0200
TZOFFSETTO:+0100
TZNAME:CET
DTSTART:20271031T010000
END:STANDARD
END:VTIMEZONE
BEGIN:VEVENT
DTSTART;TZID=Europe/Paris:20260307T060000
DTEND;TZID=Europe/Paris:20260307T140000
DTSTAMP:20260421T140111
CREATED:20260227T135752Z
LAST-MODIFIED:20260227T140330Z
UID:10079854-1772863200-1772892000@www.buzzmagmartinique.com
SUMMARY:MARCHÉ AGRICOLE AU LPA DU ROBERT\, LE ROBERT
DESCRIPTION:23e ÉDITION\nLe Marché Agricole du LPA du Robert revient… et ça va vibrer ! \nVenez célébrer le savoir-faire\, la jeunesse et le terroir ! \nProductions des élèves et étudiants :\ntransformations agroalimentaires\, produits locaux\, créations issues de leur formation…\nDu vrai. Du concret. Du péyi. \nArtistes invités & DJ set pour ambiancer la matinée\nTenues traditionnelles & patrimoine\nExposants locaux \nDe nombreux lots à gagner !\nUn marché.\nUne ambiance.\nUne fierté collective.\nSoutenons la jeunesse. Consommons local. Célébrons le péyi. \nOn vous attend nombreux ! \n\nLPA du Robert\, Quartier four à chaux\, Le Robert\, 0596 65 10 43\, lpa.le-robert@educagri.fr \n \n 
URL:https://www.buzzmagmartinique.com/evenement/mois-de-la-tenue-traditionnelle-martiniquaise-au-centre-culturel-de-chateauboeuf-fort-de-france-2-2/
LOCATION:LPA du Robert\, Quartier four à chaux\, Le Robert\, 97231\, Martinique
CATEGORIES:Art & Culture,Marché
ATTACH;FMTTYPE=image/webp:https://www.buzzmagmartinique.com/wp-content/uploads/2026/02/642376290_10236574923607347_5211434920211376565_n111.webp
END:VEVENT
END:VCALENDAR