BEGIN:VCALENDAR
VERSION:2.0
PRODID:-//Buzzmag - ECPv6.15.20//NONSGML v1.0//EN
CALSCALE:GREGORIAN
METHOD:PUBLISH
X-WR-CALNAME:Buzzmag
X-ORIGINAL-URL:https://www.buzzmagmartinique.com
X-WR-CALDESC:Évènements pour Buzzmag
REFRESH-INTERVAL;VALUE=DURATION:PT1H
X-Robots-Tag:noindex
X-PUBLISHED-TTL:PT1H
BEGIN:VTIMEZONE
TZID:Europe/Paris
BEGIN:DAYLIGHT
TZOFFSETFROM:+0100
TZOFFSETTO:+0200
TZNAME:CEST
DTSTART:20250330T010000
END:DAYLIGHT
BEGIN:STANDARD
TZOFFSETFROM:+0200
TZOFFSETTO:+0100
TZNAME:CET
DTSTART:20251026T010000
END:STANDARD
BEGIN:DAYLIGHT
TZOFFSETFROM:+0100
TZOFFSETTO:+0200
TZNAME:CEST
DTSTART:20260329T010000
END:DAYLIGHT
BEGIN:STANDARD
TZOFFSETFROM:+0200
TZOFFSETTO:+0100
TZNAME:CET
DTSTART:20261025T010000
END:STANDARD
BEGIN:DAYLIGHT
TZOFFSETFROM:+0100
TZOFFSETTO:+0200
TZNAME:CEST
DTSTART:20270328T010000
END:DAYLIGHT
BEGIN:STANDARD
TZOFFSETFROM:+0200
TZOFFSETTO:+0100
TZNAME:CET
DTSTART:20271031T010000
END:STANDARD
END:VTIMEZONE
BEGIN:VEVENT
DTSTART;TZID=Europe/Paris:20260425T193000
DTEND;TZID=Europe/Paris:20260425T230000
DTSTAMP:20260425T171726
CREATED:20181006T112657Z
LAST-MODIFIED:20260422T000240Z
UID:10002049-1777145400-1777158000@www.buzzmagmartinique.com
SUMMARY:MUSIQUE LIVE "SUGAR LAB" À LE NAÏA\, LE MARIN
DESCRIPTION:Concert Brown Rock & morePlats au saveurs de la mer Réservations souhaitées \n  \n\nLe Naïa Restaurant\, Boulevard Allègre \, Bassin 1\, Marina 1\, Le Marin\, +596 596 78 44 03
URL:https://www.buzzmagmartinique.com/evenement/musique-live-sugar-lab-a-le-naia-le-marin/
LOCATION:Le Naïa Restaurant\, Boulevard Allègre\, Bassin 1\, Marina 1\, Le Marin\, 97290\, Martinique
CATEGORIES:Soirée
ATTACH;FMTTYPE=image/webp:https://www.buzzmagmartinique.com/wp-content/uploads/2018/10/675838453_1386012663544974_5553092951161914478_n.webp
END:VEVENT
END:VCALENDAR