BEGIN:VCALENDAR
VERSION:2.0
PRODID:-//Buzzmag - ECPv6.15.20//NONSGML v1.0//EN
CALSCALE:GREGORIAN
METHOD:PUBLISH
X-WR-CALNAME:Buzzmag
X-ORIGINAL-URL:https://www.buzzmagmartinique.com
X-WR-CALDESC:Évènements pour Buzzmag
REFRESH-INTERVAL;VALUE=DURATION:PT1H
X-Robots-Tag:noindex
X-PUBLISHED-TTL:PT1H
BEGIN:VTIMEZONE
TZID:Europe/Paris
BEGIN:DAYLIGHT
TZOFFSETFROM:+0100
TZOFFSETTO:+0200
TZNAME:CEST
DTSTART:20240331T010000
END:DAYLIGHT
BEGIN:STANDARD
TZOFFSETFROM:+0200
TZOFFSETTO:+0100
TZNAME:CET
DTSTART:20241027T010000
END:STANDARD
BEGIN:DAYLIGHT
TZOFFSETFROM:+0100
TZOFFSETTO:+0200
TZNAME:CEST
DTSTART:20250330T010000
END:DAYLIGHT
BEGIN:STANDARD
TZOFFSETFROM:+0200
TZOFFSETTO:+0100
TZNAME:CET
DTSTART:20251026T010000
END:STANDARD
BEGIN:DAYLIGHT
TZOFFSETFROM:+0100
TZOFFSETTO:+0200
TZNAME:CEST
DTSTART:20260329T010000
END:DAYLIGHT
BEGIN:STANDARD
TZOFFSETFROM:+0200
TZOFFSETTO:+0100
TZNAME:CET
DTSTART:20261025T010000
END:STANDARD
BEGIN:DAYLIGHT
TZOFFSETFROM:+0100
TZOFFSETTO:+0200
TZNAME:CEST
DTSTART:20270328T010000
END:DAYLIGHT
BEGIN:STANDARD
TZOFFSETFROM:+0200
TZOFFSETTO:+0100
TZNAME:CET
DTSTART:20271031T010000
END:STANDARD
END:VTIMEZONE
BEGIN:VEVENT
DTSTART;TZID=Europe/Paris:20260425T200000
DTEND;TZID=Europe/Paris:20260425T200000
DTSTAMP:20260425T224058
CREATED:20251013T150225Z
LAST-MODIFIED:20260423T175534Z
UID:10075412-1777147200-1777147200@www.buzzmagmartinique.com
SUMMARY:SOIRÉE DJ "LA BABA HYDE" AU BABA TROPICAL BISTRO\, FORT DE FRANCE
DESCRIPTION:La Hyde fait son grand retour au Baba Bistrot pour une soirée qui promet bien des surprises. \nRécupère vite ton pass\, ça va aller très vite \nHyde Concept avec amour. \nBilletterie Bizouk \n\nLe Baba Tropical Bistro\, 42 route de chateauboeuf\, Fort-de-France\, 0596 75 03 32
URL:https://www.buzzmagmartinique.com/evenement/soiree-dj-la-baba-hyde-au-baba-tropical-bistro-fort-de-france/
LOCATION:Le Baba Tropical Bistro\, 42 route de Chateauboeuf\, Fort-de-France\, 97200\, Martinique
CATEGORIES:Soirée
ATTACH;FMTTYPE=image/webp:https://www.buzzmagmartinique.com/wp-content/uploads/2025/10/118740_b5e58407f42bb31e80b9f0b6738ad15e_1400x1867_auto_9711.webp
ORGANIZER;CN="Le Baba Tropical Bistro":MAILTO:contact@lebaba.mqbistro 
END:VEVENT
BEGIN:VEVENT
DTSTART;TZID=Europe/Paris:20260417T200000
DTEND;TZID=Europe/Paris:20260417T200000
DTSTAMP:20260425T224058
CREATED:20241219T132243Z
LAST-MODIFIED:20260414T224802Z
UID:10034695-1776456000-1776456000@www.buzzmagmartinique.com
SUMMARY:SOIRÉE DJ "PINE & GINGER" AU BABA TROPICAL BISTRO\, FORT DE FRANCE
DESCRIPTION:20H00 – 02H00 \nPlongez dans une ambiance où fraîcheur et épices se mêlent pour un moment inoubliable ! \nDJ Whyne et DJ Dov’x seront la pour faire PT la maison ! \nCocktails et vibes chaleureuses au rendez-vous \nPlaces limitées\, alors soyez rapides ! \nLa Pine & Ginger vous a t’elle autant manqué que nous ?\nAre you ready ? \nEvènement strictement interdit aux mineurs \n\n\nBilletterie Bizouk \n  \nL’abus d’alcool est dangereux pour la santéà consommer avec modération. \n\nLe Baba Tropical Bistro\, 42 route de chateauboeuf\, Fort-de-France\, 0596 75 03 32
URL:https://www.buzzmagmartinique.com/evenement/soiree-dj-pine-ginger-au-baba-tropical-bistro-fort-de-france/
LOCATION:Le Baba Tropical Bistro\, 42 route de Chateauboeuf\, Fort-de-France\, 97200\, Martinique
CATEGORIES:Soirée
ATTACH;FMTTYPE=image/webp:https://www.buzzmagmartinique.com/wp-content/uploads/2024/12/115976_062bdc944c77fff7827fcb9c5f316ef0_700x600_landscape_971.webp
END:VEVENT
BEGIN:VEVENT
DTSTART;TZID=Europe/Paris:20260319T200000
DTEND;TZID=Europe/Paris:20260319T220000
DTSTAMP:20260425T224058
CREATED:20251008T124820Z
LAST-MODIFIED:20260319T151101Z
UID:10075402-1773950400-1773957600@www.buzzmagmartinique.com
SUMMARY:MUSIQUE ZOUK LIVE "AMBIANCE 3D" AU BABA TROPICAL BISTRO\, FORT DE FRANCE
DESCRIPTION:  \n\nLe Baba Tropical Bistro\, 42 route de chateauboeuf\, Fort-de-France\, 0596 75 03 32
URL:https://www.buzzmagmartinique.com/evenement/musique-zouk-live-ambiance-3d-au-baba-tropical-bistro-fort-de-france/
LOCATION:Le Baba Tropical Bistro\, 42 route de Chateauboeuf\, Fort-de-France\, 97200\, Martinique
CATEGORIES:Soirée
ATTACH;FMTTYPE=image/webp:https://www.buzzmagmartinique.com/wp-content/uploads/2025/10/65896328-66720705.webp
END:VEVENT
BEGIN:VEVENT
DTSTART;TZID=Europe/Paris:20251213T200000
DTEND;TZID=Europe/Paris:20251213T233000
DTSTAMP:20260425T224058
CREATED:20251009T123843Z
LAST-MODIFIED:20260227T115250Z
UID:10075406-1765656000-1765668600@www.buzzmagmartinique.com
SUMMARY:SOIRÉE DJ "FIZZ & FRIEND" AU BABA TROPICAL BISTRO\, FORT DE FRANCE
DESCRIPTION:Fizz & Friend is BACK. Rendez-vous le Vendredi 6 Mars au Baba Bistro ! @lebababistro \nDe 21h à 02h. TURN UP !! \nRécupérez vos Pass Invitation sur Bizouk.com \nINVITATIONS VALABLE JUSQU’À 22:30\, 10€ après 22:30. \nMusic by DJs : \n@djmaza972 \n@dj.toniiiz \n@iamfizz \n@greezyfwi \nUn line-up pensé pour te faire voyager entre différents styles et te faire vibrer tout au long de l’événement. \nDRESSCODE: BE HYPE \nUne rencontre musicale\, un moment de partage\, et surtout une ambiance unique à ne pas manquer. \n  \n\nLe Baba Tropical Bistro\, 42 route de chateauboeuf\, Fort-de-France\, 0596 75 03 32
URL:https://www.buzzmagmartinique.com/evenement/soiree-dj-fizz-friend-au-baba-tropical-bistro-fort-de-france/
LOCATION:Le Baba Tropical Bistro\, 42 route de Chateauboeuf\, Fort-de-France\, 97200\, Martinique
CATEGORIES:Soirée
ATTACH;FMTTYPE=image/webp:https://www.buzzmagmartinique.com/wp-content/uploads/2025/10/tempFileForShare_20260227-0744111.webp
END:VEVENT
BEGIN:VEVENT
DTSTART;TZID=Europe/Paris:20251110T220000
DTEND;TZID=Europe/Paris:20251110T220000
DTSTAMP:20260425T224058
CREATED:20241029T165725Z
LAST-MODIFIED:20260409T125953Z
UID:10017929-1762812000-1762812000@www.buzzmagmartinique.com
SUMMARY:SOIRÉES DJ "QUEER NATION - BOMBAY SAPPHIRE" AU BABA TROPICAL BISTRO\, FORT DE FRANCE
DESCRIPTION:Queer Nation x Bombay Sapphire x Baba Bistro \nLe ton est donné ! \nLe gin s’invite et avec lui\, une énergie prend forme\, circule et rassemble ! \nDjs Ace\, Greezy et Lya accompagnent ce mouvement et en dessinent les méandres à coup de gros son ! \nDresscode : Stay blue\, stay gin \n20h00 > 02h00 \nBombay Sapphire & Queer Nation with love \n  \n\nLe Baba Tropical Bistro\, 42 route de chateauboeuf\, Fort-de-France\, 0596 75 03 32
URL:https://www.buzzmagmartinique.com/evenement/soirees-dj-queer-nation-bombay-sapphire-au-baba-tropical-bistro-fort-de-france/
LOCATION:Le Baba Tropical Bistro\, 42 route de Chateauboeuf\, Fort-de-France\, 97200\, Martinique
CATEGORIES:Soirée
ATTACH;FMTTYPE=image/webp:https://www.buzzmagmartinique.com/wp-content/uploads/2024/10/117662_1de8ba8ef6ecfc67c6c89f12cb52cc7f_700x600_landscape_97.webp
ORGANIZER;CN="Le Baba Tropical Bistro":MAILTO:contact@lebaba.mqbistro 
END:VEVENT
END:VCALENDAR