BEGIN:VCALENDAR
VERSION:2.0
PRODID:-//Buzzmag - ECPv6.15.20//NONSGML v1.0//EN
CALSCALE:GREGORIAN
METHOD:PUBLISH
X-ORIGINAL-URL:https://www.buzzmagmartinique.com
X-WR-CALDESC:Évènements pour Buzzmag
REFRESH-INTERVAL;VALUE=DURATION:PT1H
X-Robots-Tag:noindex
X-PUBLISHED-TTL:PT1H
BEGIN:VTIMEZONE
TZID:Europe/Paris
BEGIN:DAYLIGHT
TZOFFSETFROM:+0100
TZOFFSETTO:+0200
TZNAME:CEST
DTSTART:20250330T010000
END:DAYLIGHT
BEGIN:STANDARD
TZOFFSETFROM:+0200
TZOFFSETTO:+0100
TZNAME:CET
DTSTART:20251026T010000
END:STANDARD
BEGIN:DAYLIGHT
TZOFFSETFROM:+0100
TZOFFSETTO:+0200
TZNAME:CEST
DTSTART:20260329T010000
END:DAYLIGHT
BEGIN:STANDARD
TZOFFSETFROM:+0200
TZOFFSETTO:+0100
TZNAME:CET
DTSTART:20261025T010000
END:STANDARD
BEGIN:DAYLIGHT
TZOFFSETFROM:+0100
TZOFFSETTO:+0200
TZNAME:CEST
DTSTART:20270328T010000
END:DAYLIGHT
BEGIN:STANDARD
TZOFFSETFROM:+0200
TZOFFSETTO:+0100
TZNAME:CET
DTSTART:20271031T010000
END:STANDARD
END:VTIMEZONE
BEGIN:VEVENT
DTSTART;TZID=Europe/Paris:20260424T203000
DTEND;TZID=Europe/Paris:20260424T203000
DTSTAMP:20260421T143843
CREATED:20250908T152933Z
LAST-MODIFIED:20260420T194423Z
UID:10059215-1777062600-1777062600@www.buzzmagmartinique.com
SUMMARY:SOIRÉE DJ "MIDNIGHT SOCIETY" À LA TERRASSE\, FORT DE FRANCE
DESCRIPTION:Ambiance chic\, festive et immersive au cœur de La Terrasse – West Indies \nDe 20h30 à 02h00\, prépare-toi à vivre une nuit où élégance\, énergie et good vibes se rencontrent pour créer un moment hors du temps. \nLine-up explosif :\nDJ Sky.T • Skoll • N’Ko \nConcept : une soirée premium\, une foule élégante\, des lumières envoûtantes et une ambiance digne des plus belles nuits… \nHeure : 20h30 – 02h00 \nEntrée limitée – Réserve vite ta place \nDress code conseillé : Chic & élégant \nMIDNIGHT SOCIETY… plus qu’une soirée\, un rendez-vous. \nBilletterie Bizouk \n\nLa Terrasse\, Immeuble Galeries Lafayette\, 10 Rue Victor Schoelcher\, Fort-de-France\, 0596 64 30 35
URL:https://www.buzzmagmartinique.com/evenement/soiree-dj-midnight-society-a-la-terrasse-fort-de-france/
LOCATION:La Terrasse Fwi\, 10 rue Victor Schoelcher\, Immeuble Galerie Lafayette\, Fort de France\, 97200\, Martinique
CATEGORIES:Soirée
ATTACH;FMTTYPE=image/webp:https://www.buzzmagmartinique.com/wp-content/uploads/2025/09/119511_3c82c0b0c3936e24fc57373f778f4c95_1400x1867_auto_971.webp
END:VEVENT
BEGIN:VEVENT
DTSTART;TZID=Europe/Paris:20260425T200000
DTEND;TZID=Europe/Paris:20260425T200000
DTSTAMP:20260421T143843
CREATED:20250701T164416Z
LAST-MODIFIED:20260415T181516Z
UID:10059098-1777147200-1777147200@www.buzzmagmartinique.com
SUMMARY:MUSIQUE LIVE "GMX" À LA TERRASSE\, FORT DE FRANCE
DESCRIPTION:Artiste martiniquais à la voix d’or\, GMX (Guy-Marc VADELEUX) propose un univers musical entre jazz créole\, salsa et sonorités caribéennes. \nLa Terrasse vous accueille dès 18h30\, avec possibilité de dîner sur place. \n  \n\nLa Terrasse\, Immeuble Galeries Lafayette\, 10 Rue Victor Schoelcher\, Fort-de-France\, 0596 64 30 35
URL:https://www.buzzmagmartinique.com/evenement/musique-live-gmx-a-la-terrasse-fort-de-france/
LOCATION:La Terrasse Fwi\, 10 rue Victor Schoelcher\, Immeuble Galerie Lafayette\, Fort de France\, 97200\, Martinique
CATEGORIES:Soirée
ATTACH;FMTTYPE=image/webp:https://www.buzzmagmartinique.com/wp-content/uploads/2025/07/653922703_915164407938917_7162026158986800155_n111.webp
END:VEVENT
BEGIN:VEVENT
DTSTART;TZID=Europe/Paris:20260501T200000
DTEND;TZID=Europe/Paris:20260501T200000
DTSTAMP:20260421T143843
CREATED:20250715T151646Z
LAST-MODIFIED:20260413T203516Z
UID:10012869-1777665600-1777665600@www.buzzmagmartinique.com
SUMMARY:SOIRÉE REGGAE SOCIAL CLUB À LA TERRASSE\, FORT DE FRANCE
DESCRIPTION:  \n \nDJ TUG arrive pour la 1ʳᵉ fois au Reggae Social Club #25 ! \n«Inna selecta Style» \n20h00>02h00 \nEarly Bird solo/duo \nBillets limités ! \nBilletterie Bizouk \n  \n \n  \n\n\n\n\nLa Terrasse Fwi\, 10 rue Victor Schoelcher\, Immeuble Galerie Lafayette\, Fort de France\, 0596 64 30 35
URL:https://www.buzzmagmartinique.com/evenement/soiree-reggae-social-club-a-la-terrasse-fort-de-france/
LOCATION:La Terrasse Fwi\, 10 rue Victor Schoelcher\, Immeuble Galerie Lafayette\, Fort de France\, 97200\, Martinique
CATEGORIES:Soirée
END:VEVENT
BEGIN:VEVENT
DTSTART;TZID=Europe/Paris:20260502T200000
DTEND;TZID=Europe/Paris:20260502T200000
DTSTAMP:20260421T143843
CREATED:20250715T152343Z
LAST-MODIFIED:20260415T183935Z
UID:10012868-1777752000-1777752000@www.buzzmagmartinique.com
SUMMARY:MUSIQUE LIVE "CÉLINE BARCLAY & FRIENDS" À LA TERRASSE\, FORT DE FRANCE
DESCRIPTION:Céline Barclay vous donne rendez-vous pour un live intense et vibrant\, entre anglais\, français et créole. Sur scène\, une présence\, une vision\, une énergie.\n\nÀ travers ses morceaux\, elle traverse l’amour\, la spiritualité et la culture afro avec justesse et intensité.\n\nPour cette soirée\, elle s’entoure d’artistes et de musiciens :\n\nPerle Noire\, Def J\, MadSkuall\, Max Mona… et d’autres surprises.\n\nUn moment fort. Une direction. Une signature.\n\nLa Terrasse vous accueille dès 18h30\, avec possibilité de dîner sur place.\n\nRéservation de table par téléphone.\n\n20€ en prévente | 25€ sur place\n\n\nBilletterie Bizouk\n\n\nLa Terrasse Fwi\, 10 rue Victor Schoelcher\, Immeuble Galerie Lafayette\, Fort de France\, 0596 64 30 35
URL:https://www.buzzmagmartinique.com/evenement/musique-live-celine-barclay-friends-a-la-terrasse-fort-de-france-2/
LOCATION:La Terrasse Fwi\, 10 rue Victor Schoelcher\, Immeuble Galerie Lafayette\, Fort de France\, 97200\, Martinique
CATEGORIES:Soirée
ATTACH;FMTTYPE=image/webp:https://www.buzzmagmartinique.com/wp-content/uploads/2025/07/653712739_915166704605354_2952461557155637112_n2.webp
END:VEVENT
END:VCALENDAR