BEGIN:VCALENDAR
VERSION:2.0
PRODID:-//Buzzmag - ECPv6.15.20//NONSGML v1.0//EN
CALSCALE:GREGORIAN
METHOD:PUBLISH
X-WR-CALNAME:Buzzmag
X-ORIGINAL-URL:https://www.buzzmagmartinique.com
X-WR-CALDESC:Évènements pour Buzzmag
REFRESH-INTERVAL;VALUE=DURATION:PT1H
X-Robots-Tag:noindex
X-PUBLISHED-TTL:PT1H
BEGIN:VTIMEZONE
TZID:Europe/Paris
BEGIN:DAYLIGHT
TZOFFSETFROM:+0100
TZOFFSETTO:+0200
TZNAME:CEST
DTSTART:20250330T010000
END:DAYLIGHT
BEGIN:STANDARD
TZOFFSETFROM:+0200
TZOFFSETTO:+0100
TZNAME:CET
DTSTART:20251026T010000
END:STANDARD
BEGIN:DAYLIGHT
TZOFFSETFROM:+0100
TZOFFSETTO:+0200
TZNAME:CEST
DTSTART:20260329T010000
END:DAYLIGHT
BEGIN:STANDARD
TZOFFSETFROM:+0200
TZOFFSETTO:+0100
TZNAME:CET
DTSTART:20261025T010000
END:STANDARD
BEGIN:DAYLIGHT
TZOFFSETFROM:+0100
TZOFFSETTO:+0200
TZNAME:CEST
DTSTART:20270328T010000
END:DAYLIGHT
BEGIN:STANDARD
TZOFFSETFROM:+0200
TZOFFSETTO:+0100
TZNAME:CET
DTSTART:20271031T010000
END:STANDARD
END:VTIMEZONE
BEGIN:VTIMEZONE
TZID:America/Martinique
BEGIN:STANDARD
TZOFFSETFROM:-0400
TZOFFSETTO:-0400
TZNAME:AST
DTSTART:20240101T000000
END:STANDARD
END:VTIMEZONE
BEGIN:VEVENT
DTSTART;TZID=Europe/Paris:20260419T080000
DTEND;TZID=Europe/Paris:20260419T173000
DTSTAMP:20260420T192730
CREATED:20240610T203727Z
LAST-MODIFIED:20250620T135459Z
UID:10056519-1776585600-1776619800@www.buzzmagmartinique.com
SUMMARY:VISITE DE LA MAISON DE LA CANNE\, LES TROIS ÎLETS
DESCRIPTION:« Histoire de La Martinique à Travers La Canne À Sucre »\n\n  \n  \n\nHoraires: Mardi 08h00-17h30 / Mercredi\, Jeudi\, Vendredi 08h00-17h30 / Samedi 08h30-17h00 / Dimanche 09h00–17h00 \nLa Maison de La Canne\, Pointe Vatable\, Les Trois Îlets\, 0596 68 32 04
URL:https://www.buzzmagmartinique.com/evenement/visite-de-la-maison-de-la-canne-les-trois-ilets/2026-04-19/
LOCATION:La Maison de La Canne\, Pointe Vatable\, Les Trois Îlets\, 97229\, Martinique
CATEGORIES:Art & Culture
ATTACH;FMTTYPE=image/jpeg:https://www.buzzmagmartinique.com/wp-content/uploads/2024/06/80882815-58311661.jpg
END:VEVENT
BEGIN:VEVENT
DTSTART;TZID=America/Martinique:20250924T150000
DTEND;TZID=America/Martinique:20250924T170000
DTSTAMP:20260420T192730
CREATED:20240812T091053Z
LAST-MODIFIED:20250924T105326Z
UID:10003572-1758726000-1758733200@www.buzzmagmartinique.com
SUMMARY:MERCREDIS TI MOUN "DESSINE-MOI LE MUSÉE" À LA MAISON DE LA CANNE\, LES TROIS ÎLETS
DESCRIPTION:MERCREDIS TI MOUN – Dessine-moi le musée\n\n\n\nEt si les enfants devenaient\, le temps d’un après-midi\, les artistes du patrimoine martiniquais ?\n\n\n\nEntrée : 1 € / enfant\nPublic : 7 à 12 ans\n\n\n\nPlongez vos enfants dans un atelier à la fois ludique et créatif\, où le musée devient leur terrain d’expression.\n\nCrayons en main\, ils réinventent la Maison de la Canne et découvrent autrement l’histoire et le patrimoine qui les entourent.\n\nUne activité qui stimule l’imaginaire\, développe la curiosité et offre une nouvelle façon de se relier à notre mémoire collective.\n\n\n\nApprendre\, créer\, s’amuser : une expérience unique au cœur d’un lieu chargé d’histoire.\n\nInfos & réservations : 0596 68 32 04 \n\nHoraires: Mardi 08h00-17h30 / Mercredi\, Jeudi\, Vendredi 08h00-17h30 / Samedi 08h30-17h00 / Dimanche 09h00–17h00 \nLa Maison de La Canne\, Pointe Vatable\, Les Trois Îlets\, 0596 68 32 04
URL:https://www.buzzmagmartinique.com/evenement/mercredis-ti-moun-dessine-moi-le-musee-a-la-maison-de-la-canne-les-trois-ilets/
LOCATION:La Maison de La Canne\, Pointe Vatable\, Les Trois Îlets\, 97229\, Martinique
CATEGORIES:Art & Culture,Jeune public
ATTACH;FMTTYPE=image/webp:https://www.buzzmagmartinique.com/wp-content/uploads/2022/07/IMG-20250923-WA0021.webp
ORGANIZER;CN="CTM Collectivit%C3%A9 Territoriale de Martinique":MAILTO:courrier@ctm.mq
END:VEVENT
END:VCALENDAR