BEGIN:VCALENDAR
VERSION:2.0
PRODID:-//Buzzmag - ECPv6.15.20//NONSGML v1.0//EN
CALSCALE:GREGORIAN
METHOD:PUBLISH
X-WR-CALNAME:Buzzmag
X-ORIGINAL-URL:https://www.buzzmagmartinique.com
X-WR-CALDESC:Évènements pour Buzzmag
REFRESH-INTERVAL;VALUE=DURATION:PT1H
X-Robots-Tag:noindex
X-PUBLISHED-TTL:PT1H
BEGIN:VTIMEZONE
TZID:America/Martinique
BEGIN:STANDARD
TZOFFSETFROM:-0400
TZOFFSETTO:-0400
TZNAME:AST
DTSTART:20250101T000000
END:STANDARD
END:VTIMEZONE
BEGIN:VTIMEZONE
TZID:Europe/Paris
BEGIN:DAYLIGHT
TZOFFSETFROM:+0100
TZOFFSETTO:+0200
TZNAME:CEST
DTSTART:20250330T010000
END:DAYLIGHT
BEGIN:STANDARD
TZOFFSETFROM:+0200
TZOFFSETTO:+0100
TZNAME:CET
DTSTART:20251026T010000
END:STANDARD
BEGIN:DAYLIGHT
TZOFFSETFROM:+0100
TZOFFSETTO:+0200
TZNAME:CEST
DTSTART:20260329T010000
END:DAYLIGHT
BEGIN:STANDARD
TZOFFSETFROM:+0200
TZOFFSETTO:+0100
TZNAME:CET
DTSTART:20261025T010000
END:STANDARD
BEGIN:DAYLIGHT
TZOFFSETFROM:+0100
TZOFFSETTO:+0200
TZNAME:CEST
DTSTART:20270328T010000
END:DAYLIGHT
BEGIN:STANDARD
TZOFFSETFROM:+0200
TZOFFSETTO:+0100
TZNAME:CET
DTSTART:20271031T010000
END:STANDARD
END:VTIMEZONE
BEGIN:VEVENT
DTSTART;TZID=America/Martinique:20260418T084500
DTEND;TZID=America/Martinique:20260418T123000
DTSTAMP:20260421T193023
CREATED:20240206T202718Z
LAST-MODIFIED:20260416T205904Z
UID:10012224-1776501900-1776515400@www.buzzmagmartinique.com
SUMMARY:RÉVÉLATION EN COULEUR "L'AMOUR ET SES LANGAGES" AU KRYSTEA BAR\, LE FRANÇOIS
DESCRIPTION:Après plusieurs éditions de Révélation en couleur sous différents thèmes\, nous re lançons le thème : « L’amour et ses langages » ! \nJ’animerais pendant la première partie un atelier sur les langages de l’amour avec des jeux interactifs. Si tu n’as jamais entendu parler des langages de l’amour\, tu comprendras beaucoup de choses dans cet atelier\, que ça soit avec ton ou ta partenaire\, tes amis\, ta famille\, tes enfants. Si tu connais déja\, je suis sûre que tu apprendras encore de nouvelles choses et que les jeux te feront réfléchir en groupe haha. \nEn deuxième partie\, nous ferons l’atelier Peinture sur le thème de l’amour\, l’amour comment tu le ressens\, comme tu l’aimerais\, comme tu le vois. L’art thérapie est un moyen de pouvoir se libérer autrement que par la parole et d’exprimer par l’art ce que l’on arrive pas à extérioriser. Je pratique la peinture dès que j’en ressens le besoin et à chaque fois je me sens libérée d’un poids qui me pesait. J’ai voulu partager ce plaisir à travers ma communauté en créant les ateliers « Révélation en couleur » sous différents thèmes. Je tiens à préciser que je ne suis pas Picasso et qu’aucun talent ou expérience artistique n’est nécessaire pour participer à cet atelier. \nLa particularité de cet atelier est que tu peux venir seul.e\, avec un ou une amie\, en famille (soeurs/frère\, parent/enfant) ou en couple ET tu pourras peindre soit sur ton canva seu.le\, soit faire un tableau continue avec 2 canvas collés ou encore peindre à 2 sur le même canva (il sera plus grand si cette option est choisie). \nJe t’invite à aller voir les dernières éditions directement sur ma page Instagram dans la rubrique « Atelier » : Revelation.intime CLIQUE ICI \nRécap du déroulement : \n\nAtelier présentation et discussion sur “les langages de l’amour”\nJeux interactifs\nAtelier Peinture : l’amour comme on le ressent\n\nL’évent se déroulera le samedi 18 Avril 2026 à 9h (prévois 3h30 environ) dans un cadre magnifique avec jardin et calme\, chez KrysTea\, quartier Bois Soldat\, le François. \nMerci d’arriver à 08h45 pour gérer l’emplacement des voitures et pour ne pas retarder le groupe car on n’attendra pas. Merci également de bien renseigner tes coordonnées pour t’envoyer la géoloc et de bien regarder tes emails. \nTarif: 35€ (1 ticket) / 60€ (pour 2) – Matériel de peinture fourni et rafraîchissements (eau et thés pays proposés par KrysTea) \nPlaces limitées. \nAucun remboursement ne sera accepté au delà de 48h. \nPour plus d’info\, contacter Aurélia sur la page Insta ou par email contact.revelationintime@gmail.com \n\n\n\n\nBar à Thé Péyi – Potions\, Encas à base de plantes du jardin créole  \nKrystea Bar\, École-Foyer Rural de Bois Soldat\, Quartier Bois Soldat\, Le François\, 0696 83 04 04 \n \n  \n  \n  \n 
URL:https://www.buzzmagmartinique.com/evenement/revelation-en-couleur-lamour-et-ses-langages-au-krystea-bar-le-francois/
LOCATION:Krystea Bar\, École-Foyer Rural de Bois Soldat\, Quartier Bois Soldat\, Le François\, 97240\, Martinique
CATEGORIES:Art & Culture
ATTACH;FMTTYPE=image/webp:https://www.buzzmagmartinique.com/wp-content/uploads/2024/02/115164_ccbf67afc91a8e4562311d6d797e5f03_700x600_landscape_971.webp
END:VEVENT
BEGIN:VEVENT
DTSTART;TZID=Europe/Paris:20260416T190000
DTEND;TZID=Europe/Paris:20260416T190000
DTSTAMP:20260421T193023
CREATED:20250904T134617Z
LAST-MODIFIED:20260414T221555Z
UID:10069929-1776366000-1776366000@www.buzzmagmartinique.com
SUMMARY:"APÉRO PAPO'THÉ" AU KRYSTEA BAR\, LE FRANÇOIS
DESCRIPTION:Pourquoi j’attire toujours le même type de personne ? \nToujours les mêmes histoires… les mêmes schémas… et si on en parlait ? \nUn moment d’échange sans jugement\, de partages d’expériences de vie\, une bulle bienveillante où trouver une issue dans nos situations compliquées \nDans une ambiance chill et bienveillante \n  \nVente de : \nCocktails & potions infusées \nGrillades sur place \nEntrée : 5€ \nPlaces limitées – réservation conseillée \nContact KrysTea 0696 83 04 04 \nVibes Enchan’thés – les jeudis où les mots se libèrent. \nBilletterie Bizouk \n  \n\nBar à Thé Péyi – Potions\, Encas à base de plantes du jardin créole  \nKrystea Bar\, École-Foyer Rural de Bois Soldat\, Quartier Bois Soldat\, Le François\, 0696 83 04 04
URL:https://www.buzzmagmartinique.com/evenement/apero-papothe-au-krystea-bar-le-francois/
LOCATION:Krystea Bar\, École-Foyer Rural de Bois Soldat\, Quartier Bois Soldat\, Le François\, 97240\, Martinique
CATEGORIES:Soirée
ATTACH;FMTTYPE=image/webp:https://www.buzzmagmartinique.com/wp-content/uploads/2025/09/118552_1fd5cbe98e966179fb1c024bd94e63e0_700x600_landscape_971.webp
END:VEVENT
END:VCALENDAR