BEGIN:VCALENDAR
VERSION:2.0
PRODID:-//Buzzmag - ECPv6.15.20//NONSGML v1.0//EN
CALSCALE:GREGORIAN
METHOD:PUBLISH
X-WR-CALNAME:Buzzmag
X-ORIGINAL-URL:https://www.buzzmagmartinique.com
X-WR-CALDESC:Évènements pour Buzzmag
REFRESH-INTERVAL;VALUE=DURATION:PT1H
X-Robots-Tag:noindex
X-PUBLISHED-TTL:PT1H
BEGIN:VTIMEZONE
TZID:Europe/Paris
BEGIN:DAYLIGHT
TZOFFSETFROM:+0100
TZOFFSETTO:+0200
TZNAME:CEST
DTSTART:20250330T010000
END:DAYLIGHT
BEGIN:STANDARD
TZOFFSETFROM:+0200
TZOFFSETTO:+0100
TZNAME:CET
DTSTART:20251026T010000
END:STANDARD
BEGIN:DAYLIGHT
TZOFFSETFROM:+0100
TZOFFSETTO:+0200
TZNAME:CEST
DTSTART:20260329T010000
END:DAYLIGHT
BEGIN:STANDARD
TZOFFSETFROM:+0200
TZOFFSETTO:+0100
TZNAME:CET
DTSTART:20261025T010000
END:STANDARD
BEGIN:DAYLIGHT
TZOFFSETFROM:+0100
TZOFFSETTO:+0200
TZNAME:CEST
DTSTART:20270328T010000
END:DAYLIGHT
BEGIN:STANDARD
TZOFFSETFROM:+0200
TZOFFSETTO:+0100
TZNAME:CET
DTSTART:20271031T010000
END:STANDARD
END:VTIMEZONE
BEGIN:VTIMEZONE
TZID:America/Halifax
BEGIN:DAYLIGHT
TZOFFSETFROM:-0400
TZOFFSETTO:-0300
TZNAME:ADT
DTSTART:20250309T060000
END:DAYLIGHT
BEGIN:STANDARD
TZOFFSETFROM:-0300
TZOFFSETTO:-0400
TZNAME:AST
DTSTART:20251102T050000
END:STANDARD
BEGIN:DAYLIGHT
TZOFFSETFROM:-0400
TZOFFSETTO:-0300
TZNAME:ADT
DTSTART:20260308T060000
END:DAYLIGHT
BEGIN:STANDARD
TZOFFSETFROM:-0300
TZOFFSETTO:-0400
TZNAME:AST
DTSTART:20261101T050000
END:STANDARD
BEGIN:DAYLIGHT
TZOFFSETFROM:-0400
TZOFFSETTO:-0300
TZNAME:ADT
DTSTART:20270314T060000
END:DAYLIGHT
BEGIN:STANDARD
TZOFFSETFROM:-0300
TZOFFSETTO:-0400
TZNAME:AST
DTSTART:20271107T050000
END:STANDARD
END:VTIMEZONE
BEGIN:VEVENT
DTSTART;TZID=Europe/Paris:20260417T200000
DTEND;TZID=Europe/Paris:20260417T233000
DTSTAMP:20260421T175245
CREATED:20241203T145457Z
LAST-MODIFIED:20260402T174821Z
UID:10011215-1776456000-1776468600@www.buzzmagmartinique.com
SUMMARY:MUSIQUE REGGAE "TWAN TEE & CARLITO" AU KOKOARUM\, LE MARIN
DESCRIPTION:LE PHÉNOMÈNE DIGITAL REGGAE DÉBARQUE ! \nPour sa toute première fois en Martinique\, Twan Tee vient retourner le Kokoarum ! \nMaître dans l’art de fusionner le Reggae Digital\, le Dancehall et des influences Dub modernes\, il apporte avec lui ce son lourd et ces mélodies addictives qui font vibrer les plus grandes scènes européennes. \n️ Attention : Sa tournée sur l’île est ultra-courte. Il n’y aura que quelques rares occasions de vivre cette expérience ! \nVendredi 17 Avril \n20h00 Kokoarum \nVenez découvrir l’énergie brute d’un artiste qui réinvente les codes du Sound System. \n  \n\nKokoarum Rhumerie\, Nouvelle Marina\, boulevard Allègre\, Le Marin\, 0596 48 02 21
URL:https://www.buzzmagmartinique.com/evenement/musique-reggae-twan-tee-carlito-au-kokoarum-le-marin/
LOCATION:Kokoarum Rhumerie\, Nouvelle Marina\, boulevard Allègre\, Le Marin\, 97290\, Martinique
CATEGORIES:Soirée
ATTACH;FMTTYPE=image/webp:https://www.buzzmagmartinique.com/wp-content/uploads/2024/12/661801245_1558985082895185_258259300188815567_n.webp
ORGANIZER;CN="Kokoarum Rhumerie":MAILTO:datobreizh97@gmail.com
END:VEVENT
BEGIN:VEVENT
DTSTART;TZID=Europe/Paris:20260415T190000
DTEND;TZID=Europe/Paris:20260415T230000
DTSTAMP:20260421T175245
CREATED:20250204T212950Z
LAST-MODIFIED:20260330T121035Z
UID:10043476-1776279600-1776294000@www.buzzmagmartinique.com
SUMMARY:SOIRÉE DANSES LATINES PARTY AU KOKOARUM\, LE MARIN
DESCRIPTION:Le Kokoarum se transforme en temple de la danse latine ! \nQue vous soyez pro du déhanché ou simple curieux\, c’est LA soirée à ne pas manquer. \nAu programme : Salsa\, Bachata\, Merengue\, Cha-cha-cha\, Zouk et Reggaeton ! \nLaissez-vous porter par notre DJ\, l’ambiance va être électrique. \nNouveau dans la danse ? \nPas de panique ! \nNotre MC Pat proposera un mini-cours pour les non-initiés. Aucun niveau requis\, ramenez juste votre sourire et votre énergie ! \nCôté bar & resto :\n• Délicieux cocktails pour se rafraîchir.\n• Bons petits plats à prix tout doux. \nDress code : Tenue décontractée de rigueur ! \n\nKokoarum Rhumerie\, Nouvelle Marina\, boulevard Allègre\, Le Marin\, 0596 48 02 21
URL:https://www.buzzmagmartinique.com/evenement/soiree-danses-latines-party-au-kokoarum-le-marin/
LOCATION:Kokoarum Rhumerie\, Nouvelle Marina\, boulevard Allègre\, Le Marin\, 97290\, Martinique
CATEGORIES:Soirée
ATTACH;FMTTYPE=image/webp:https://www.buzzmagmartinique.com/wp-content/uploads/2025/02/657919577_1556326216494405_707913030145336591_n.webp
ORGANIZER;CN="Kokoarum Rhumerie":MAILTO:datobreizh97@gmail.com
END:VEVENT
BEGIN:VEVENT
DTSTART;TZID=Europe/Paris:20260410T200000
DTEND;TZID=Europe/Paris:20260410T233000
DTSTAMP:20260421T175245
CREATED:20250106T165751Z
LAST-MODIFIED:20260402T173542Z
UID:10018663-1775851200-1775863800@www.buzzmagmartinique.com
SUMMARY:MUSIQUE LIVE "THE JACK RABBEATS" AU KOKOARUM\, LE MARIN
DESCRIPTION:THE JACK RABBEATS DÉBARQUE AU KOKOARUM ! \nMarquez vos calendriers : le jeudi 10 avril à 20h\, la soirée s’annonce électrique ! ️ \nSi vous aimez le rock pur\, le rock féminin et l’énergie brute\, vous allez être servis. \nThe Jack Rabbeats prend les commandes pour un live qui va faire trembler les murs : Des riffs de guitares acérés Des lignes de basse qui cognent Une batterie survitaminée Des voix puissantes et habitées \nC’est la recette parfaite pour démarrer l’année en mode Rock’n’Roll ! \nENTRÉE GRATUITE Jeudi 10 avril 20h00 Kokoarum \nVenez tôt pour avoir les meilleures places ! \n\nKokoarum Rhumerie\, Nouvelle Marina\, boulevard Allègre\, Le Marin\, 0596 48 02 21
URL:https://www.buzzmagmartinique.com/evenement/musique-live-the-joubys-au-kokoarum-le-marin/
LOCATION:Kokoarum Rhumerie\, Nouvelle Marina\, boulevard Allègre\, Le Marin\, 97290\, Martinique
CATEGORIES:Soirée
ATTACH;FMTTYPE=image/webp:https://www.buzzmagmartinique.com/wp-content/uploads/2025/01/659049096_1558974316229595_4294482375161354263_n1.webp
ORGANIZER;CN="Kokoarum Rhumerie":MAILTO:datobreizh97@gmail.com
END:VEVENT
BEGIN:VEVENT
DTSTART;TZID=America/Halifax:20260408T200000
DTEND;TZID=America/Halifax:20260408T235900
DTSTAMP:20260421T175245
CREATED:20260112T213115Z
LAST-MODIFIED:20260402T180512Z
UID:10080049-1775678400-1775692740@www.buzzmagmartinique.com
SUMMARY:BOEUF MUSICAL / JAM SESSION AU KOKOARUM\, LE MARIN
DESCRIPTION:La scène du Kokoarum n’attend plus que vous ! \nQue vous soyez musicien dans l’âme\, chanteur de douche ou simplement fan de pépites musicales improvisées\, rejoignez-nous pour nos célèbres Jam Sessions. \nQuand ? Un mercredi sur deux (semaines impaires) \nOù ? Au Kokoarum \nPrix ? Entrée GRATUITE \nPourquoi venir ? \n·         Pour jouer : Sortez vos instruments et partagez votre talent. On met des instruments à votre dispo. \n·         Pour chanter : Le micro est à vous ! \n·         Pour l’ambiance : Des surprises musicales\, des rencontres et une énergie unique. \nBonne humeur et soirées mémorables garanties. On se voit mercredi ? \n\nKokoarum Rhumerie\, Nouvelle Marina\, boulevard Allègre\, Le Marin\, 0596 48 02 21
URL:https://www.buzzmagmartinique.com/evenement/boeuf-musical-jam-session-au-kokoarum-le-marin-2-2-3-2-2/
LOCATION:Kokoarum Rhumerie\, Nouvelle Marina\, boulevard Allègre\, Le Marin\, 97290\, Martinique
CATEGORIES:Soirée
ATTACH;FMTTYPE=image/webp:https://www.buzzmagmartinique.com/wp-content/uploads/2026/01/658493254_1558786029581757_931615162165170991_n.webp
ORGANIZER;CN="Kokoarum Rhumerie":MAILTO:datobreizh97@gmail.com
END:VEVENT
BEGIN:VEVENT
DTSTART;TZID=Europe/Paris:20260403T200000
DTEND;TZID=Europe/Paris:20260403T235900
DTSTAMP:20260421T175245
CREATED:20250401T180803Z
LAST-MODIFIED:20260402T171849Z
UID:10060400-1775246400-1775260740@www.buzzmagmartinique.com
SUMMARY:MUSIQUE LIVE "MUZIK AVENUE" AU KOKOARUM\, LE MARIN
DESCRIPTION:UN GROUPE D’EXCEPTION POUR UNE PREMIÈRE AU KOKOARUM ! \nHabitués des grandes scènes et des casinos\, le groupe MUZIK AVENUE nous fait l’honneur de poser ses valises à la Marina pour la toute première fois le vendredi 3 avril ! \nC’est une occasion unique de voir ces virtuoses du rythme dans le cadre intimiste et chaleureux du Kokoarum. Ils arrivent avec un show survitaminé : les plus grands standards Afro-Caribéens des années 70\, 80 et 90 revisités avec une énergie débordante. \nOù ? Kokoarum\, Nouvelle Marina du Marin \nQuand ? Vendredi 3 avril \nDès 20h00 \nL’expérience : Le prestige des grandes salles\, la chaleur du bord de mer. \nNe manquez pas cette grande première ! Réservez vite pour être aux premières loges. \n\nKokoarum Rhumerie\, Nouvelle Marina\, boulevard Allègre\, Le Marin\, 0596 48 02 21
URL:https://www.buzzmagmartinique.com/evenement/musique-live-muzik-avenue-au-kokoarum-le-marin/
LOCATION:Kokoarum Rhumerie\, Nouvelle Marina\, boulevard Allègre\, Le Marin\, 97290\, Martinique
CATEGORIES:Soirée
ATTACH;FMTTYPE=image/webp:https://www.buzzmagmartinique.com/wp-content/uploads/2025/04/660763743_27259481536985796_5527817116459816118_n.webp
ORGANIZER;CN="Kokoarum Rhumerie":MAILTO:datobreizh97@gmail.com
END:VEVENT
BEGIN:VEVENT
DTSTART;TZID=Europe/Paris:20260401T190000
DTEND;TZID=Europe/Paris:20260401T230000
DTSTAMP:20260421T175245
CREATED:20241203T151147Z
LAST-MODIFIED:20260330T123547Z
UID:10011214-1775070000-1775084400@www.buzzmagmartinique.com
SUMMARY:SOIRÉE DANSES LATINES PARTY AU KOKOARUM\, LE MARIN
DESCRIPTION:Le Kokoarum se transforme en temple de la danse latine ! \nQue vous soyez pro du déhanché ou simple curieux\, c’est LA soirée à ne pas manquer. \nAu programme : Salsa\, Bachata\, Merengue\, Cha-cha-cha\, Zouk et Reggaeton ! Laissez-vous porter par nos DJs\, l’ambiance va être électrique. \nNouveau dans la danse ? \nPas de panique ! \nNotre MC Pat proposera un mini-cours pour les non-initiés. \nAucun niveau requis\, ramenez juste votre sourire et votre énergie ! \nCôté bar & resto : \nDélicieux cocktails pour se rafraîchir.\nBons petits plats à prix tout doux. \nDress code : Tenue décontractée de rigueur ! \nEntrée gratuite \n\nKokoarum Rhumerie\, Nouvelle Marina\, boulevard Allègre\, Le Marin\, 0596 48 02 21
URL:https://www.buzzmagmartinique.com/evenement/soiree-danses-latines-party-au-kokoarum-le-marin-2/
LOCATION:Kokoarum Rhumerie\, Nouvelle Marina\, boulevard Allègre\, Le Marin\, 97290\, Martinique
CATEGORIES:Soirée
ATTACH;FMTTYPE=image/webp:https://www.buzzmagmartinique.com/wp-content/uploads/2024/12/657554545_1556324513161242_7444631341314707591_n.webp
ORGANIZER;CN="Kokoarum Rhumerie":MAILTO:datobreizh97@gmail.com
END:VEVENT
BEGIN:VEVENT
DTSTART;TZID=Europe/Paris:20260123T200000
DTEND;TZID=Europe/Paris:20260123T235900
DTSTAMP:20260421T175245
CREATED:20250707T182302Z
LAST-MODIFIED:20260119T221859Z
UID:10051683-1769198400-1769212740@www.buzzmagmartinique.com
SUMMARY:SOIRÉE ANNÉES 80 AU KOKOARUM\, LE MARIN
DESCRIPTION:Une ambiance Disco-Funk survoltée pour revivre l’âge d’or de la fête ! \nDansez sur les tubes mythiques de Boney-M\, Kool and the Gang\, ABBA et bien d’autres. \n  \nLe show : Laissez-vous transporter par la voix sublime de Mimi et le talent exceptionnel d’Ichem. \nFrissons et groove garantis ! \n  \n\nKokoarum Rhumerie\, Nouvelle Marina\, boulevard Allègre\, Le Marin\, 0596 48 02 21
URL:https://www.buzzmagmartinique.com/evenement/soiree-annees-80-au-kokoarum-le-marin/
LOCATION:Kokoarum Rhumerie\, Nouvelle Marina\, boulevard Allègre\, Le Marin\, 97290\, Martinique
CATEGORIES:Soirée
ATTACH;FMTTYPE=image/webp:https://www.buzzmagmartinique.com/wp-content/uploads/2025/07/f594548d0bad4400ce20a07e8bc72224_700_600_landscape_971.webp
ORGANIZER;CN="Kokoarum Rhumerie":MAILTO:datobreizh97@gmail.com
END:VEVENT
END:VCALENDAR