BEGIN:VCALENDAR
VERSION:2.0
PRODID:-//Buzzmag - ECPv6.15.20//NONSGML v1.0//EN
CALSCALE:GREGORIAN
METHOD:PUBLISH
X-ORIGINAL-URL:https://www.buzzmagmartinique.com
X-WR-CALDESC:Évènements pour Buzzmag
REFRESH-INTERVAL;VALUE=DURATION:PT1H
X-Robots-Tag:noindex
X-PUBLISHED-TTL:PT1H
BEGIN:VTIMEZONE
TZID:Europe/Paris
BEGIN:DAYLIGHT
TZOFFSETFROM:+0100
TZOFFSETTO:+0200
TZNAME:CEST
DTSTART:20250330T010000
END:DAYLIGHT
BEGIN:STANDARD
TZOFFSETFROM:+0200
TZOFFSETTO:+0100
TZNAME:CET
DTSTART:20251026T010000
END:STANDARD
BEGIN:DAYLIGHT
TZOFFSETFROM:+0100
TZOFFSETTO:+0200
TZNAME:CEST
DTSTART:20260329T010000
END:DAYLIGHT
BEGIN:STANDARD
TZOFFSETFROM:+0200
TZOFFSETTO:+0100
TZNAME:CET
DTSTART:20261025T010000
END:STANDARD
BEGIN:DAYLIGHT
TZOFFSETFROM:+0100
TZOFFSETTO:+0200
TZNAME:CEST
DTSTART:20270328T010000
END:DAYLIGHT
BEGIN:STANDARD
TZOFFSETFROM:+0200
TZOFFSETTO:+0100
TZNAME:CET
DTSTART:20271031T010000
END:STANDARD
END:VTIMEZONE
BEGIN:VTIMEZONE
TZID:America/Martinique
BEGIN:STANDARD
TZOFFSETFROM:-0400
TZOFFSETTO:-0400
TZNAME:AST
DTSTART:20250101T000000
END:STANDARD
END:VTIMEZONE
BEGIN:VEVENT
DTSTART;TZID=Europe/Paris:20260426T090000
DTEND;TZID=Europe/Paris:20260426T110000
DTSTAMP:20260425T191238
CREATED:20250814T145340Z
LAST-MODIFIED:20260410T184642Z
UID:10066962-1777194000-1777201200@www.buzzmagmartinique.com
SUMMARY:KARATÉ "GRAN SWÉ" À L'IMS\, LE LAMENTIN
DESCRIPTION:LE GRAN SWÉ EST DE RETOURL’année dernière\, ceux qui étaient là savent. Les sourires qui durent toute la journée\, les courbatures du lendemain portées comme des médailles\, les échanges entre disciplines qu’on n’aurait jamais imaginés… c’était une matinée de folie. \nEt ceux qui ont loupé ça ? \nIls nous ont dit “la prochaine fois je viens”. \nEh bien\, la prochaine fois\, c’est le 26 avrilPas d’inscription à l’avance! \nPas de chichi\, pas de podium\, juste toi\, ton style et ta bonne humeur Trois formats au choix :Codifié – règles posées\, contrôle maîtrisé.Souple – pour tester sans forcer\, avec contrôle.À fond – pour les warriors\, pour ceux qui veulent se donner\, mais en respect total avec leur partenaire.Karaté\, Krav Maga; Yoseikan\, Wushu\, Viet vo dao\, AMV … toutes les disciplines de la Ligue sont invitées ! Débutant\, ceinture noire\, ou champion de shadowboxing dans ton salon\, il y a une place pour toi !L’ambiance ? \nUn mix entre fraternité; fou rire\, coups bien placés et transpi qui pique les yeux ! \nAlors\, tu viens ?!N’oublie pas ta tenue\, des gants (si tu en as)\, ta bouteille d’eau et c’est parti.  \n  \n\n\n\n\n\n\n\n\nInstitut Martiniquais du Sport\, Quartier Mangot Vulcin\, Route du Vert-Pré\, Le Lamentin\, 0596 38 38 00 \n\n \n\n  \nLigue de karaté de Martinique\, liguekarate.972@hotmail.com \n \n 
URL:https://www.buzzmagmartinique.com/evenement/karate-gran-swe-a-lims-le-lamentin/
LOCATION:Institut Martiniquais Du Sport\, Mangot Vulcin\, Le Lamentin\, 97232\, Martinique
CATEGORIES:Sport
ATTACH;FMTTYPE=image/webp:https://www.buzzmagmartinique.com/wp-content/uploads/2025/08/04-26-KARATE.webp
ORGANIZER;CN="Ligue de karat%C3%A9 de Martinique":MAILTO:liguekarate.972@hotmail.com
END:VEVENT
BEGIN:VEVENT
DTSTART;TZID=America/Martinique:20260426T170000
DTEND;TZID=America/Martinique:20260426T220000
DTSTAMP:20260425T191238
CREATED:20240613T114718Z
LAST-MODIFIED:20260420T141107Z
UID:10003263-1777222800-1777240800@www.buzzmagmartinique.com
SUMMARY:SOIRÉE DJ KIZOMBA/SEMBA "SOCIALE PARTY"  PAR ORIGINE SEMBA À L'IMS\, LE LAMENTIN
DESCRIPTION:La sociale Origine Semba c’est un moment 100% danse\, partage et bonne vibe.\nKizomba\, Semba\, Ghetto Zouk\nMusique\, Danse\, Restauration\nDimanche 26 avril\n17h – 22h\nSalle du restaurant de l’IMS\nEntrée :\n1 consommation (boisson ou plat\, min. 5€)\nSur place possibilité de prendre tes entrées pour l’événement avec Dr Kizomba et Mr Tecas en Juin et de payer en 2 fois (deuxième règlement lors de la sociale de mai).\nBoissons\nTimbale Origine Semba obligatoire\nEn vente sur place si tu ne l’as pas encore.\nRestauration by Chef JM\nPrécommande (au plus tard vendredi 24 avril – par WhatsApp)\nGambas 18€\nBrochettes de bœuf / poisson grillé 15€\nPoulet grillé 10€\nAccompagnement: riz\, haricots blancs\nSur place\nSoupe\n* 450 ml 6€\n* 1 L 12€\n* 2 L 20€\nPoulet grillé 12€\nTarifs réduits pour les adhérents\nInfos\n0696 65 76 76\n0696 25 21 08\n0685 22 51 65\nBonne nouvelle pour l’événement de Juin avec DR KIZOMBA ET MR TECAS EN MARTINIQUE!!!\nPour faciliter votre participation\, il sera possible de régler en 2 fois :\n1er paiement : à la sociale du 26 avril\n2ème paiement : à la sociale du 24 mai\nIl ne vous reste plus qu’à composer votre planning selon vos envies :\nWorkshops\nSoirée\nPass Samedi et/ou dimanche \n\nInstitut Martiniquais du Sport\, Quartier Mangot Vulcin\, Route du Vert-Pré\, Le Lamentin\, 0596 38 38 00 \n\n \n\n  \nOrigine Semba \n \n  \n  \n  \n 
URL:https://www.buzzmagmartinique.com/evenement/soiree-dj-kizomba-semba-sociale-party-par-origine-semba-a-lims-le-lamentin/
LOCATION:Institut Martiniquais Du Sport\, Mangot Vulcin\, Le Lamentin\, 97232\, Martinique
CATEGORIES:Soirée
ATTACH;FMTTYPE=image/webp:https://www.buzzmagmartinique.com/wp-content/uploads/2024/06/672352636_122190755138681502_7343111754397138978_n.webp
END:VEVENT
BEGIN:VEVENT
DTSTART;TZID=Europe/Paris:20260508T080000
DTEND;TZID=Europe/Paris:20260508T180000
DTSTAMP:20260425T191238
CREATED:20241018T200828Z
LAST-MODIFIED:20260424T191845Z
UID:10017719-1778227200-1778263200@www.buzzmagmartinique.com
SUMMARY:ÉCHECS "CHAMPIONNAT FÉMININ DE MARTINIQUE" À L'IMS\, LE LAMENTIN
DESCRIPTION:Qui sera la Championne de Martinique 2026 ?\n\n\n\nLa Ligue d’Échecs de Martinique vous donne rendez-vous le 8 mai 2026 à l’IMS pour une journée exceptionnelle dédiée à la compétition féminine.\n\n\n\nDe 08h00 à 17h00\, les meilleures joueuses de l’île s’affronteront dans une ambiance à la fois studieuse\, conviviale et passionnée\, avec un objectif commun : décrocher le titre de Championne de Martinique Féminine 2026.\n\n\n\nAccueil et Pointage des joueuses de 08h00 à 08h45\n\n\n\nRonde 1 à 4 : 09h00 à 12h30\n\n\n\nPause déjeuner de 12h30 à 14h00\n\n\n\nRondes 5 à 7 avec départages éventuels : 14h00 à 17h00\n\nRemise des prix à 17h00\n\n\n\nRéservation possible pour le sandwich à midi\n\n\nhttps://www.martinique-echecs.com/spip.php?article136\n\n  \n\nInstitut Martiniquais du Sport\, Quartier Mangot Vulcin\, Route du Vert-Pré\, Le Lamentin\, 0596 38 38 00 \n\n \n\n  \nLigue d’Echecs de la Martinique\, +596 696 16 54 59\, martiniqueechecs@gmail.com \n \n\n 
URL:https://www.buzzmagmartinique.com/evenement/echecs-championnat-feminin-de-martinique-a-lims-le-lamentin/
LOCATION:Institut Martiniquais Du Sport\, Mangot Vulcin\, Le Lamentin\, 97232\, Martinique
CATEGORIES:Sport
ATTACH;FMTTYPE=image/webp:https://www.buzzmagmartinique.com/wp-content/uploads/2024/10/05-08-ECHECS.webp
ORGANIZER;CN="Ligue d'Echecs de la Martinique":MAILTO:martiniqueechecs@gmail.com
END:VEVENT
END:VCALENDAR