BEGIN:VCALENDAR
VERSION:2.0
PRODID:-//Buzzmag - ECPv6.15.20//NONSGML v1.0//EN
CALSCALE:GREGORIAN
METHOD:PUBLISH
X-ORIGINAL-URL:https://www.buzzmagmartinique.com
X-WR-CALDESC:Évènements pour Buzzmag
REFRESH-INTERVAL;VALUE=DURATION:PT1H
X-Robots-Tag:noindex
X-PUBLISHED-TTL:PT1H
BEGIN:VTIMEZONE
TZID:Europe/Paris
BEGIN:DAYLIGHT
TZOFFSETFROM:+0100
TZOFFSETTO:+0200
TZNAME:CEST
DTSTART:20240331T010000
END:DAYLIGHT
BEGIN:STANDARD
TZOFFSETFROM:+0200
TZOFFSETTO:+0100
TZNAME:CET
DTSTART:20241027T010000
END:STANDARD
BEGIN:DAYLIGHT
TZOFFSETFROM:+0100
TZOFFSETTO:+0200
TZNAME:CEST
DTSTART:20250330T010000
END:DAYLIGHT
BEGIN:STANDARD
TZOFFSETFROM:+0200
TZOFFSETTO:+0100
TZNAME:CET
DTSTART:20251026T010000
END:STANDARD
BEGIN:DAYLIGHT
TZOFFSETFROM:+0100
TZOFFSETTO:+0200
TZNAME:CEST
DTSTART:20260329T010000
END:DAYLIGHT
BEGIN:STANDARD
TZOFFSETFROM:+0200
TZOFFSETTO:+0100
TZNAME:CET
DTSTART:20261025T010000
END:STANDARD
END:VTIMEZONE
BEGIN:VEVENT
DTSTART;TZID=Europe/Paris:20250502T193000
DTEND;TZID=Europe/Paris:20250502T230000
DTSTAMP:20260420T142322
CREATED:20221121T134251Z
LAST-MODIFIED:20250502T142421Z
UID:10003457-1746214200-1746226800@www.buzzmagmartinique.com
SUMMARY:MUSIQUE LIVE AU BAR DE L'IMPÉRATRICE\, FORT DE FRANCE
DESCRIPTION:Éric ILDEFONSE (piano et synthé) \nJoël VOISIN (batterie) \nSico JOSEPH -ROSE (basse) \nInvité Alex MANETTE (percussions) \nL’entrée est gratuite et un accès est prévu pour les personnes à mobilité réduite \nInfos ️ 0596 63 06 82 \nLa JAM est possible \n\n\nHôtel l’Impératrice\, 15 rue de la Liberté\, Fort-de-France\, 0596 63 06 82
URL:https://www.buzzmagmartinique.com/evenement/musique-live-au-bar-de-limperatrice-fort-de-france-2/
LOCATION:Hôtel Impératrice Village\, Anse Mitan\, Rue des ixoras\, Les Trois-ilets\, 97229
CATEGORIES:Soirée
ATTACH;FMTTYPE=image/webp:https://www.buzzmagmartinique.com/wp-content/uploads/2022/11/IMG-20250430-WA00171.webp
END:VEVENT
END:VCALENDAR