BEGIN:VCALENDAR
VERSION:2.0
PRODID:-//Buzzmag - ECPv6.15.20//NONSGML v1.0//EN
CALSCALE:GREGORIAN
METHOD:PUBLISH
X-WR-CALNAME:Buzzmag
X-ORIGINAL-URL:https://www.buzzmagmartinique.com
X-WR-CALDESC:Évènements pour Buzzmag
REFRESH-INTERVAL;VALUE=DURATION:PT1H
X-Robots-Tag:noindex
X-PUBLISHED-TTL:PT1H
BEGIN:VTIMEZONE
TZID:Europe/Paris
BEGIN:DAYLIGHT
TZOFFSETFROM:+0100
TZOFFSETTO:+0200
TZNAME:CEST
DTSTART:20240331T010000
END:DAYLIGHT
BEGIN:STANDARD
TZOFFSETFROM:+0200
TZOFFSETTO:+0100
TZNAME:CET
DTSTART:20241027T010000
END:STANDARD
BEGIN:DAYLIGHT
TZOFFSETFROM:+0100
TZOFFSETTO:+0200
TZNAME:CEST
DTSTART:20250330T010000
END:DAYLIGHT
BEGIN:STANDARD
TZOFFSETFROM:+0200
TZOFFSETTO:+0100
TZNAME:CET
DTSTART:20251026T010000
END:STANDARD
BEGIN:DAYLIGHT
TZOFFSETFROM:+0100
TZOFFSETTO:+0200
TZNAME:CEST
DTSTART:20260329T010000
END:DAYLIGHT
BEGIN:STANDARD
TZOFFSETFROM:+0200
TZOFFSETTO:+0100
TZNAME:CET
DTSTART:20261025T010000
END:STANDARD
END:VTIMEZONE
BEGIN:VEVENT
DTSTART;TZID=Europe/Paris:20250304T210000
DTEND;TZID=Europe/Paris:20250304T210000
DTSTAMP:20260421T193022
CREATED:20220627T203526Z
LAST-MODIFIED:20250303T164058Z
UID:10002667-1741122000-1741122000@www.buzzmagmartinique.com
SUMMARY:SOIRÉE CARNAVALESQUE À L'HABITATION VIEU\, SAINTE MARIE
DESCRIPTION:  \n\nHabitation Vieu\, rue Habitation Vieu\, Sainte-Marie\, 0696 22 71 98 \n \n  \n 
URL:https://www.buzzmagmartinique.com/evenement/soiree-carnavalesque-a-lhabitation-vieu-sainte-marie/
LOCATION:Habitation Vieu\, rue Habitation Vieu\, Sainte-Marie\, 97230\, Martinique
CATEGORIES:Soirée
ATTACH;FMTTYPE=image/png:https://www.buzzmagmartinique.com/wp-content/uploads/2022/06/695e12c36e4cc3d6ac85376558fb553d_700_600_landscape_97.png
END:VEVENT
END:VCALENDAR