BEGIN:VCALENDAR
VERSION:2.0
PRODID:-//Buzzmag - ECPv6.15.20//NONSGML v1.0//EN
CALSCALE:GREGORIAN
METHOD:PUBLISH
X-ORIGINAL-URL:https://www.buzzmagmartinique.com
X-WR-CALDESC:Évènements pour Buzzmag
REFRESH-INTERVAL;VALUE=DURATION:PT1H
X-Robots-Tag:noindex
X-PUBLISHED-TTL:PT1H
BEGIN:VTIMEZONE
TZID:America/Martinique
BEGIN:STANDARD
TZOFFSETFROM:-0400
TZOFFSETTO:-0400
TZNAME:AST
DTSTART:20250101T000000
END:STANDARD
END:VTIMEZONE
BEGIN:VTIMEZONE
TZID:Europe/Paris
BEGIN:DAYLIGHT
TZOFFSETFROM:+0100
TZOFFSETTO:+0200
TZNAME:CEST
DTSTART:20250330T010000
END:DAYLIGHT
BEGIN:STANDARD
TZOFFSETFROM:+0200
TZOFFSETTO:+0100
TZNAME:CET
DTSTART:20251026T010000
END:STANDARD
BEGIN:DAYLIGHT
TZOFFSETFROM:+0100
TZOFFSETTO:+0200
TZNAME:CEST
DTSTART:20260329T010000
END:DAYLIGHT
BEGIN:STANDARD
TZOFFSETFROM:+0200
TZOFFSETTO:+0100
TZNAME:CET
DTSTART:20261025T010000
END:STANDARD
BEGIN:DAYLIGHT
TZOFFSETFROM:+0100
TZOFFSETTO:+0200
TZNAME:CEST
DTSTART:20270328T010000
END:DAYLIGHT
BEGIN:STANDARD
TZOFFSETFROM:+0200
TZOFFSETTO:+0100
TZNAME:CET
DTSTART:20271031T010000
END:STANDARD
END:VTIMEZONE
BEGIN:VTIMEZONE
TZID:Europe/Paris
BEGIN:DAYLIGHT
TZOFFSETFROM:+0100
TZOFFSETTO:+0200
TZNAME:CEST
DTSTART:20250330T010000
END:DAYLIGHT
BEGIN:STANDARD
TZOFFSETFROM:+0200
TZOFFSETTO:+0100
TZNAME:CET
DTSTART:20251026T010000
END:STANDARD
BEGIN:DAYLIGHT
TZOFFSETFROM:+0100
TZOFFSETTO:+0200
TZNAME:CEST
DTSTART:20260329T010000
END:DAYLIGHT
BEGIN:STANDARD
TZOFFSETFROM:+0200
TZOFFSETTO:+0100
TZNAME:CET
DTSTART:20261025T010000
END:STANDARD
BEGIN:DAYLIGHT
TZOFFSETFROM:+0100
TZOFFSETTO:+0200
TZNAME:CEST
DTSTART:20270328T010000
END:DAYLIGHT
BEGIN:STANDARD
TZOFFSETFROM:+0200
TZOFFSETTO:+0100
TZNAME:CET
DTSTART:20271031T010000
END:STANDARD
END:VTIMEZONE
BEGIN:VTIMEZONE
TZID:America/Halifax
BEGIN:DAYLIGHT
TZOFFSETFROM:-0400
TZOFFSETTO:-0300
TZNAME:ADT
DTSTART:20250309T060000
END:DAYLIGHT
BEGIN:STANDARD
TZOFFSETFROM:-0300
TZOFFSETTO:-0400
TZNAME:AST
DTSTART:20251102T050000
END:STANDARD
BEGIN:DAYLIGHT
TZOFFSETFROM:-0400
TZOFFSETTO:-0300
TZNAME:ADT
DTSTART:20260308T060000
END:DAYLIGHT
BEGIN:STANDARD
TZOFFSETFROM:-0300
TZOFFSETTO:-0400
TZNAME:AST
DTSTART:20261101T050000
END:STANDARD
BEGIN:DAYLIGHT
TZOFFSETFROM:-0400
TZOFFSETTO:-0300
TZNAME:ADT
DTSTART:20270314T060000
END:DAYLIGHT
BEGIN:STANDARD
TZOFFSETFROM:-0300
TZOFFSETTO:-0400
TZNAME:AST
DTSTART:20271107T050000
END:STANDARD
END:VTIMEZONE
BEGIN:VEVENT
DTSTART;TZID=America/Martinique:20260421T200000
DTEND;TZID=America/Martinique:20260421T220000
DTSTAMP:20260421T055408
CREATED:20241031T194235Z
LAST-MODIFIED:20260113T134016Z
UID:10017940-1776801600-1776808800@www.buzzmagmartinique.com
SUMMARY:SPECTACLE "AU DESSUS DE TOUT" PAR AZ AU GRAND CARBET DU PARC CULTUREL AIMÉ CÉSAIRE\, FORT DE FRANCE
DESCRIPTION:ECLATSPROD vous présente AZ dans son spectacle « AU DESSUS DE TOUT » \n« Au-dessus de tout » est un spectacle sur un phénomène peu avouable : le manque d’enthousiasme. \nAz s’attaque à notre époque et ses injonctions : être passionné\, être investi\, être “à fond”\, et surtout avoir une histoire. \nIl construit un stand-up très écrit qui transforme le vague à l’âme en fou rire\, et le désabusement en miroir collectif. \nUn spectacle sur la tyrannie de l’extraordinaire racontée par un mec qui ne trouve rien extraordinaire. \nBILLETTERIE \n  \n\nGrand Carbet du Parc culturel Aimé Césaire\, Place José Marti\, Fort de France
URL:https://www.buzzmagmartinique.com/evenement/spectacle-au-dessus-de-tout-par-az-au-grand-carbet-du-parc-culturel-aime-cesaire-fort-de-france/
LOCATION:Grand Carbet du Parc culturel Aimé Césaire\, Place José Marti\, Fort de France\, 97200\, Martinique
CATEGORIES:Art & Culture
ATTACH;FMTTYPE=image/webp:https://www.buzzmagmartinique.com/wp-content/uploads/2024/10/INSTA-AZ-111.webp
ORGANIZER;CN="ECLATSPROD":MAILTO:info@eclatsprod.com
END:VEVENT
BEGIN:VEVENT
DTSTART;TZID=America/Martinique:20260421T200000
DTEND;TZID=America/Martinique:20260421T220000
DTSTAMP:20260421T055408
CREATED:20241104T222056Z
LAST-MODIFIED:20260420T153212Z
UID:10018008-1776801600-1776808800@www.buzzmagmartinique.com
SUMMARY:MUSIQUE "MAURANNE VOYER" AU GRAND CARBET DU PARC CULTUREL AIMÉ CÉSAIRE\, FORT DE FRANCE
DESCRIPTION:Contact\n0696 45 47 28 0696 16 11 64\nassociation.kreol@wanadoo.fr \nBilletterie Bizouk \n\n\nGrand Carbet du Parc culturel Aimé Césaire\, Place José Marti\, Fort de France
URL:https://www.buzzmagmartinique.com/evenement/musique-mauranne-voyer-au-grand-carbet-du-parc-culturel-aime-cesaire-fort-de-france/
LOCATION:Grand Carbet du Parc culturel Aimé Césaire\, Place José Marti\, Fort de France\, 97200\, Martinique
CATEGORIES:Art & Culture
ATTACH;FMTTYPE=image/webp:https://www.buzzmagmartinique.com/wp-content/uploads/2024/11/116506_13faa7e887e1cf94def4a578a5038ddc_1400x1867_auto_971.webp
END:VEVENT
BEGIN:VEVENT
DTSTART;TZID=America/Martinique:20260430T190000
DTEND;TZID=America/Martinique:20260430T220000
DTSTAMP:20260421T055408
CREATED:20250225T211831Z
LAST-MODIFIED:20260326T155451Z
UID:10047525-1777575600-1777586400@www.buzzmagmartinique.com
SUMMARY:SPECTACLE MUSICAL & DANSES "L'HARMONIE DES ARTS" AU GRAND CARBET DU PARC CULTUREL AIMÉ CÉSAIRE\, FORT DE FRANCE
DESCRIPTION:L’école de musique HJM Art Music et l’école Pol’form vous convie vers l’émerveillement en live \nUn show musique et danse exceptionnel\nEt des invités surprises \nAn sèl dat ! Pa raté sa ! \nBilletterie \nHJM ART MUSIC\n5 rue des écoles – Vert-Pré\, 0596 04 56 78\, 0696 60 20 29 \n\nGrand Carbet du Parc culturel Aimé Césaire\, Place José Marti\, Fort de France \n \n \n 
URL:https://www.buzzmagmartinique.com/evenement/spectacle-musical-danses-lharmonie-des-arts-au-grand-carbet-du-parc-culturel-aime-cesaire-fort-de-france/
LOCATION:Grand Carbet du Parc culturel Aimé Césaire\, Place José Marti\, Fort de France\, 97200\, Martinique
CATEGORIES:Art & Culture
ATTACH;FMTTYPE=image/webp:https://www.buzzmagmartinique.com/wp-content/uploads/2025/02/IMG-20260325-WA0013.webp
END:VEVENT
BEGIN:VEVENT
DTSTART;TZID=America/Martinique:20260503T160000
DTEND;TZID=America/Martinique:20260503T190000
DTSTAMP:20260421T055408
CREATED:20240905T212723Z
LAST-MODIFIED:20260223T153941Z
UID:10078304-1777824000-1777834800@www.buzzmagmartinique.com
SUMMARY:SPECTACLE "HOMMAGE À 5 POTO MITAN TRADISYON NOU" PAR LES BALISIERS AU GRAND CARBET DU PARC CULTUREL AIMÉ CÉSAIRE\, FORT DE FRANCE
DESCRIPTION:Le groupe folklorique LES BALISIERS célèbre ses 60 ans cette année\n\nÀ l’honneur nos POTO MITAN TRADISYON NOU \nVenez nombreux nous soutenir et partagez massivementTickets en vente sur Bizouk \nTradisyon Péyi NouSé Fos Nou \n\n\n\n\nGrand Carbet du Parc culturel Aimé Césaire\, Place José Marti\, Fort de France \n \n 
URL:https://www.buzzmagmartinique.com/evenement/spectacle-hommage-a-5-poto-mitan-tradisyon-nou-par-les-balisiers-au-grand-carbet-du-parc-culturel-aime-cesaire-fort-de-france/
LOCATION:Grand Carbet du Parc culturel Aimé Césaire\, Place José Marti\, Fort de France\, 97200\, Martinique
CATEGORIES:Art & Culture
ATTACH;FMTTYPE=image/webp:https://www.buzzmagmartinique.com/wp-content/uploads/2024/09/629458688_1220358350295485_417731301739738877_n11111.webp
END:VEVENT
BEGIN:VEVENT
DTSTART;TZID=Europe/Paris:20260506T150000
DTEND;TZID=Europe/Paris:20260506T220000
DTSTAMP:20260421T055408
CREATED:20181127T154731Z
LAST-MODIFIED:20260402T114650Z
UID:10002036-1778079600-1778104800@www.buzzmagmartinique.com
SUMMARY:THÉÂTRE "KANNARI" AU GRAND CARBET DU PARC CULTUREL AIMÉ CÉSAIRE\, FORT DE FRANCE
DESCRIPTION:Famille je vous hais ! \nPou sa\, zot ké ri ! \nUne variation créole sur l’amour et les failles d’une famille : quand l’étranger s’invite à la table et que les liens se transforment en mutation identitaire. \nDans la famille Mounici\, le vendredi soir est un rituel et une tension constante.  eux invités étrangers bousculent l’ordre établi\, et c’est le feu aux poudres. \n– «  Mon chef de service m’a dit qu’il voulait manger chez l’habitant\, sans protocole\, mais chez l’habitant. \n— Sa ki\, chélabitan ?… » \n  \nEntre comédie franche\, satyrique et moments de tendresse\, le spectateur découvre amusé\,  les faces cachées de la fraternité\, au cœur d’un cocon antillais où le français et le créole se répondent\, se brouillent et s’allient. \n  \nCe que vous verrez : \nUne pièce rythmée par la gouaille créole\, et quelle distribution :  Jocelyne BEROARD / Jean-Claude DUVERGER / Hervé DELUGE / Caroline SAVARD /  Emile PELTI /Fiona SOUTIF/ Josée Llyan LABONNE \n  \n– Alow\, Manman\, ou pa lé èt potomitan ankow ! \n– le potomitan a droit au bonheur ! \n  \nSuite naturelle du phénomène Moun Isi (variation créole de la pièce\, « Un air de famille ») avec une tonalité plus audacieuse sur le monde qui change tellement vite que l’on en perd son identité. \nUne pièce en langue martiniquaise – français-créole – \n  \nBilletterie en ligne sur : https://www.billetweb.fr/kannari \nInfoline : 0696 93 14 34 \n\nGrand Carbet du Parc culturel Aimé Césaire\, Place José Marti\, Fort de France \n \n \n 
URL:https://www.buzzmagmartinique.com/evenement/theatre-kannari-au-grand-carbet-du-parc-culturel-aime-cesaire-fort-de-france/
LOCATION:Grand Carbet du Parc culturel Aimé Césaire\, Place José Marti\, Fort de France\, 97200\, Martinique
CATEGORIES:Art & Culture
ATTACH;FMTTYPE=image/webp:https://www.buzzmagmartinique.com/wp-content/uploads/2018/11/IMG-20260320-WA0025.webp
END:VEVENT
BEGIN:VEVENT
DTSTART;TZID=America/Martinique:20260507T183000
DTEND;TZID=America/Martinique:20260507T220000
DTSTAMP:20260421T055408
CREATED:20240813T111726Z
LAST-MODIFIED:20260420T130512Z
UID:10003792-1778178600-1778191200@www.buzzmagmartinique.com
SUMMARY:SPECTACLE "ORIGAMI" PAR AHMED SYLLA AU GRAND CARBET DU PARC CULTUREL AIMÉ CÉSAIRE\, FORT DE FRANCE
DESCRIPTION:ECLATSPROD en accord avec GILBERT COULLIER PRODUCTIONS vous présente AHMED SYLLA dans son spectacle « ORIGAMI »\, \nOrigami : ou l’art du pliage. \nJe vois nos destins comme des origamis qui se plient à des choix\, des joies et des peines\, des victoires et des échecs… \nPendant plus de 10 ans maintenant\, je me suis plié en quatre pour essayer de vous plier en deux. \nJe me demande quelle forme aurait pris mon origami\, mon destin\, si je n’avais pas plié bagage de ma ville natale… \nOuverture des portes: 18h30 \nDébut du spectacle: 20h \nFermeture des portes: 20h30 \n1 ticket acheté = 1 entrée \nBilletterie Bizouk \n\n\nGrand Carbet du Parc culturel Aimé Césaire\, Place José Marti\, Fort de France \n \n \n 
URL:https://www.buzzmagmartinique.com/evenement/spectacle-origami-par-ahmed-sylla-au-grand-carbet-du-parc-culturel-aime-cesaire-fort-de-france-2/
LOCATION:Grand Carbet du Parc culturel Aimé Césaire\, Place José Marti\, Fort de France\, 97200\, Martinique
CATEGORIES:Art & Culture
ATTACH;FMTTYPE=image/webp:https://www.buzzmagmartinique.com/wp-content/uploads/2024/08/99656_53740482fb759c7b3807b51b2f8f6e77_1400x1867_auto_971.webp
END:VEVENT
BEGIN:VEVENT
DTSTART;TZID=America/Martinique:20260509T183000
DTEND;TZID=America/Martinique:20260509T220000
DTSTAMP:20260421T055408
CREATED:20241022T220821Z
LAST-MODIFIED:20260420T125906Z
UID:10017823-1778351400-1778364000@www.buzzmagmartinique.com
SUMMARY:SPECTACLE "ORIGAMI" PAR AHMED SYLLA AU GRAND CARBET DU PARC CULTUREL AIMÉ CÉSAIRE\, FORT DE FRANCE
DESCRIPTION:ECLATSPROD en accord avec GILBERT COULLIER PRODUCTIONS vous présente AHMED SYLLA dans son spectacle « ORIGAMI »\,\n\nOrigami : ou l’art du pliage. \nJe vois nos destins comme des origamis qui se plient à des choix\, des joies et des peines\, des victoires et des échecs… \nPendant plus de 10 ans maintenant\, je me suis plié en quatre pour essayer de vous plier en deux. \nJe me demande quelle forme aurait pris mon origami\, mon destin\, si je n’avais pas plié bagage de ma ville natale… \nBilletterie Bizouk \n\n\n\nGrand Carbet du Parc culturel Aimé Césaire\, Place José Marti\, Fort de France
URL:https://www.buzzmagmartinique.com/evenement/spectacle-origami-par-ahmed-sylla-au-grand-carbet-du-parc-culturel-aime-cesaire-fort-de-france/
LOCATION:Grand Carbet du Parc culturel Aimé Césaire\, Place José Marti\, Fort de France\, 97200\, Martinique
CATEGORIES:Art & Culture
ATTACH;FMTTYPE=image/webp:https://www.buzzmagmartinique.com/wp-content/uploads/2024/10/POST-2-AHMED-SYLLA-MTQ-BUZZ111.webp
ORGANIZER;CN="ECLATSPROD":MAILTO:info@eclatsprod.com
END:VEVENT
BEGIN:VEVENT
DTSTART;TZID=America/Martinique:20260526T200000
DTEND;TZID=America/Martinique:20260526T220000
DTSTAMP:20260421T055408
CREATED:20240826T171814Z
LAST-MODIFIED:20260113T132025Z
UID:10002587-1779825600-1779832800@www.buzzmagmartinique.com
SUMMARY:SPECTACLE "IN VIGNEAUX VERITAS" PAR CAROLINE VIGNEAUX AU GRAND CARBET DU PARC CULTUREL AIMÉ CÉSAIRE\, FORT DE FRANCE
DESCRIPTION:ECLATSPROD présente CAROLINE VIGNEAUX dans son nouveau one-woman-show « IN VIGNEAUX VERITAS ». \nCaroline est à la moitié de sa vie\, pile entre les jeunes et les vieux : elle a un compte TikTok mais elle paie quelqu’un pour poster\, parce qu’elle comprend rien! Elle a fini de grimper en haut de la montagne et elle admire la vue\, avant d’entamer la redescente… Et du sommet de sa vie\, elle est bien décidée à dire enfin la vérité\, toute la vérité\, mais pas que la vérité… Sur quoi ? Sur la légalisation de la drogue dure dans les EHPADs\, sur les masculinistes et les limites du féminisme (car\, oui\, elle en a trouvé !)\, sur les dangers du porno et des Corn Flakes chez les jeunes\, sur les problématiques de genre et les dysfonctionnements érectiles chez les moins\njeunes\, sur la culture woke\, sur son angoisse de l’IA et évidemment sur son aventure avec Brad Pitt. \nBILLETTERIE \n\nGrand Carbet du Parc culturel Aimé Césaire\, Place José Marti\, Fort de France
URL:https://www.buzzmagmartinique.com/evenement/spectacle-in-vigneaux-veritas-par-caroline-vigneaux-au-grand-carbet-du-parc-culturel-aime-cesaire-fort-de-france/
LOCATION:Grand Carbet du Parc culturel Aimé Césaire\, Place José Marti\, Fort de France\, 97200\, Martinique
CATEGORIES:Art & Culture
ATTACH;FMTTYPE=image/webp:https://www.buzzmagmartinique.com/wp-content/uploads/2024/08/CAROLINE-VIGNEAUX-MTQ1.webp
ORGANIZER;CN="ECLATSPROD":MAILTO:info@eclatsprod.com
END:VEVENT
BEGIN:VEVENT
DTSTART;TZID=Europe/Paris:20260601T200000
DTEND;TZID=Europe/Paris:20260601T220000
DTSTAMP:20260421T055408
CREATED:20240402T120617Z
LAST-MODIFIED:20260113T145612Z
UID:10009347-1780344000-1780351200@www.buzzmagmartinique.com
SUMMARY:SPECTACLE "PAS COMME EUX" PAR NINO ARIAL AU GRAND CARBET DU PARC CULTUREL AIMÉ CÉSAIRE\, FORT DE FRANCE
DESCRIPTION:ECLATSPROD en accord avec JUICY PRODUCTION vous présente NINO ARIAL dans son spectacle “PAR COMME EUX” \nEn 2016\, alors qu’il mène une vie tranquille de bureaux\, il fait le pari de tout lâcher et de se lance sur YouTube. 110 millions de vues plus tard\, il décide encore une fois de se mettre en danger en brisant le 4ème mur et monte sur scène. Après avoir fait ses armes en première partie d’Alban Ivanov et Redouane Bougheraba\, il est aujourd’hui enfin prêt à vous présenter son 1er spectacle. Nino se dévoile\, dépeint sa vie et sa vision du monde à travers des sketchs qu’il n’a piqué à personne ! \nBILLETTERIE \n\nGrand Carbet du Parc culturel Aimé Césaire\, Place José Marti\, Fort de France
URL:https://www.buzzmagmartinique.com/evenement/spectacle-pas-comme-eux-par-nino-arial-au-grand-carbet-du-parc-culturel-aime-cesaire-fort-de-france/
LOCATION:Grand Carbet du Parc culturel Aimé Césaire\, Place José Marti\, Fort de France\, 97200\, Martinique
CATEGORIES:Art & Culture
ATTACH;FMTTYPE=image/webp:https://www.buzzmagmartinique.com/wp-content/uploads/2024/04/NINO-ARIAL-JUIN-202511.webp
END:VEVENT
BEGIN:VEVENT
DTSTART;TZID=America/Martinique:20260908T200000
DTEND;TZID=America/Martinique:20260908T220000
DTSTAMP:20260421T055408
CREATED:20241017T140906Z
LAST-MODIFIED:20260113T145929Z
UID:10017695-1788897600-1788904800@www.buzzmagmartinique.com
SUMMARY:SPECTACLE "VIGILANCE" PAR EDGAR YVES AU GRAND CARBET DU PARC CULTUREL AIMÉ CÉSAIRE\, FORT DE FRANCE
DESCRIPTION:ECLATSPROD présente EDGAR YVES dans son spectacle “VIGILANCE” \nAprès le succès de ses spectacles « J’vais l’faire »\, « Certifié Taquin » et « Solide »\, Edgar Yves revient sur scène avec un nouveau show encore plus audacieux et percutant ! \nHumoriste franco-béninois à l’énergie débordante\, il s’impose comme l’une des figures majeures du stand-up francophone. Son humour mêle punchlines corrosives\, réflexions sur notre société et engagement pour une liberté d’expression intelligente et responsable. \nCes dernières années\, Edgar Yves a rencontré un immense succès aux Antilles\, où il a tissé un lien fort avec le public. Il sera de retour en avec son nouveau spectacle exceptionnel à ne pas manquer ! \nEn 2026\, Edgar Yves revient plus inspiré que jamais pour un spectacle où se mêlent rires\, émotions et vérités bien envoyées. \nBILLETTERIE \n  \n\nGrand Carbet du Parc culturel Aimé Césaire\, Place José Marti\, Fort de France \n \n 
URL:https://www.buzzmagmartinique.com/evenement/spectacle-vigilance-par-edgar-yves-au-grand-carbet-du-parc-culturel-aime-cesaire-fort-de-france/
LOCATION:Grand Carbet du Parc culturel Aimé Césaire\, Place José Marti\, Fort de France\, 97200\, Martinique
CATEGORIES:Art & Culture
ATTACH;FMTTYPE=image/webp:https://www.buzzmagmartinique.com/wp-content/uploads/2024/10/tempFileForShare_20260113-08582911.webp
END:VEVENT
BEGIN:VEVENT
DTSTART;TZID=America/Martinique:20260923T200000
DTEND;TZID=America/Martinique:20260923T220000
DTSTAMP:20260421T055408
CREATED:20241105T125611Z
LAST-MODIFIED:20260113T133148Z
UID:10018022-1790193600-1790200800@www.buzzmagmartinique.com
SUMMARY:SPECTACLE "CACTUS" PAR ÉLIE SÉMOUN AU GRAND CARBET DU PARC CULTUREL AIMÉ CÉSAIRE\, FORT DE FRANCE
DESCRIPTION:ECLATSPROD EN ACCORD AVEC GILBERT COULLIER PRODUCTIONS vous présente ELIE SEMOUN dans son spectacle\, “CACTUS » avec Rire & Chansons \nInutile de chercher bien loin pour comprendre le ton de CACTUS ! En donnant ce nom à son nouveau spectacle\, Elie Semoun annonce la couleur : ça va piquer ! \nDepuis 30 ans\, l’humoriste s’est imposé comme l’un des humoristes les plus incisifs et délicieusement décalés de la scène française. Son style\, qui mêle finesse et audace\, a inspiré de nombreuses générations d’artistes. \nPour son huitième spectacle\, Elie Semoun opère un léger virage : le stand-up occupe désormais une place plus importante\, une nouveauté pour lui. Mais ne vous y trompez pas\, CACTUS reste fidèle à son goût pour les personnages. Parmi la galerie de ses nouveaux monstres\, vous croiserez Jean Abdul\, qui assurera sa première partie\, un fils qui emmène son père visiter un EHPAD\, Xavier l’handicapé moteur qui présente sa femme à sa mère\, un père confronté à la transition de son fils\, un professeur de karaté raciste\, ou encore un regard mordant sur le harcèlement sexuel et la religion. \nAvec CACTUS\, Elie Semoun nous propose une vision à la fois profonde et légère de notre société\, entre violence et inspiration\, où les thèmes de l’intolérance\, du tabou et de l’injustice sont abordés sans fard\, mais toujours avec cette touche incisive qui le caractérise. \nBILLETTERIE \n  \n\n\nGrand Carbet du Parc culturel Aimé Césaire\, Place José Marti\, Fort de France
URL:https://www.buzzmagmartinique.com/evenement/spectacle-cactus-par-elie-semoun-au-grand-carbet-du-parc-culturel-aime-cesaire-fort-de-france/
LOCATION:Grand Carbet du Parc culturel Aimé Césaire\, Place José Marti\, Fort de France\, 97200\, Martinique
CATEGORIES:Art & Culture
ATTACH;FMTTYPE=image/webp:https://www.buzzmagmartinique.com/wp-content/uploads/2024/11/ELIE-SEMOUN-MTQ1111.webp
ORGANIZER;CN="ECLATSPROD":MAILTO:info@eclatsprod.com
END:VEVENT
BEGIN:VEVENT
DTSTART;TZID=America/Halifax:20260926T200000
DTEND;TZID=America/Halifax:20260926T230000
DTSTAMP:20260421T055408
CREATED:20240828T123945Z
LAST-MODIFIED:20260227T132820Z
UID:10002151-1790452800-1790463600@www.buzzmagmartinique.com
SUMMARY:MUSIQUE "AKIYO" AU GRAND CARBET DU PARC CULTUREL AIMÉ CÉSAIRE\, FORT DE FRANCE
DESCRIPTION:Originaire de la Guadeloupe AKIYO est notre Légende Vivante ! \nUn mouvement culturel engagé qui traverse les générations à travers des rythmes entraînants et conscients basé sur l’avenir ce groupe mythique sera en concert unique en Martinique avec leurs musiciens et les voix iconiques de Jean Pierre COQUEREL et Fanswa Landrezeau ! \n  \n\n\nGrand Carbet du Parc culturel Aimé Césaire\, Place José Marti\, Fort de France \n \n 
URL:https://www.buzzmagmartinique.com/evenement/musique-akiyo-au-grand-carbet-du-parc-culturel-aime-cesaire-fort-de-france/
LOCATION:Grand Carbet du Parc culturel Aimé Césaire\, Place José Marti\, Fort de France\, 97200\, Martinique
CATEGORIES:Art & Culture
ATTACH;FMTTYPE=image/webp:https://www.buzzmagmartinique.com/wp-content/uploads/2024/08/637247443_18058439072689331_8593379515657471875_n.webp
END:VEVENT
BEGIN:VEVENT
DTSTART;TZID=Europe/Paris:20260930T200000
DTEND;TZID=Europe/Paris:20260930T220000
DTSTAMP:20260421T055408
CREATED:20220830T143010Z
LAST-MODIFIED:20260113T145738Z
UID:10003400-1790798400-1790805600@www.buzzmagmartinique.com
SUMMARY:SPECTACLE "À JAMAIS" PAR REDOUANE BOUGHERABA AU GRAND CARBET DU PARC CULTUREL AIMÉ CÉSAIRE\, FORT DE FRANCE
DESCRIPTION:ECLATSPROD EN ACCORD AVEC JUICE PRODUCTION PRESENTE REDOUANE BOUGHERABA DANS SON SPECTACLE “À JAMAIS” \n\nAprès avoir rempli le stade Vélodrome\, Redouane Bougheraba présente son nouveau spectacle. \nRedouane se produit dans un spectacle où se mêlent autodérision\, improvisations et apartés de légende avec le public. Il se raconte et dresse un portrait réaliste de sa vie\, avec des thèmes universels et d’actualité comme le mariage\, ses voyages\, ou encore les relations hommes femmes. \nPremier Marseillais du Jamel Comedy Club\, au casting du film Méchants de Mouloud Achour\, ou encore de La Vie Scolaire de Grand Corps Malade et Medhi Idir\, et enfin humoriste chroniqueur phare de l’émission CLIQUE de Mouloud Achour. \n\nBILLETTERIE\n\n\nGrand Carbet du Parc culturel Aimé Césaire\, Place José Marti\, Fort de France
URL:https://www.buzzmagmartinique.com/evenement/spectacle-a-jamais-par-redouane-bougheraba-au-grand-carbet-du-parc-culturel-aime-cesaire-fort-de-france/
LOCATION:Grand Carbet du Parc culturel Aimé Césaire\, Place José Marti\, Fort de France\, 97200\, Martinique
CATEGORIES:Art & Culture
ATTACH;FMTTYPE=image/webp:https://www.buzzmagmartinique.com/wp-content/uploads/2022/08/tempFileForShare_20260113-0846371.webp
END:VEVENT
BEGIN:VEVENT
DTSTART;TZID=America/Martinique:20261023T200000
DTEND;TZID=America/Martinique:20261023T223000
DTSTAMP:20260421T055408
CREATED:20240827T194129Z
LAST-MODIFIED:20260408T163857Z
UID:10015089-1792785600-1792794600@www.buzzmagmartinique.com
SUMMARY:MUSIQUE "KRYS" AU GRAND CARBET DU PARC CULTUREL AIMÉ CÉSAIRE\, FORT DE FRANCE
DESCRIPTION:  \n\n\nGrand Carbet du Parc culturel Aimé Césaire\, Place José Marti\, Fort de France
URL:https://www.buzzmagmartinique.com/evenement/musique-krys-au-grand-carbet-du-parc-culturel-aime-cesaire-fort-de-france/
LOCATION:Grand Carbet du Parc culturel Aimé Césaire\, Place José Marti\, Fort de France\, 97200\, Martinique
CATEGORIES:Art & Culture
ATTACH;FMTTYPE=image/webp:https://www.buzzmagmartinique.com/wp-content/uploads/2024/08/IMG-20260405-WA0046.webp
END:VEVENT
END:VCALENDAR