BEGIN:VCALENDAR
VERSION:2.0
PRODID:-//Buzzmag - ECPv6.15.20//NONSGML v1.0//EN
CALSCALE:GREGORIAN
METHOD:PUBLISH
X-WR-CALNAME:Buzzmag
X-ORIGINAL-URL:https://www.buzzmagmartinique.com
X-WR-CALDESC:Évènements pour Buzzmag
REFRESH-INTERVAL;VALUE=DURATION:PT1H
X-Robots-Tag:noindex
X-PUBLISHED-TTL:PT1H
BEGIN:VTIMEZONE
TZID:America/Martinique
BEGIN:STANDARD
TZOFFSETFROM:-0400
TZOFFSETTO:-0400
TZNAME:AST
DTSTART:20250101T000000
END:STANDARD
END:VTIMEZONE
BEGIN:VTIMEZONE
TZID:Europe/Paris
BEGIN:DAYLIGHT
TZOFFSETFROM:+0100
TZOFFSETTO:+0200
TZNAME:CEST
DTSTART:20250330T010000
END:DAYLIGHT
BEGIN:STANDARD
TZOFFSETFROM:+0200
TZOFFSETTO:+0100
TZNAME:CET
DTSTART:20251026T010000
END:STANDARD
BEGIN:DAYLIGHT
TZOFFSETFROM:+0100
TZOFFSETTO:+0200
TZNAME:CEST
DTSTART:20260329T010000
END:DAYLIGHT
BEGIN:STANDARD
TZOFFSETFROM:+0200
TZOFFSETTO:+0100
TZNAME:CET
DTSTART:20261025T010000
END:STANDARD
BEGIN:DAYLIGHT
TZOFFSETFROM:+0100
TZOFFSETTO:+0200
TZNAME:CEST
DTSTART:20270328T010000
END:DAYLIGHT
BEGIN:STANDARD
TZOFFSETFROM:+0200
TZOFFSETTO:+0100
TZNAME:CET
DTSTART:20271031T010000
END:STANDARD
END:VTIMEZONE
BEGIN:VEVENT
DTSTART;TZID=America/Martinique:20260421T200000
DTEND;TZID=America/Martinique:20260421T220000
DTSTAMP:20260423T182558
CREATED:20241104T222056Z
LAST-MODIFIED:20260420T153212Z
UID:10018008-1776801600-1776808800@www.buzzmagmartinique.com
SUMMARY:MUSIQUE "MAURANNE VOYER" AU GRAND CARBET DU PARC CULTUREL AIMÉ CÉSAIRE\, FORT DE FRANCE
DESCRIPTION:Contact\n0696 45 47 28 0696 16 11 64\nassociation.kreol@wanadoo.fr \nBilletterie Bizouk \n\n\nGrand Carbet du Parc culturel Aimé Césaire\, Place José Marti\, Fort de France
URL:https://www.buzzmagmartinique.com/evenement/musique-mauranne-voyer-au-grand-carbet-du-parc-culturel-aime-cesaire-fort-de-france/
LOCATION:Grand Carbet du Parc culturel Aimé Césaire\, Place José Marti\, Fort de France\, 97200\, Martinique
CATEGORIES:Art & Culture
ATTACH;FMTTYPE=image/webp:https://www.buzzmagmartinique.com/wp-content/uploads/2024/11/116506_13faa7e887e1cf94def4a578a5038ddc_1400x1867_auto_971.webp
END:VEVENT
BEGIN:VEVENT
DTSTART;TZID=America/Martinique:20260421T200000
DTEND;TZID=America/Martinique:20260421T220000
DTSTAMP:20260423T182558
CREATED:20241031T194235Z
LAST-MODIFIED:20260113T134016Z
UID:10017940-1776801600-1776808800@www.buzzmagmartinique.com
SUMMARY:SPECTACLE "AU DESSUS DE TOUT" PAR AZ AU GRAND CARBET DU PARC CULTUREL AIMÉ CÉSAIRE\, FORT DE FRANCE
DESCRIPTION:ECLATSPROD vous présente AZ dans son spectacle « AU DESSUS DE TOUT » \n« Au-dessus de tout » est un spectacle sur un phénomène peu avouable : le manque d’enthousiasme. \nAz s’attaque à notre époque et ses injonctions : être passionné\, être investi\, être “à fond”\, et surtout avoir une histoire. \nIl construit un stand-up très écrit qui transforme le vague à l’âme en fou rire\, et le désabusement en miroir collectif. \nUn spectacle sur la tyrannie de l’extraordinaire racontée par un mec qui ne trouve rien extraordinaire. \nBILLETTERIE \n  \n\nGrand Carbet du Parc culturel Aimé Césaire\, Place José Marti\, Fort de France
URL:https://www.buzzmagmartinique.com/evenement/spectacle-au-dessus-de-tout-par-az-au-grand-carbet-du-parc-culturel-aime-cesaire-fort-de-france/
LOCATION:Grand Carbet du Parc culturel Aimé Césaire\, Place José Marti\, Fort de France\, 97200\, Martinique
CATEGORIES:Art & Culture
ATTACH;FMTTYPE=image/webp:https://www.buzzmagmartinique.com/wp-content/uploads/2024/10/INSTA-AZ-111.webp
ORGANIZER;CN="ECLATSPROD":MAILTO:info@eclatsprod.com
END:VEVENT
BEGIN:VEVENT
DTSTART;TZID=America/Martinique:20260416T200000
DTEND;TZID=America/Martinique:20260416T220000
DTSTAMP:20260423T182558
CREATED:20240905T210339Z
LAST-MODIFIED:20260414T183146Z
UID:10015127-1776369600-1776376800@www.buzzmagmartinique.com
SUMMARY:MUSIQUE "ALEX CATHERINE" AU GRAND CARBET DU PARC CULTUREL AIMÉ CÉSAIRE\, FORT DE FRANCE
DESCRIPTION:ALEX CATHERINE EN CONCERT LIVE AU GRAND CARBET ! \nLe jeudi 16 avril 2026 à 20h\, vibrez au rythme d’un show exceptionnel au Parc Culturel Aimé Césaire. \nUne soirée inoubliable\, une voix iconique\, une ambiance explosive… à ne surtout pas manquer ! \nOffre spéciale : 35 € pour les 400 premiers tickets seulement ! \nPremiers arrivés\, premiers servis — réservez vite avant qu’il ne soit trop tard \nMusique\, émotion\, énergie… Alex Catherine vous attend pour un concert mémorable ! \nInfoline 0696 76 10 09 \nBilletterie Bizouk \n\nGrand Carbet du Parc culturel Aimé Césaire\, Place José Marti\, Fort de France
URL:https://www.buzzmagmartinique.com/evenement/musique-alex-catherine-au-grand-carbet-du-parc-culturel-aime-cesaire-fort-de-france/
LOCATION:Grand Carbet du Parc culturel Aimé Césaire\, Place José Marti\, Fort de France\, 97200\, Martinique
CATEGORIES:Art & Culture
ATTACH;FMTTYPE=image/webp:https://www.buzzmagmartinique.com/wp-content/uploads/2024/09/115967_8ad7441cf3c1daeb7cb353c90aeb688a_700x600_landscape_971.webp
END:VEVENT
BEGIN:VEVENT
DTSTART;TZID=America/Martinique:20260415T200000
DTEND;TZID=America/Martinique:20260415T220000
DTSTAMP:20260423T182558
CREATED:20240903T202548Z
LAST-MODIFIED:20260414T135338Z
UID:10015120-1776283200-1776290400@www.buzzmagmartinique.com
SUMMARY:MUSIQUE "GOLDMEN " AU GRAND CARBET DU PARC CULTUREL AIMÉ CÉSAIRE\, FORT DE FRANCE
DESCRIPTION:DE GOLDMAN A FREDERICKS GOLDMAN JONES \nActuellement en tournée événement\, rassemblant des centaines de milliers de fans à travers la France\, les GOLDMEN seront de retour en 2026 pour un nouveau show 100% tubes\, de l’univers de Jean-Jacques GOLDMAN à celui du trio FREDERICKS GOLDMAN JONES. \nPorté par Alain Stevez\, véritable miroir vocal du chanteur iconique\, avec Sabrina\, la voix de Carole Fredericks\, et Manu Simoens dans le rôle de Michael Jones\, les GOLDMEN vont continuer à écumer les scènes pour le 35ème anniversaire de la tournée Fredericks Goldman Jones. Revivez le temps d’une soirée le phénomène des années 1980 à 2000 où chacun peut fredonner ses refrains préférés de Jean-Jacques Goldman\, connu également à l’international grâce à l’album D’EUX de Céline Dion qu’il a écrit spécialement pour l’artiste\, mais aussi du trio\, depuis « Envole-moi » en passant par « A nos actes manqués » ou encore « Il suffira d’un signe » \n  \n\nGrand Carbet du Parc culturel Aimé Césaire\, Place José Marti\, Fort de France
URL:https://www.buzzmagmartinique.com/evenement/election-roi-et-reine-des-lycees-de-martinique-la-grande-finale-au-grand-carbet-du-parc-culturel-aime-cesaire-fort-de-france/
LOCATION:Grand Carbet du Parc culturel Aimé Césaire\, Place José Marti\, Fort de France\, 97200\, Martinique
CATEGORIES:Art & Culture
ATTACH;FMTTYPE=image/webp:https://www.buzzmagmartinique.com/wp-content/uploads/2024/09/116706_85c1f7c2bd9eead582945528dd72d7a9_700x600_landscape_97.webp
END:VEVENT
BEGIN:VEVENT
DTSTART;TZID=America/Martinique:20260414T200000
DTEND;TZID=America/Martinique:20260414T220000
DTSTAMP:20260423T182558
CREATED:20240821T153454Z
LAST-MODIFIED:20260413T203222Z
UID:10014812-1776196800-1776204000@www.buzzmagmartinique.com
SUMMARY:SPECTACLE "HÉROÏNES" PAR BÉATRICE DE LA BOULAYE AU GRAND CARBET DU PARC CULTUREL AIMÉ CÉSAIRE\, FORT DE FRANCE
DESCRIPTION:Béatrice de La Boulaye au Grand Carbet ! \nOn la connaît surtout pour son rôle de Gaëlle Crivelli dans la série « Tropiques Criminels » sur France 2. \nPour son premier one woman show\, Béatrice de La Boulaye nous entraîne dans un voyage hilarant\, anticonformiste et fondamentalement humain au pays des héroïnes\, fictives ou réelles\, qui ont marqué sa vie\, et très certainement la vôtre. \n« Héroïnes » est avant tout une ode à la Liberté. \nAprès 3 représentations complètes au Free Comedy Club de Fort de France\, Béatrice revient… au Grand Carbet le 14 avril 2026 ! C’est à la fois un défi et un symbole fort pour cette comédienne qui est devenue Martiniquaise de cœur. \nNe ratez pas cette soirée de rire\, d’émotion et de découverte ! \nProfitez dès maintenant du tarif « Early Bird » (25€ au lieu de 35€) : \n\nBilletterie Bizouk \n  \n\n\n\nGrand Carbet du Parc culturel Aimé Césaire\, Place José Marti\, Fort de France
URL:https://www.buzzmagmartinique.com/evenement/spectacle-heroines-par-beatrice-de-la-boulaye-au-grand-carbet-du-parc-culturel-aime-cesaire-fort-de-france/
LOCATION:Grand Carbet du Parc culturel Aimé Césaire\, Place José Marti\, Fort de France\, 97200\, Martinique
CATEGORIES:Art & Culture
ATTACH;FMTTYPE=image/webp:https://www.buzzmagmartinique.com/wp-content/uploads/2024/08/tempFileForShare_20260413-1625111.webp
END:VEVENT
BEGIN:VEVENT
DTSTART;TZID=America/Martinique:20260409T200000
DTEND;TZID=America/Martinique:20260409T220000
DTSTAMP:20260423T182558
CREATED:20240827T180634Z
LAST-MODIFIED:20260113T143009Z
UID:10015086-1775764800-1775772000@www.buzzmagmartinique.com
SUMMARY:SPECTACLE "SENK" PAR LAURA CALU AU GRAND CARBET DU PARC CULTUREL AIMÉ CÉSAIRE\, FORT DE FRANCE
DESCRIPTION:ECLATSPROD vous présente LAURA CALU dans son spectacle « Senk » \nSelon le pouce levé ou baissé par la plèbe\, la mise à mort n’est jamais très loin. \nLaura entre dans l’arène pour se battre contre les incohérences de son époque\, mais surtout contre ses propres contradictions. « Ouais enfin en attendant elle est bien contente d’y être dans l’arène. » \nBah non. \nSi\, en fait si. \nLe nouveau spectacle de Laura Calu est plus percutant\, plus fluide\, mais surtout plus intime. Laura nous parle et ses personnages interviennent dans la continuité de son discours\, là où elle préfère se cacher derrière eux. Ce nouveau spectacle s’autorise ce qu’on ne s’autorise plus\, rire de la mort\, de nos conditions\, de nos susceptibilités. Laura nous rappelle qu’avant tout\, il est nécessaire de rire de soi. Et elle en donne l’exemple dans ce deuxième spectacle. \nSpectacle interdit aux moins de 14 ans\, \nBILLETTERIE \n\nGrand Carbet du Parc culturel Aimé Césaire\, Place José Marti\, Fort de France
URL:https://www.buzzmagmartinique.com/evenement/spectacle-senk-par-laura-calu-au-grand-carbet-du-parc-culturel-aime-cesaire-fort-de-france/
LOCATION:Grand Carbet du Parc culturel Aimé Césaire\, Place José Marti\, Fort de France\, 97200\, Martinique
CATEGORIES:Art & Culture
ATTACH;FMTTYPE=image/webp:https://www.buzzmagmartinique.com/wp-content/uploads/2024/08/LAURA-CALU-POST-2-211.webp
ORGANIZER;CN="ECLATSPROD":MAILTO:info@eclatsprod.com
END:VEVENT
BEGIN:VEVENT
DTSTART;TZID=America/Martinique:20260407T200000
DTEND;TZID=America/Martinique:20260407T220000
DTSTAMP:20260423T182558
CREATED:20241105T134841Z
LAST-MODIFIED:20260407T173036Z
UID:10018032-1775592000-1775599200@www.buzzmagmartinique.com
SUMMARY:MUSIQUE "KIM" AU GRAND CARBET DU PARC CULTUREL AIMÉ CÉSAIRE\, FORT DE FRANCE
DESCRIPTION:Après un concert au Zénith de Paris en 2025\, KIM revient sur scène avec le Lotus Tour. \nUn concert live porté par une formation complète\, mêlant ses titres emblématiques et ses nouvelles compositions\, pour une date unique dans chaque territoire. \nPlaces limitées. \n  \n\nGrand Carbet du Parc culturel Aimé Césaire\, Place José Marti\, Fort de France \n \n \n 
URL:https://www.buzzmagmartinique.com/evenement/musique-kim-au-grand-carbet-du-parc-culturel-aime-cesaire-fort-de-france/
LOCATION:Grand Carbet du Parc culturel Aimé Césaire\, Place José Marti\, Fort de France\, 97200\, Martinique
CATEGORIES:Art & Culture
ATTACH;FMTTYPE=image/webp:https://www.buzzmagmartinique.com/wp-content/uploads/2024/11/114758_3b7f8013d92dd10eac55948345ebbdcc_700x600_landscape_971.webp
END:VEVENT
BEGIN:VEVENT
DTSTART;TZID=America/Martinique:20260401T200000
DTEND;TZID=America/Martinique:20260401T230000
DTSTAMP:20260423T182558
CREATED:20240904T223218Z
LAST-MODIFIED:20260331T162751Z
UID:10017692-1775073600-1775084400@www.buzzmagmartinique.com
SUMMARY:SPECTACLE "KAY MAN FROUCH & CHE CAMPECH" AU GRAND CARBET DU PARC CULTUREL AIMÉ CÉSAIRE\, FORT DE FRANCE
DESCRIPTION:  \n\nGrand Carbet du Parc culturel Aimé Césaire\, Place José Marti\, Fort de France \n \n \n 
URL:https://www.buzzmagmartinique.com/evenement/spectacle-kay-man-frouch-che-campech-au-grand-carbet-du-parc-culturel-aime-cesaire-fort-de-france/
LOCATION:Grand Carbet du Parc culturel Aimé Césaire\, Place José Marti\, Fort de France\, 97200\, Martinique
CATEGORIES:Art & Culture
ATTACH;FMTTYPE=image/webp:https://www.buzzmagmartinique.com/wp-content/uploads/2024/09/IMG-20260330-WA0016.webp
END:VEVENT
BEGIN:VEVENT
DTSTART;TZID=America/Martinique:20260328T200000
DTEND;TZID=America/Martinique:20260329T193000
DTSTAMP:20260423T182558
CREATED:20240827T145524Z
LAST-MODIFIED:20260327T113303Z
UID:10003401-1774728000-1774812600@www.buzzmagmartinique.com
SUMMARY:SPECTACLE "LE MEILLEUR DU PIRE!" PAR CHON & CHOUN AU GRAND CARBET DU PARC CULTUREL AIMÉ CÉSAIRE\, FORT DE FRANCE
DESCRIPTION:Chon et choun débarquent en Martinique pour un nouveau spectacle nommé le meilleur du pire !\n\nDans un couple les situations sont multiples Choun sous l’effet directif de Chon subi les foudres insoupçonnées de son mari !\n\nEt l’histoire prends une tournure Hilarante !\n\nSoyez au rendez-vous !\n\nChon et Choun  » Le meilleur du pire  » débarque dans vos vies !\n\nInfoline : 0696 174 175\n  \n\nGrand Carbet du Parc culturel Aimé Césaire\, Place José Marti\, Fort de France
URL:https://www.buzzmagmartinique.com/evenement/spectacle-le-meilleur-du-pire-par-chon-choun-au-grand-carbet-du-parc-culturel-aime-cesaire-fort-de-france/
LOCATION:Grand Carbet du Parc culturel Aimé Césaire\, Place José Marti\, Fort de France\, 97200\, Martinique
CATEGORIES:Art & Culture
ATTACH;FMTTYPE=image/webp:https://www.buzzmagmartinique.com/wp-content/uploads/2024/08/116124_e13a40a42a35af3806468f71e9e9237f_700x600_landscape_97.webp
END:VEVENT
BEGIN:VEVENT
DTSTART;TZID=America/Martinique:20260327T200000
DTEND;TZID=America/Martinique:20260327T223000
DTSTAMP:20260423T182558
CREATED:20240825T171523Z
LAST-MODIFIED:20260325T165223Z
UID:10003404-1774641600-1774650600@www.buzzmagmartinique.com
SUMMARY:MUSIQUE GOSPEL "DOMINIQUE ZOROBABEL" AU GRAND CARBET DU PARC CULTUREL AIMÉ CÉSAIRE\, FORT DE FRANCE
DESCRIPTION:Dominique Zorobabel et ses prestigieux invités José Versol et Betty Marolany vous transportent dans un univers fantastique entre louange adorations et espérances. \nUne union une communion un grand moment de partage de prières avec le public \n\n\n\n\nGrand Carbet du Parc culturel Aimé Césaire\, Place José Marti\, Fort de France
URL:https://www.buzzmagmartinique.com/evenement/musique-gospel-dominique-zorobabel-au-grand-carbet-du-parc-culturel-aime-cesaire-fort-de-france/
LOCATION:Grand Carbet du Parc culturel Aimé Césaire\, Place José Marti\, Fort de France\, 97200\, Martinique
CATEGORIES:Art & Culture
ATTACH;FMTTYPE=image/webp:https://www.buzzmagmartinique.com/wp-content/uploads/2024/08/116163_991b63770a31cc7b2741873e5c28af14_700x600_landscape_971.webp
END:VEVENT
BEGIN:VEVENT
DTSTART;TZID=Europe/Paris:20260326T200000
DTEND;TZID=Europe/Paris:20260326T220000
DTSTAMP:20260423T182558
CREATED:20250913T103209Z
LAST-MODIFIED:20260324T193848Z
UID:10071258-1774555200-1774562400@www.buzzmagmartinique.com
SUMMARY:SPECTACLE "LIBERTÉ EGALITÉ FÉMINITÉ" PAR NENETTE AU GRAND CARBET DU PARC CULTUREL AIMÉ CÉSAIRE\, FORT DE FRANCE
DESCRIPTION:Venez Découvrir l’une des figures montantes de l’humour Antillo-Guyanais\, connue pour son style unique et sa personnalité attachante ! \nUn spectacle drôle et engagé qui met en lumière l’extraordinaire vie de Nenette. \nEntre sketchs\, imitations\, personnages\, Nenette va vous donner la meilleure version d’elle-même. \nLiberté\, égalité\, féminité\, abordera tous les sujets de notre société moderne. \nDurée : 1h30 \nRéservez vos places sur Bizouk \n\n\nGrand Carbet du Parc culturel Aimé Césaire\, Place José Marti\, Fort de France
URL:https://www.buzzmagmartinique.com/evenement/spectacle-liberte-egalite-feminite-par-nenette-au-grand-carbet-du-parc-culturel-aime-cesaire-fort-de-france/
LOCATION:Grand Carbet du Parc culturel Aimé Césaire\, Place José Marti\, Fort de France\, 97200\, Martinique
CATEGORIES:Art & Culture
ATTACH;FMTTYPE=image/webp:https://www.buzzmagmartinique.com/wp-content/uploads/2025/09/112079_839338a62acef0263fd975a32ce5714d_700x600_landscape_97.webp
END:VEVENT
END:VCALENDAR