BEGIN:VCALENDAR
VERSION:2.0
PRODID:-//Buzzmag - ECPv6.15.20//NONSGML v1.0//EN
CALSCALE:GREGORIAN
METHOD:PUBLISH
X-WR-CALNAME:Buzzmag
X-ORIGINAL-URL:https://www.buzzmagmartinique.com
X-WR-CALDESC:Évènements pour Buzzmag
REFRESH-INTERVAL;VALUE=DURATION:PT1H
X-Robots-Tag:noindex
X-PUBLISHED-TTL:PT1H
BEGIN:VTIMEZONE
TZID:Europe/Paris
BEGIN:DAYLIGHT
TZOFFSETFROM:+0100
TZOFFSETTO:+0200
TZNAME:CEST
DTSTART:20250330T010000
END:DAYLIGHT
BEGIN:STANDARD
TZOFFSETFROM:+0200
TZOFFSETTO:+0100
TZNAME:CET
DTSTART:20251026T010000
END:STANDARD
BEGIN:DAYLIGHT
TZOFFSETFROM:+0100
TZOFFSETTO:+0200
TZNAME:CEST
DTSTART:20260329T010000
END:DAYLIGHT
BEGIN:STANDARD
TZOFFSETFROM:+0200
TZOFFSETTO:+0100
TZNAME:CET
DTSTART:20261025T010000
END:STANDARD
BEGIN:DAYLIGHT
TZOFFSETFROM:+0100
TZOFFSETTO:+0200
TZNAME:CEST
DTSTART:20270328T010000
END:DAYLIGHT
BEGIN:STANDARD
TZOFFSETFROM:+0200
TZOFFSETTO:+0100
TZNAME:CET
DTSTART:20271031T010000
END:STANDARD
END:VTIMEZONE
BEGIN:VEVENT
DTSTART;VALUE=DATE:20260410
DTEND;VALUE=DATE:20260412
DTSTAMP:20260421T174053
CREATED:20240423T141453Z
LAST-MODIFIED:20260410T171427Z
UID:10010025-1775779200-1775951999@www.buzzmagmartinique.com
SUMMARY:GOLF "CHAMPIONNAT ANTILLES U18" AU GOLF DE L'ESPÉRANCE\, LES TROIS ÎLETS
DESCRIPTION:  \n\nLigue de Golf de Martinique\, Rue des Trois Chandelles\, Les Trois Îlets\, +596 596 52 04 13
URL:https://www.buzzmagmartinique.com/evenement/golf-championnat-antilles-u18-au-golf-de-lesperance-les-trois-ilets/
LOCATION:Golf de l’Espérance\, Quartier Espérance\, Les Trois Îlets\, 97229\, Martinique
CATEGORIES:Sport
ATTACH;FMTTYPE=image/webp:https://www.buzzmagmartinique.com/wp-content/uploads/2024/04/04-10-GOLF.webp
ORGANIZER;CN="Ligue de Golf de Martinique":MAILTO:Ffgolfmartinique@gmail.com
END:VEVENT
END:VCALENDAR