BEGIN:VCALENDAR
VERSION:2.0
PRODID:-//Buzzmag - ECPv6.15.20//NONSGML v1.0//EN
CALSCALE:GREGORIAN
METHOD:PUBLISH
X-ORIGINAL-URL:https://www.buzzmagmartinique.com
X-WR-CALDESC:Évènements pour Buzzmag
REFRESH-INTERVAL;VALUE=DURATION:PT1H
X-Robots-Tag:noindex
X-PUBLISHED-TTL:PT1H
BEGIN:VTIMEZONE
TZID:Europe/Paris
BEGIN:DAYLIGHT
TZOFFSETFROM:+0100
TZOFFSETTO:+0200
TZNAME:CEST
DTSTART:20250330T010000
END:DAYLIGHT
BEGIN:STANDARD
TZOFFSETFROM:+0200
TZOFFSETTO:+0100
TZNAME:CET
DTSTART:20251026T010000
END:STANDARD
BEGIN:DAYLIGHT
TZOFFSETFROM:+0100
TZOFFSETTO:+0200
TZNAME:CEST
DTSTART:20260329T010000
END:DAYLIGHT
BEGIN:STANDARD
TZOFFSETFROM:+0200
TZOFFSETTO:+0100
TZNAME:CET
DTSTART:20261025T010000
END:STANDARD
BEGIN:DAYLIGHT
TZOFFSETFROM:+0100
TZOFFSETTO:+0200
TZNAME:CEST
DTSTART:20270328T010000
END:DAYLIGHT
BEGIN:STANDARD
TZOFFSETFROM:+0200
TZOFFSETTO:+0100
TZNAME:CET
DTSTART:20271031T010000
END:STANDARD
END:VTIMEZONE
BEGIN:VEVENT
DTSTART;TZID=Europe/Paris:20260421T200000
DTEND;TZID=Europe/Paris:20260421T200000
DTSTAMP:20260421T174644
CREATED:20241202T203757Z
LAST-MODIFIED:20250203T200402Z
UID:10037842-1776801600-1776801600@www.buzzmagmartinique.com
SUMMARY:VISITE DU FORT SAINT LOUIS\, FORT DE FRANCE
DESCRIPTION:Témoin passionnant de l’histoire de la Martinique et de la fondation de Fort de France\, le Fort Saint-Louis vous ouvre ses portes et vous accueille au cœur des remparts et bastions fortifiés.\nUn circuit chargé d’histoire qui vous offrira un point de vue remarquable sur la baie des Flamands.\nBase navale en activité\, siège du haut commandement de la Marine Nationale pour la zone Antilles-Guyane. \nVisites guidées du mardi au samedi \n  \n\nFort Saint Louis\, Boulevard Chevalier Sainte-Marthe\, Fort-de-France \n \nOffice de Tourisme Centre Martinique\,  29 rue Victor Hugo\, Fort-de-France\, 0596 80 00 70
URL:https://www.buzzmagmartinique.com/evenement/visite-du-fort-saint-louis-fort-de-france/2026-04-21/
LOCATION:Fort Saint Louis\, Boulevard Chevalier Sainte-Marthe\, Fort-de-France\, 97200\, Martinique
CATEGORIES:Art & Culture
ATTACH;FMTTYPE=image/jpeg:https://www.buzzmagmartinique.com/wp-content/uploads/2023/11/69690667-48696830.jpg
ORGANIZER;CN="Office de Tourisme Centre Martinique":MAILTO:contact@tourisme-centre.fr
END:VEVENT
END:VCALENDAR