BEGIN:VCALENDAR
VERSION:2.0
PRODID:-//Buzzmag - ECPv6.15.20//NONSGML v1.0//EN
CALSCALE:GREGORIAN
METHOD:PUBLISH
X-ORIGINAL-URL:https://www.buzzmagmartinique.com
X-WR-CALDESC:Évènements pour Buzzmag
REFRESH-INTERVAL;VALUE=DURATION:PT1H
X-Robots-Tag:noindex
X-PUBLISHED-TTL:PT1H
BEGIN:VTIMEZONE
TZID:America/Halifax
BEGIN:DAYLIGHT
TZOFFSETFROM:-0400
TZOFFSETTO:-0300
TZNAME:ADT
DTSTART:20240310T060000
END:DAYLIGHT
BEGIN:STANDARD
TZOFFSETFROM:-0300
TZOFFSETTO:-0400
TZNAME:AST
DTSTART:20241103T050000
END:STANDARD
BEGIN:DAYLIGHT
TZOFFSETFROM:-0400
TZOFFSETTO:-0300
TZNAME:ADT
DTSTART:20250309T060000
END:DAYLIGHT
BEGIN:STANDARD
TZOFFSETFROM:-0300
TZOFFSETTO:-0400
TZNAME:AST
DTSTART:20251102T050000
END:STANDARD
BEGIN:DAYLIGHT
TZOFFSETFROM:-0400
TZOFFSETTO:-0300
TZNAME:ADT
DTSTART:20260308T060000
END:DAYLIGHT
BEGIN:STANDARD
TZOFFSETFROM:-0300
TZOFFSETTO:-0400
TZNAME:AST
DTSTART:20261101T050000
END:STANDARD
END:VTIMEZONE
BEGIN:VTIMEZONE
TZID:America/Martinique
BEGIN:STANDARD
TZOFFSETFROM:-0400
TZOFFSETTO:-0400
TZNAME:AST
DTSTART:20240101T000000
END:STANDARD
END:VTIMEZONE
BEGIN:VEVENT
DTSTART;TZID=America/Halifax:20251217T160000
DTEND;TZID=America/Halifax:20251217T180000
DTSTAMP:20260422T062915
CREATED:20240825T100256Z
LAST-MODIFIED:20251211T143543Z
UID:10077029-1765987200-1765994400@www.buzzmagmartinique.com
SUMMARY:SPECTACLE JEUNE PUBLIC "AYA\, CHARLIE & L'OIE" À KORZÉMO L'ENVOL\, DUCOS
DESCRIPTION:AYA\, CHARLIE ET L’OIE  / CIE ZIG ZAG \nUn spectacle de marionnettes pour tous \, à partir de 4 ans \nL’histoire se déroule à Nanra\, une ville pas si imaginaire que ça\, puisque les écrans y sont rois… \nChaque année\, a lieu un grand tournoi annuel du jeu de l’oie et le vainqueur devient le Maire de la ville. \nCette fois\, Aya & Charlie participent au tournoi et sont bien déterminés à influencer cet étrange hasard… \nInfos & billetterie : https://www.espacekorzemo.com/post/aya-charlie-et-l-oie-17-dec \n\n\nKorzémo L’Envol\, Espace Camille Zozo de Séguiran\, 9 rue Jules Ferry\, Ducos\, 0696 20 01 18
URL:https://www.buzzmagmartinique.com/evenement/theatre-la-magie-des-pierres-a-korzemo-lenvol-ducos/
LOCATION:Espace Camille Zozo de Séguiran\, 9 rue Jules Ferry\, Ducos\, 97224\, Martinique
CATEGORIES:Art & Culture,Jeune public
ATTACH;FMTTYPE=image/webp:https://www.buzzmagmartinique.com/wp-content/uploads/2024/08/IMG-20251210-WA00071.webp
ORGANIZER;CN="Espace KORZ%C3%89MO":MAILTO:espacekorzemo@outlook.fr
END:VEVENT
BEGIN:VEVENT
DTSTART;TZID=America/Martinique:20250611T100000
DTEND;TZID=America/Martinique:20250813T120000
DTSTAMP:20260422T062915
CREATED:20240820T063314Z
LAST-MODIFIED:20250610T215809Z
UID:10003522-1749636000-1755086400@www.buzzmagmartinique.com
SUMMARY:SPECTACLE DE MARIONNETTE À L'ESPACE CAMILLE ZOZO DE SÉGUIRAN\, DUCOS
DESCRIPTION:Espace Camille Zozo de Séguiran\, rue Jules Ferry\, Ducos \n  \nArt\, Enfance\, jeunesse et paysages.  \nScène Conventionnée d’Intérêt National\, et itinérante en Martinique  \nEspace KORZEMO\, ZI Champigny\, Ducos\, 0696 20 01 18
URL:https://www.buzzmagmartinique.com/evenement/spectacle-de-marionnette-a-lespace-camille-zozo-de-seguiran-ducos/
LOCATION:Espace Camille Zozo de Séguiran\, 9 rue Jules Ferry\, Ducos\, 97224\, Martinique
CATEGORIES:Art & Culture,Jeune public
ATTACH;FMTTYPE=image/webp:https://www.buzzmagmartinique.com/wp-content/uploads/2024/08/IMG-20250610-WA00351.webp
END:VEVENT
END:VCALENDAR