BEGIN:VCALENDAR
VERSION:2.0
PRODID:-//Buzzmag - ECPv6.15.20//NONSGML v1.0//EN
CALSCALE:GREGORIAN
METHOD:PUBLISH
X-ORIGINAL-URL:https://www.buzzmagmartinique.com
X-WR-CALDESC:Évènements pour Buzzmag
REFRESH-INTERVAL;VALUE=DURATION:PT1H
X-Robots-Tag:noindex
X-PUBLISHED-TTL:PT1H
BEGIN:VTIMEZONE
TZID:America/Martinique
BEGIN:STANDARD
TZOFFSETFROM:-0400
TZOFFSETTO:-0400
TZNAME:AST
DTSTART:20250101T000000
END:STANDARD
END:VTIMEZONE
BEGIN:VEVENT
DTSTART;TZID=America/Martinique:20260421T090000
DTEND;TZID=America/Martinique:20260421T170000
DTSTAMP:20260421T015147
CREATED:20260411T123529Z
LAST-MODIFIED:20260411T125844Z
UID:10082567-1776762000-1776790800@www.buzzmagmartinique.com
SUMMARY:EXPOSITION PHOTO "34 BOURGS & CENTRES-VILLES" AU CRÉOLE ARTS CAFÉ\, SAINT PIERRE
DESCRIPTION:34 Bourgs & Centres-Villes de la Martinique\n\nUn projet de mise en lumière d’un quotidien qu’on ne regarde plus\, d’un territoire qui a plus à raconter que le bruit des vagues…\n\nPour les curieux de chez eux et les curieux qui souhaitent aller au delà du cliché.\n\nÀ bon entendeur…\n\n\nLundi à samedi 09h00-17H00 \nCréole arts café\, 103 rue Victor Hugo\, Saint-Pierre\, 0596 97 67 87
URL:https://www.buzzmagmartinique.com/evenement/exposition-photo-34-bourgs-centres-villes-au-creole-arts-cafe-saint-pierre/2026-04-21/
LOCATION:Créole arts café\, 103 rue Victor Hugo\, Saint Pierre\, 97250\, Martinique
CATEGORIES:Art & Culture
ATTACH;FMTTYPE=image/webp:https://www.buzzmagmartinique.com/wp-content/uploads/2025/11/IMG-20260410-WA0019.webp
ORGANIZER;CN="Cr%C3%A9ole art caf%C3%A9":MAILTO:creoleartscafe@gmail.com
END:VEVENT
END:VCALENDAR