BEGIN:VCALENDAR
VERSION:2.0
PRODID:-//Buzzmag - ECPv6.15.20//NONSGML v1.0//EN
CALSCALE:GREGORIAN
METHOD:PUBLISH
X-WR-CALNAME:Buzzmag
X-ORIGINAL-URL:https://www.buzzmagmartinique.com
X-WR-CALDESC:Évènements pour Buzzmag
REFRESH-INTERVAL;VALUE=DURATION:PT1H
X-Robots-Tag:noindex
X-PUBLISHED-TTL:PT1H
BEGIN:VTIMEZONE
TZID:America/Martinique
BEGIN:STANDARD
TZOFFSETFROM:-0400
TZOFFSETTO:-0400
TZNAME:AST
DTSTART:20240101T000000
END:STANDARD
END:VTIMEZONE
BEGIN:VEVENT
DTSTART;TZID=America/Martinique:20260420T090000
DTEND;TZID=America/Martinique:20260420T170000
DTSTAMP:20260421T055042
CREATED:20260411T123529Z
LAST-MODIFIED:20260411T125844Z
UID:10082566-1776675600-1776704400@www.buzzmagmartinique.com
SUMMARY:EXPOSITION PHOTO "34 BOURGS & CENTRES-VILLES" AU CRÉOLE ARTS CAFÉ\, SAINT PIERRE
DESCRIPTION:34 Bourgs & Centres-Villes de la Martinique\n\nUn projet de mise en lumière d’un quotidien qu’on ne regarde plus\, d’un territoire qui a plus à raconter que le bruit des vagues…\n\nPour les curieux de chez eux et les curieux qui souhaitent aller au delà du cliché.\n\nÀ bon entendeur…\n\n\nLundi à samedi 09h00-17H00 \nCréole arts café\, 103 rue Victor Hugo\, Saint-Pierre\, 0596 97 67 87
URL:https://www.buzzmagmartinique.com/evenement/exposition-photo-34-bourgs-centres-villes-au-creole-arts-cafe-saint-pierre/2026-04-20/
LOCATION:Créole arts café\, 103 rue Victor Hugo\, Saint Pierre\, 97250\, Martinique
CATEGORIES:Art & Culture
ATTACH;FMTTYPE=image/webp:https://www.buzzmagmartinique.com/wp-content/uploads/2025/11/IMG-20260410-WA0019.webp
ORGANIZER;CN="Cr%C3%A9ole art caf%C3%A9":MAILTO:creoleartscafe@gmail.com
END:VEVENT
BEGIN:VEVENT
DTSTART;TZID=America/Martinique:20260403T090000
DTEND;TZID=America/Martinique:20260403T170000
DTSTAMP:20260421T055042
CREATED:20251104T170700Z
LAST-MODIFIED:20260226T133603Z
UID:10081649-1775206800-1775235600@www.buzzmagmartinique.com
SUMMARY:EXPOSITION "L'IRRÉVERSIBLE" AU CRÉOLE ARTS CAFÉ\, SAINT PIERRE
DESCRIPTION:  \n\nLundi à samedi 09h00-17H00 \nCréole arts café\, 103 rue Victor Hugo\, Saint-Pierre\, 0596 97 67 87
URL:https://www.buzzmagmartinique.com/evenement/exposition-lirreversible-au-creole-arts-cafe-saint-pierre/2026-04-03/
LOCATION:Créole arts café\, 103 rue Victor Hugo\, Saint Pierre\, 97250\, Martinique
CATEGORIES:Art & Culture
ATTACH;FMTTYPE=image/webp:https://www.buzzmagmartinique.com/wp-content/uploads/2025/11/IMG-20260225-WA0029-1.webp
ORGANIZER;CN="Cr%C3%A9ole art caf%C3%A9":MAILTO:creoleartscafe@gmail.com
END:VEVENT
BEGIN:VEVENT
DTSTART;TZID=America/Martinique:20260227T183000
DTEND;TZID=America/Martinique:20260227T220000
DTSTAMP:20260421T055042
CREATED:20251104T171332Z
LAST-MODIFIED:20260226T133807Z
UID:10053043-1772217000-1772229600@www.buzzmagmartinique.com
SUMMARY:VERNISSAGE EXPOSITION "L'IRRÉVERSIBLE"  AU CRÉOLE ARTS CAFÉ\, SAINT PIERRE
DESCRIPTION:  \nLes 14 artistes qui participent à cette exposition et toute l équipe du Créole Arts Café se font un plaisir de vous y retrouver. \n  \n\nLundi à samedi 09h00-17H00 \nCréole arts café\, 103 rue Victor Hugo\, Saint-Pierre\, 0596 97 67 87
URL:https://www.buzzmagmartinique.com/evenement/vernissage-exposition-peinture-authenticite-par-corinne-solitude-au-creole-arts-cafe-saint-pierre/
LOCATION:Créole arts café\, 103 rue Victor Hugo\, Saint Pierre\, 97250\, Martinique
CATEGORIES:Art & Culture
ATTACH;FMTTYPE=image/webp:https://www.buzzmagmartinique.com/wp-content/uploads/2025/11/IMG-20260225-WA0029.webp
ORGANIZER;CN="Cr%C3%A9ole art caf%C3%A9":MAILTO:creoleartscafe@gmail.com
END:VEVENT
BEGIN:VEVENT
DTSTART;TZID=America/Martinique:20251206T090000
DTEND;TZID=America/Martinique:20251206T170000
DTSTAMP:20260421T055042
CREATED:20250612T102121Z
LAST-MODIFIED:20251205T111028Z
UID:10034812-1765011600-1765040400@www.buzzmagmartinique.com
SUMMARY:LE MARCHÉ DES CRÉATEURS AU CRÉOLE ARTS CAFÉ\, SAINT PIERRE
DESCRIPTION:Le Marché des Créateurs\n\n\n\nNouvelle édition spéciale Noël le samedi 6 décembre de 9h à 17h au Créole Arts Café\n\n\n\nVous retrouverez sur place : @monbeurrecreole · @emy_ligne · @maryandthewax · @yungscreations · @veroniquedural  · @zou_bijoux_972\n\n\n\nAu programme aussi :\nDéambulation d’une marionnette géante dans les rues de Saint-Pierre à 11h\nAtelier collier charms avec @mademoisellekikou de 15h à 17h\n\n\n\nLundi à samedi 10h00-15H00 \nCréole arts café\, 103 rue Victor Hugo\, Saint-Pierre\, 0596 97 67 87
URL:https://www.buzzmagmartinique.com/evenement/le-jeudi-des-copines-au-creole-arts-cafe-saint-pierre/
LOCATION:Créole arts café\, 103 rue Victor Hugo\, Saint Pierre\, 97250\, Martinique
CATEGORIES:Art & Culture,Marché
ORGANIZER;CN="Cr%C3%A9ole art caf%C3%A9":MAILTO:creoleartscafe@gmail.com
END:VEVENT
BEGIN:VEVENT
DTSTART;TZID=America/Martinique:20250927T180000
DTEND;TZID=America/Martinique:20250927T200000
DTSTAMP:20260421T055042
CREATED:20250106T130409Z
LAST-MODIFIED:20250923T131323Z
UID:10018080-1758996000-1759003200@www.buzzmagmartinique.com
SUMMARY:APÉRO "MUSIQUE & PHOTOS" AU CRÉOLE ARTS CAFÉ\, SAINT PIERRE
DESCRIPTION:Le Créole Arts Café St-Pierre a le plaisir de vous convier à l’apéro « Musique & Photos » où la photographie rencontre la musique dans un même souffle de convivialité.\n\n\nVernissage de l’exposition de Jean-Michel Terrine\nConcert en apéritif musical\n\n\nVenez découvrir l’exposition « Trois histoires\, un regard » de Jean-Michel Terrine\, alias @jmt_negbizoden\n\n\n\nUne exposition\, trois univers et aujourd’hui on vous présente « Zwel enfantines en terre africaine »\n\n\n\nÀ travers ses clichés du Bénin\, du Brésil et du carnaval de Martinique\, l’artiste tisse un dialogue entre les cultures et les africanités.\n\nSes photographies\, chargées de tendresse et d’humanité s’animent au rythme des musiciens pour vous offrir une soirée culturelle vivante et chaleureuse.\n\nEntre éclats de rire et jeux\, on retrouve aux travers de ses clichés\, la candeur\, la malice\, la joie\, la résilience et la dignité des enfants d’Afrique\n\n\nNous serions ravis de partager ensemble ce moment d’art\, de rencontres et d’échanges.\n\n\nExposition visible du 1er septembre au 31 octobre dans notre galerie d’art\n\n\n  \n\nLundi à samedi 10h00-15H00 \nCréole arts café\, 103 rue Victor Hugo\, Saint-Pierre\, 0596 97 67 87
URL:https://www.buzzmagmartinique.com/evenement/vernissage-exposition-photos-trois-histoires-un-regard-par-jean-michel-terrine-au-creole-arts-cafe-saint-pierre/
LOCATION:Créole arts café\, 103 rue Victor Hugo\, Saint Pierre\, 97250\, Martinique
CATEGORIES:Art & Culture
ATTACH;FMTTYPE=image/webp:https://www.buzzmagmartinique.com/wp-content/uploads/2025/01/IMG_0016.webp
ORGANIZER;CN="Cr%C3%A9ole art caf%C3%A9":MAILTO:creoleartscafe@gmail.com
END:VEVENT
BEGIN:VEVENT
DTSTART;TZID=America/Martinique:20250517T090000
DTEND;TZID=America/Martinique:20250517T220000
DTSTAMP:20260421T055042
CREATED:20240901T133130Z
LAST-MODIFIED:20250513T164339Z
UID:10013217-1747472400-1747519200@www.buzzmagmartinique.com
SUMMARY:LE MARCHÉ DES CRÉATEURS AU CRÉOLE ARTS CAFÉ\, SAINT PIERRE
DESCRIPTION:– Entrée libre\n– Bar/Café\n– Petite restauration sur place ou à emporter\n– Galerie d’art\n– Visite historique \n\n\nLundi à samedi 09h30-16H00 \nCréole arts café\, 103 rue Victor Hugo\, Saint-Pierre\, 0596 97 67 87
URL:https://www.buzzmagmartinique.com/evenement/le-marche-des-createurs-au-creole-arts-cafe-saint-pierre/
LOCATION:Créole arts café\, 103 rue Victor Hugo\, Saint Pierre\, 97250\, Martinique
CATEGORIES:Art & Culture,Marché
ATTACH;FMTTYPE=image/webp:https://www.buzzmagmartinique.com/wp-content/uploads/2024/09/494447736_18069728476897941_9082789672869589755_n1.webp
ORGANIZER;CN="Cr%C3%A9ole art caf%C3%A9":MAILTO:creoleartscafe@gmail.com
END:VEVENT
END:VCALENDAR