BEGIN:VCALENDAR
VERSION:2.0
PRODID:-//Buzzmag - ECPv6.15.20//NONSGML v1.0//EN
CALSCALE:GREGORIAN
METHOD:PUBLISH
X-WR-CALNAME:Buzzmag
X-ORIGINAL-URL:https://www.buzzmagmartinique.com
X-WR-CALDESC:Évènements pour Buzzmag
REFRESH-INTERVAL;VALUE=DURATION:PT1H
X-Robots-Tag:noindex
X-PUBLISHED-TTL:PT1H
BEGIN:VTIMEZONE
TZID:Europe/Paris
BEGIN:DAYLIGHT
TZOFFSETFROM:+0100
TZOFFSETTO:+0200
TZNAME:CEST
DTSTART:20240331T010000
END:DAYLIGHT
BEGIN:STANDARD
TZOFFSETFROM:+0200
TZOFFSETTO:+0100
TZNAME:CET
DTSTART:20241027T010000
END:STANDARD
BEGIN:DAYLIGHT
TZOFFSETFROM:+0100
TZOFFSETTO:+0200
TZNAME:CEST
DTSTART:20250330T010000
END:DAYLIGHT
BEGIN:STANDARD
TZOFFSETFROM:+0200
TZOFFSETTO:+0100
TZNAME:CET
DTSTART:20251026T010000
END:STANDARD
BEGIN:DAYLIGHT
TZOFFSETFROM:+0100
TZOFFSETTO:+0200
TZNAME:CEST
DTSTART:20260329T010000
END:DAYLIGHT
BEGIN:STANDARD
TZOFFSETFROM:+0200
TZOFFSETTO:+0100
TZNAME:CET
DTSTART:20261025T010000
END:STANDARD
BEGIN:DAYLIGHT
TZOFFSETFROM:+0100
TZOFFSETTO:+0200
TZNAME:CEST
DTSTART:20270328T010000
END:DAYLIGHT
BEGIN:STANDARD
TZOFFSETFROM:+0200
TZOFFSETTO:+0100
TZNAME:CET
DTSTART:20271031T010000
END:STANDARD
END:VTIMEZONE
BEGIN:VTIMEZONE
TZID:Europe/Paris
BEGIN:DAYLIGHT
TZOFFSETFROM:+0100
TZOFFSETTO:+0200
TZNAME:CEST
DTSTART:20240331T010000
END:DAYLIGHT
BEGIN:STANDARD
TZOFFSETFROM:+0200
TZOFFSETTO:+0100
TZNAME:CET
DTSTART:20241027T010000
END:STANDARD
BEGIN:DAYLIGHT
TZOFFSETFROM:+0100
TZOFFSETTO:+0200
TZNAME:CEST
DTSTART:20250330T010000
END:DAYLIGHT
BEGIN:STANDARD
TZOFFSETFROM:+0200
TZOFFSETTO:+0100
TZNAME:CET
DTSTART:20251026T010000
END:STANDARD
BEGIN:DAYLIGHT
TZOFFSETFROM:+0100
TZOFFSETTO:+0200
TZNAME:CEST
DTSTART:20260329T010000
END:DAYLIGHT
BEGIN:STANDARD
TZOFFSETFROM:+0200
TZOFFSETTO:+0100
TZNAME:CET
DTSTART:20261025T010000
END:STANDARD
END:VTIMEZONE
BEGIN:VEVENT
DTSTART;TZID=Europe/Paris:20260422T090000
DTEND;TZID=Europe/Paris:20260422T190000
DTSTAMP:20260423T123438
CREATED:20250909T171056Z
LAST-MODIFIED:20250909T172009Z
UID:10070866-1776848400-1776884400@www.buzzmagmartinique.com
SUMMARY:ATELIER THÉÂTRE PAR GLADYS ARNAUD & AMI À L'ÉCOLE ÉDOUARD MARCEAU\, SAINT JOSEPH
DESCRIPTION:Atelier Théâtre animé par Gladys ARNAUD \nMardi 17h00\nMercredi 14h00 \nSamedi 9h00 \nSaison 2025-2026 \nÉcole Édouard Marceau\, Saint-Joseph \nAdhésion annuelle et participation mensuelle \n📞 +33 6 25 72 58 49 \n  \n  \n\nVille de Saint Joseph \n \n  \nAMI – Association Martinique Images\, Martinique\, +596 696 455 150
URL:https://www.buzzmagmartinique.com/evenement/atelier-theatre-par-gladys-arnaud-ami-a-lecole-edouard-marceau-saint-joseph/2026-04-22/
LOCATION:Centre Culturel Marcé\, Quartier Belle Étoile\, Saint Joseph\, 97212\, Martinique
CATEGORIES:Art & Culture,Jeune public
ATTACH;FMTTYPE=image/webp:https://www.buzzmagmartinique.com/wp-content/uploads/2024/11/DpwDwbj9F4qL.webp
END:VEVENT
BEGIN:VEVENT
DTSTART;TZID=Europe/Paris:20250716T190000
DTEND;TZID=Europe/Paris:20250716T210000
DTSTAMP:20260423T123439
CREATED:20241105T205240Z
LAST-MODIFIED:20250710T111815Z
UID:10018090-1752692400-1752699600@www.buzzmagmartinique.com
SUMMARY:SOIRÉE LITTÉRAIRE "LES GUERRIERS DU TEMPS" AU CENTRE CULTUREL MARCÉ\, SAINT JOSEPH
DESCRIPTION:Le Centre Culturel Marcé\, en partenariat avec l’auteur Serge-Nicolas THALY\, invite le public à une soirée autour de l’ouvrage Les Guerriers du Temps\, un roman de science-fiction afro-caribéenne mêlant voyage temporel\, mémoire historique et avenir réinventé. \n  \n\nCentre Culturel Marcé\, Quartier Belle Étoile\, Saint Joseph\, 0596 79 55 07
URL:https://www.buzzmagmartinique.com/evenement/soiree-litteraire-les-guerriers-du-temps-au-centre-culturel-marce-saint-joseph/
LOCATION:Centre Culturel Marcé\, Quartier Belle Étoile\, Saint Joseph\, 97212\, Martinique
CATEGORIES:Art & Culture
ATTACH;FMTTYPE=image/webp:https://www.buzzmagmartinique.com/wp-content/uploads/2024/11/les-guerriers-du-temps1111.webp
END:VEVENT
BEGIN:VEVENT
DTSTART;TZID=Europe/Paris:20250712T163000
DTEND;TZID=Europe/Paris:20250712T183000
DTSTAMP:20260423T123439
CREATED:20250120T221400Z
LAST-MODIFIED:20250708T122056Z
UID:10018096-1752337800-1752345000@www.buzzmagmartinique.com
SUMMARY:CONCERT CHORALE COEURS AU CHANT "ESPOIR" AU CENTRE CULTUREL MARCÉ\, SAINT JOSEPH
DESCRIPTION:La ville de Saint-Joseph a le plaisir d’accueillir le concert annuel de la chorale Cœurs au Chant intitulé « Espoir »\, qui se tiendra le samedi 12 juillet 2025 à 16h30\, à l’Auditorium Lisette Malidor du Centre Culturel Marcé.\nL’entrée est libre. \n  \n\nCentre Culturel Marcé\, Quartier Belle Étoile\, Saint Joseph\, 0596 79 55 07
URL:https://www.buzzmagmartinique.com/evenement/concert-chorale-coeurs-au-chant-espoir-au-centre-culturel-marce-saint-joseph/
LOCATION:Centre Culturel Marcé\, Quartier Belle Étoile\, Saint Joseph\, 97212\, Martinique
CATEGORIES:Art & Culture
ATTACH;FMTTYPE=image/webp:https://www.buzzmagmartinique.com/wp-content/uploads/2025/01/Screenshot-2025-07-08-at-08-20-08-Mail-Orange1.webp
END:VEVENT
BEGIN:VEVENT
DTSTART;TZID=Europe/Paris:20250712T090000
DTEND;TZID=Europe/Paris:20250712T170000
DTSTAMP:20260423T123439
CREATED:20250623T223924Z
LAST-MODIFIED:20250630T184743Z
UID:10057942-1752310800-1752339600@www.buzzmagmartinique.com
SUMMARY:EXPOSITION PHOTOS "SAINT-JOSEPH ET SES RICHESSES" AU CENTRE CULTUREL MARCÉ\, SAINT JOSEPH
DESCRIPTION:Centre Culturel Marcé\, Quartier Belle Étoile\, Saint Joseph\, 0596 79 55 07
URL:https://www.buzzmagmartinique.com/evenement/exposition-photos-saint-joseph-et-ses-richesses-au-centre-culturel-marce-saint-joseph/2025-07-12/
LOCATION:Centre Culturel Marcé\, Quartier Belle Étoile\, Saint Joseph\, 97212\, Martinique
CATEGORIES:Art & Culture
ATTACH;FMTTYPE=image/webp:https://www.buzzmagmartinique.com/wp-content/uploads/2025/04/Affiche-Expo-photo-2025-jedifoto1.webp
END:VEVENT
BEGIN:VEVENT
DTSTART;TZID=Europe/Paris:20250711T190000
DTEND;TZID=Europe/Paris:20250711T210000
DTSTAMP:20260423T123439
CREATED:20250630T135855Z
LAST-MODIFIED:20250707T153131Z
UID:10011246-1752260400-1752267600@www.buzzmagmartinique.com
SUMMARY:CINÉMA EN PLEIN AIR "BOB MARLEY: ONE LOVE" AU CENTRE CULTUREL MARCÉ\, SAINT JOSEPH
DESCRIPTION:Cinéma en plein air à Saint-Joseph !\n\n\nLa Ville de Saint-Joseph vous invite à une projection en plein air du film « Bob Marley : One Love » vendredi 11 juillet à 19h\, sur le parking du Centre Culturel Marcé. \nUn film biographique retraçant la vie et l’engagement du célèbre chanteur jamaïcain\, figure emblématique de la musique reggae et de la paix. \nUne soirée vibrante en hommage à l’icône du reggae\, à vivre en famille ou entre amis\, sous les étoiles \nPensez à apporter votre chaise ! \nEntrée libre \nUn grand merci à Ciné Woulé pour cette belle collaboration \n  \n\n\n\nCentre Culturel Marcé\, Quartier Belle Étoile\, Saint Joseph\, 0596 79 55 07 \n \n \n  \nCiné Woulé Company est une association qui a pour objectif de faire de l’éducation à l’image à travers différents dispositifs. \nCadice Ciné Woulé Company\, 6 rue Jacques Cazotte Bâtiment Tropiques Atrium 1er étage\, salle case-à-vent\, \nFort-de-France\, 0696 21 29 35
URL:https://www.buzzmagmartinique.com/evenement/cinema-en-plein-air-bob-marley-one-love-au-centre-culturel-marce-saint-joseph/
LOCATION:Centre Culturel Marcé\, Quartier Belle Étoile\, Saint Joseph\, 97212\, Martinique
CATEGORIES:Art & Culture
ATTACH;FMTTYPE=image/webp:https://www.buzzmagmartinique.com/wp-content/uploads/2024/06/514654912_1324940182970270_7423246473973475209_n.webp
END:VEVENT
BEGIN:VEVENT
DTSTART;TZID=Europe/Paris:20250628T190000
DTEND;TZID=Europe/Paris:20250628T210000
DTSTAMP:20260423T123439
CREATED:20241104T211101Z
LAST-MODIFIED:20250602T163322Z
UID:10013305-1751137200-1751144400@www.buzzmagmartinique.com
SUMMARY:SPECTACLE DE L'ATELIER THÉÂTRE PAR AMI AU CENTRE CULTUREL MARCÉ\, SAINT JOSEPH
DESCRIPTION:Spectacle de l’Atelier Théâtre\navec Gladys Arnaud \nÀ partir de 5 ans\nEntrée libre\, ouverte à tous\n📞 +33 6 25 72 58 49 (Gladys) \n  \n\nCentre Culturel Marcé\, Quartier Belle Étoile\, Saint Joseph\, 0596 79 55 07 \n \n  \nAMI – Association Martinique Images\, Martinique\, +596 696 455 150
URL:https://www.buzzmagmartinique.com/evenement/spectacle-de-latelier-theatre-par-ami-au-centre-culturel-marce-saint-joseph/
LOCATION:Centre Culturel Marcé\, Quartier Belle Étoile\, Saint Joseph\, 97212\, Martinique
CATEGORIES:Art & Culture,Jeune public
ATTACH;FMTTYPE=image/webp:https://www.buzzmagmartinique.com/wp-content/uploads/2024/11/z0kPBxCzxggR.webp
ORGANIZER;CN="AMI - Association Martinique Images":MAILTO:association.martinique.images@gmail.com
END:VEVENT
BEGIN:VEVENT
DTSTART;VALUE=DATE:20250115
DTEND;VALUE=DATE:20250126
DTSTAMP:20260423T123439
CREATED:20250114T183823Z
LAST-MODIFIED:20250122T163606Z
UID:10018097-1736899200-1737849599@www.buzzmagmartinique.com
SUMMARY:FESTIVAL FILMS DOCUMENTAIRES "CINÉ COMMUNES"
DESCRIPTION:  \n\nDerrière les Révoltés de l’Histoire\, il y a une équipe de passionnés réunis au sein d’une association nommée Protea.\nNous partageons la même cause : l’éducation à l’histoire à travers le cinéma documentaire. \nNous organisons ainsi des festivals et des projections en Ile-de-France\, en Martinique et sur l’Ile de la Réunion. \nProtéa « Les Révoltés de l’Histoire »\, http://www.revoltesdelhistoire.fr/\n \n 
URL:https://www.buzzmagmartinique.com/evenement/festival-films-documentaires-cine-communes/
LOCATION:Centre Culturel Marcé\, Quartier Belle Étoile\, Saint Joseph\, 97212\, Martinique
CATEGORIES:Art & Culture
ATTACH;FMTTYPE=image/jpeg:https://www.buzzmagmartinique.com/wp-content/uploads/2024/11/Depliant-cine-communes-972-2025-2_page-0001.jpg
END:VEVENT
END:VCALENDAR