BEGIN:VCALENDAR
VERSION:2.0
PRODID:-//Buzzmag - ECPv6.15.20//NONSGML v1.0//EN
CALSCALE:GREGORIAN
METHOD:PUBLISH
X-WR-CALNAME:Buzzmag
X-ORIGINAL-URL:https://www.buzzmagmartinique.com
X-WR-CALDESC:Évènements pour Buzzmag
REFRESH-INTERVAL;VALUE=DURATION:PT1H
X-Robots-Tag:noindex
X-PUBLISHED-TTL:PT1H
BEGIN:VTIMEZONE
TZID:Europe/Paris
BEGIN:DAYLIGHT
TZOFFSETFROM:+0100
TZOFFSETTO:+0200
TZNAME:CEST
DTSTART:20240331T010000
END:DAYLIGHT
BEGIN:STANDARD
TZOFFSETFROM:+0200
TZOFFSETTO:+0100
TZNAME:CET
DTSTART:20241027T010000
END:STANDARD
BEGIN:DAYLIGHT
TZOFFSETFROM:+0100
TZOFFSETTO:+0200
TZNAME:CEST
DTSTART:20250330T010000
END:DAYLIGHT
BEGIN:STANDARD
TZOFFSETFROM:+0200
TZOFFSETTO:+0100
TZNAME:CET
DTSTART:20251026T010000
END:STANDARD
BEGIN:DAYLIGHT
TZOFFSETFROM:+0100
TZOFFSETTO:+0200
TZNAME:CEST
DTSTART:20260329T010000
END:DAYLIGHT
BEGIN:STANDARD
TZOFFSETFROM:+0200
TZOFFSETTO:+0100
TZNAME:CET
DTSTART:20261025T010000
END:STANDARD
BEGIN:DAYLIGHT
TZOFFSETFROM:+0100
TZOFFSETTO:+0200
TZNAME:CEST
DTSTART:20270328T010000
END:DAYLIGHT
BEGIN:STANDARD
TZOFFSETFROM:+0200
TZOFFSETTO:+0100
TZNAME:CET
DTSTART:20271031T010000
END:STANDARD
END:VTIMEZONE
BEGIN:VTIMEZONE
TZID:Europe/Paris
BEGIN:DAYLIGHT
TZOFFSETFROM:+0100
TZOFFSETTO:+0200
TZNAME:CEST
DTSTART:20240331T010000
END:DAYLIGHT
BEGIN:STANDARD
TZOFFSETFROM:+0200
TZOFFSETTO:+0100
TZNAME:CET
DTSTART:20241027T010000
END:STANDARD
BEGIN:DAYLIGHT
TZOFFSETFROM:+0100
TZOFFSETTO:+0200
TZNAME:CEST
DTSTART:20250330T010000
END:DAYLIGHT
BEGIN:STANDARD
TZOFFSETFROM:+0200
TZOFFSETTO:+0100
TZNAME:CET
DTSTART:20251026T010000
END:STANDARD
BEGIN:DAYLIGHT
TZOFFSETFROM:+0100
TZOFFSETTO:+0200
TZNAME:CEST
DTSTART:20260329T010000
END:DAYLIGHT
BEGIN:STANDARD
TZOFFSETFROM:+0200
TZOFFSETTO:+0100
TZNAME:CET
DTSTART:20261025T010000
END:STANDARD
END:VTIMEZONE
BEGIN:VEVENT
DTSTART;TZID=Europe/Paris:20260421T083000
DTEND;TZID=Europe/Paris:20260421T173000
DTSTAMP:20260422T114447
CREATED:20250901T204403Z
LAST-MODIFIED:20260402T132743Z
UID:10082016-1776760200-1776792600@www.buzzmagmartinique.com
SUMMARY:EXPOSITION PHOTOS "LES CARAÏBES RENCONTRENT NORDIQUE NOIR ET VICE VERSA" PAR SIRI WOLLAND À LA BIBLIOTHÈQUE SCHOELCHER\, FORT DE FRANCE
DESCRIPTION:  \n\nEXPOSITION – Les Caraïbes rencontrent Nordique Noir et vice versa\n\n\n\nEt si deux univers\, deux cultures et deux imaginaires se répondaient à travers l’image ?\n\n\n\nLa Bibliothèque Schoelcher accueille l’exposition de Siri Wolland\, une exploration visuelle entre les Caraïbes et le Nord\, où contrastes\, paysages et regards se croisent.\n\n\n\nUne exposition qui met en dialogue deux histoires à travers une esthétique forte\, entre noir et lumière\, mémoire et perception.\n\n\n\nUne invitation à découvrir autrement les liens entre cultures et paysages.\n\n\n\n\nHORAIRES \n\nlundi & mardi: 13:00 – 17:30\n\n\nmercredi\, jeudi\, vendredi: 08:30 – 17:30\n\n\n\nsamedi: 08:30 – 17:00\n\n\nBibliothèque Schoelcher\, rue de la Liberté\, Fort-de-France\, 0596 55 68 30
URL:https://www.buzzmagmartinique.com/evenement/exposition-photos-les-caraibes-rencontrent-nordique-noir-et-vice-versa-par-siri-wolland-a-la-bibliotheque-schoelcher-fort-de-france/2026-04-21/
LOCATION:Bibliothèque Schoelcher\, Rue de la Liberté\, Fort-de-France\, 97200\, Martinique
CATEGORIES:Art & Culture
ATTACH;FMTTYPE=image/webp:https://www.buzzmagmartinique.com/wp-content/uploads/2025/09/658533036_122284878860227406_8268926123986219342_n1.webp
END:VEVENT
BEGIN:VEVENT
DTSTART;TZID=Europe/Paris:20260410T183000
DTEND;TZID=Europe/Paris:20260410T200000
DTSTAMP:20260422T114447
CREATED:20250508T032044Z
LAST-MODIFIED:20260402T151728Z
UID:10034791-1775845800-1775851200@www.buzzmagmartinique.com
SUMMARY:VERNISSAGE EXPOSITION PHOTOS "LES CARAÏBES RENCONTRENT NORDIQUE NOIR ET VICE VERSA" PAR SIRI WOLLAND À LA BIBLIOTHÈQUE SCHOELCHER\, FORT DE FRANCE
DESCRIPTION:EXPOSITION – Les Caraïbes rencontrent Nordique Noir et vice versa\n\n\n\nEt si deux univers\, deux cultures et deux imaginaires se répondaient à travers l’image ?\n\n\n\nLa Bibliothèque Schoelcher accueille l’exposition de Siri Wolland\, une exploration visuelle entre les Caraïbes et le Nord\, où contrastes\, paysages et regards se croisent.\n\n\n\nUne exposition qui met en dialogue deux histoires à travers une esthétique forte\, entre noir et lumière\, mémoire et perception.\n\n\n\nUne invitation à découvrir autrement les liens entre cultures et paysages.\n\n\nHORAIRES \n\nlundi & mardi: 13:00 – 17:30\n\n\nmercredi\, jeudi\, vendredi: 08:30 – 17:30\n\n\n\nsamedi: 08:30 – 17:00\n\n\nBibliothèque Schoelcher\, rue de la Liberté\, Fort-de-France\, 0596 55 68 30
URL:https://www.buzzmagmartinique.com/evenement/vernissage-exposition-photos-les-caraibes-rencontrent-nordique-noir-et-vice-versa-par-siri-wolland-a-la-bibliotheque-schoelcher-fort-de-france/
LOCATION:Bibliothèque Schoelcher\, Rue de la Liberté\, Fort-de-France\, 97200\, Martinique
CATEGORIES:Art & Culture
ATTACH;FMTTYPE=image/webp:https://www.buzzmagmartinique.com/wp-content/uploads/2025/05/Messenger_creation_7A349A18-73C8-4D08-A66E-814BBE4159E9.webp
END:VEVENT
BEGIN:VEVENT
DTSTART;TZID=Europe/Paris:20250919T183000
DTEND;TZID=Europe/Paris:20250919T200000
DTSTAMP:20260422T114447
CREATED:20250901T204442Z
LAST-MODIFIED:20250901T204442Z
UID:10067680-1758306600-1758312000@www.buzzmagmartinique.com
SUMMARY:RENCONTRE "PATRIMOINE EN MOUVEMENT À L'ÈRE NUMÉRIQUE" À LA BIBLIOTHÈQUE SCHOELCHER\, FORT DE FRANCE
DESCRIPTION:Exposition de Georges-Emmanuel Arnaud\nDu 6 au 27 septembre 2025 — Bibliothèque Schœlcher\, Fort-de-France \nVernissage le vendredi 5 septembre\, 18h30 – 20h\nRencontre « Patrimoine en mouvement à l’ère du numérique » le vendredi 19 septembre\, 18h30 – 20h \nÀ travers l’exposition BIBLIOTECH\, Georges-Emmanuel Arnaud propose un regard inédit sur la Bibliothèque Schœlcher : une traversée visuelle où la matière du patrimoine se transforme en nuages de points. Ces images\, qu’il nomme Coalescence\, naissent de croisements technologiques — principalement le scan laser — et donnent vie à des rendus tour à tour fantomatiques\, poétiques et techniques. \nPrésentées sous forme de tirages encadrés\, ces œuvres offrent l’expérience troublante et magique de redécouvrir ce lieu emblématique « comme on ne l’a jamais vu ». Entre apparition et disparition\, elles interrogent la mémoire des pierres\, leur matérialité et leur fragilité\, mais aussi leur avenir dans l’univers numérique. \nLe vendredi 19 septembre\, à la veille des Journées européennes du patrimoine\, une rencontre intitulée « Patrimoine en mouvement à l’ère du numérique » invitera le public à dialoguer autour d’une question essentielle : comment les technologies contemporaines\, en réinventant nos façons de voir\, peuvent-elles aussi contribuer à préserver et transmettre nos patrimoines\, qu’ils soient matériels ou immatériels ? \nLe vernissage aura lieu le 5 septembre de 18h30 à 20h\, et une rencontre publique intitulée Patrimoine en mouvement à l’ère du numérique se tiendra le 19 septembre de 18h30 à 20h\, en ouverture des Journées européennes du patrimoine. \n\nHORAIRES \n\nlundi & mardi: 13:00 – 17:30\n\n\nmercredi\, jeudi\, vendredi: 08:30 – 17:30\n\n\n\nsamedi: 08:30 – 17:00\n\n\nBibliothèque Schoelcher\, rue de la Liberté\, Fort-de-France\, 0596 55 68 30
URL:https://www.buzzmagmartinique.com/evenement/rencontre-patrimoine-en-mouvement-a-lere-numerique-a-la-bibliotheque-schoelcher-fort-de-france/
LOCATION:Bibliothèque Schoelcher\, Rue de la Liberté\, Fort-de-France\, 97200\, Martinique
CATEGORIES:Art & Culture
ATTACH;FMTTYPE=image/webp:https://www.buzzmagmartinique.com/wp-content/uploads/2025/05/WhatsApp-Image-2025-09-01-a-16.17.26_d8fbaa4c.webp
END:VEVENT
BEGIN:VEVENT
DTSTART;TZID=Europe/Paris:20250821T090000
DTEND;TZID=Europe/Paris:20250821T120000
DTSTAMP:20260422T114447
CREATED:20250804T141818Z
LAST-MODIFIED:20251119T134935Z
UID:10066974-1755766800-1755777600@www.buzzmagmartinique.com
SUMMARY:ATELIERS "LA MARTINIQUE EN JEU" À LA BIBLIOTHÈQUE SCHOELCHER\, FORT DE FRANCE
DESCRIPTION:ATELIERS – La Martinique en jeu \nÀ travers une série de jeux créés sur mesure\, enfants et familles explorent les multiples facettes de la Martinique : culture\, nature\, patrimoine… \nUne immersion ludique pour découvrir la Martinique autrement ! \nInscription obligatoire : 0596 55 68 30 \n25 participants maximum par atelier \nAu programme des jeux :\n– Le Matnik logo tour\n– La Martinique et son patrimoine en jeu\n– Martinique Memory\n– Dobble Martinique\n– Défis nature Martinique\n– Jeu des 7 familles Mapipi\n– Jeu des 9 familles : Je découvre la Martinique\n– TTMC (Tu te mets combien en Martinique) \nActivité destinée aux familles et enfants à partir de 6 ans\n(les enfants de moins de 10 ans doivent être accompagnés) \n\nHORAIRES \n\nlundi & mardi: 13:00 – 17:30\n\n\nmercredi\, jeudi\, vendredi: 08:30 – 17:30\n\n\n\nsamedi: 08:30 – 17:00\n\n\nBibliothèque Schoelcher\, rue de la Liberté\, Fort-de-France\, 0596 55 68 30
URL:https://www.buzzmagmartinique.com/evenement/ateliers-la-martinique-en-jeu-a-la-bibliotheque-schoelcher-fort-de-france-2-2/
LOCATION:Bibliothèque Schoelcher\, Rue de la Liberté\, Fort-de-France\, 97200\, Martinique
CATEGORIES:Art & Culture,Jeune public
END:VEVENT
BEGIN:VEVENT
DTSTART;TZID=Europe/Paris:20250718T183000
DTEND;TZID=Europe/Paris:20250718T210000
DTSTAMP:20260422T114447
CREATED:20181005T183030Z
LAST-MODIFIED:20250711T145636Z
UID:10002046-1752863400-1752872400@www.buzzmagmartinique.com
SUMMARY:RENCONTRE LITTÉRAIRE "LE RÉSEAU ROUTIER DE LA MARTINIQUE" À LA BIBLIOTHÈQUE SCHOELCHER\, FORT DE FRANCE
DESCRIPTION:Rencontre littéraire autour de l’ouvrage « Le réseau routier de la Martinique » de Yves-Marcelle RICHER et Gérard THÉODOSE. \nGratuit\, renseignements au 0596 55 68 30 \n  \n\nBibliothèque Schoelcher\, rue de la Liberté\, Fort-de-France\, 0596 55 68 30
URL:https://www.buzzmagmartinique.com/evenement/rencontre-litteraire-le-reseau-routier-de-la-martinique-a-la-bibliotheque-schoelcher-fort-de-france/
LOCATION:Bibliothèque Schoelcher\, Rue de la Liberté\, Fort-de-France\, 97200\, Martinique
CATEGORIES:Art & Culture
ORGANIZER;CN="CTM Collectivit%C3%A9 Territoriale de Martinique":MAILTO:courrier@ctm.mq
END:VEVENT
END:VCALENDAR