BEGIN:VCALENDAR
VERSION:2.0
PRODID:-//Buzzmag - ECPv6.15.20//NONSGML v1.0//EN
CALSCALE:GREGORIAN
METHOD:PUBLISH
X-ORIGINAL-URL:https://www.buzzmagmartinique.com
X-WR-CALDESC:Évènements pour Buzzmag
REFRESH-INTERVAL;VALUE=DURATION:PT1H
X-Robots-Tag:noindex
X-PUBLISHED-TTL:PT1H
BEGIN:VTIMEZONE
TZID:America/Halifax
BEGIN:DAYLIGHT
TZOFFSETFROM:-0400
TZOFFSETTO:-0300
TZNAME:ADT
DTSTART:20250309T060000
END:DAYLIGHT
BEGIN:STANDARD
TZOFFSETFROM:-0300
TZOFFSETTO:-0400
TZNAME:AST
DTSTART:20251102T050000
END:STANDARD
BEGIN:DAYLIGHT
TZOFFSETFROM:-0400
TZOFFSETTO:-0300
TZNAME:ADT
DTSTART:20260308T060000
END:DAYLIGHT
BEGIN:STANDARD
TZOFFSETFROM:-0300
TZOFFSETTO:-0400
TZNAME:AST
DTSTART:20261101T050000
END:STANDARD
BEGIN:DAYLIGHT
TZOFFSETFROM:-0400
TZOFFSETTO:-0300
TZNAME:ADT
DTSTART:20270314T060000
END:DAYLIGHT
BEGIN:STANDARD
TZOFFSETFROM:-0300
TZOFFSETTO:-0400
TZNAME:AST
DTSTART:20271107T050000
END:STANDARD
END:VTIMEZONE
BEGIN:VTIMEZONE
TZID:Europe/Paris
BEGIN:DAYLIGHT
TZOFFSETFROM:+0100
TZOFFSETTO:+0200
TZNAME:CEST
DTSTART:20240331T010000
END:DAYLIGHT
BEGIN:STANDARD
TZOFFSETFROM:+0200
TZOFFSETTO:+0100
TZNAME:CET
DTSTART:20241027T010000
END:STANDARD
BEGIN:DAYLIGHT
TZOFFSETFROM:+0100
TZOFFSETTO:+0200
TZNAME:CEST
DTSTART:20250330T010000
END:DAYLIGHT
BEGIN:STANDARD
TZOFFSETFROM:+0200
TZOFFSETTO:+0100
TZNAME:CET
DTSTART:20251026T010000
END:STANDARD
BEGIN:DAYLIGHT
TZOFFSETFROM:+0100
TZOFFSETTO:+0200
TZNAME:CEST
DTSTART:20260329T010000
END:DAYLIGHT
BEGIN:STANDARD
TZOFFSETFROM:+0200
TZOFFSETTO:+0100
TZNAME:CET
DTSTART:20261025T010000
END:STANDARD
BEGIN:DAYLIGHT
TZOFFSETFROM:+0100
TZOFFSETTO:+0200
TZNAME:CEST
DTSTART:20270328T010000
END:DAYLIGHT
BEGIN:STANDARD
TZOFFSETFROM:+0200
TZOFFSETTO:+0100
TZNAME:CET
DTSTART:20271031T010000
END:STANDARD
END:VTIMEZONE
BEGIN:VEVENT
DTSTART;TZID=America/Halifax:20260415T100000
DTEND;TZID=America/Halifax:20260415T110000
DTSTAMP:20260423T130725
CREATED:20190402T205044Z
LAST-MODIFIED:20260409T163457Z
UID:10002517-1776247200-1776250800@www.buzzmagmartinique.com
SUMMARY:HEURE DU CONTE PAR AMI À LA BIBLIOTHÈQUE MARIE THÉRÈSE LUNG FOU\, LES TROIS ÎLETS
DESCRIPTION:Heure du Conte +6 ans\nAppoline STEWARD \nÀ partir de 3 ans\nEntrée libre \n\nBibliothèque Marie Thérèse Lung Fou\, rue Bontemps\, Les Trois Îlets\, 0596 68 47 92\, bibliotheque.des.trois.ilets@wanadoo.fr \n \n  \nAMI – Association Martinique Images\, Martinique\, +596 696 455 150 \n \n 
URL:https://www.buzzmagmartinique.com/evenement/heure-du-conte-par-ami-a-la-bibliotheque-marie-therese-lung-fou-les-trois-ilets/
LOCATION:Bibliothèque Marie Thérèse Lung Fou\, rue Bontemps\, Les Trois Îlets\, 97229\, Martinique
CATEGORIES:Art & Culture,Jeune public
ATTACH;FMTTYPE=image/webp:https://www.buzzmagmartinique.com/wp-content/uploads/2019/04/669779734_1405684898268585_4756389056035591747_n1.webp
ORGANIZER;CN="AMI - Association Martinique Images":MAILTO:association.martinique.images@gmail.com
END:VEVENT
BEGIN:VEVENT
DTSTART;TZID=Europe/Paris:20260226T190000
DTEND;TZID=Europe/Paris:20260226T210000
DTSTAMP:20260423T130725
CREATED:20240919T123616Z
LAST-MODIFIED:20260225T135650Z
UID:10048507-1772132400-1772139600@www.buzzmagmartinique.com
SUMMARY:THÉÂTRE "MERCI ANDY" À LA BIBLIOTHÈQUE MARIE THÉRÈSE LUNG FOU\, LES TROIS ÎLETS
DESCRIPTION:« 𝐌𝐞𝐫𝐜𝐢 𝐀𝐧𝐝𝐲 » – 𝐂𝐨𝐦𝐩𝐫𝐞𝐧𝐝𝐫𝐞 𝐥’𝐞𝐧𝐝𝐨𝐦𝐞́𝐭𝐫𝐢𝐨𝐬𝐞 𝐚𝐮𝐭𝐫𝐞𝐦𝐞𝐧𝐭 \nVous êtes invités à la représentation de la pièce de théâtre « Merci Andy »\, le jeudi 26 février à 19h\, à la Bibliothèque Marie Thérèse Julien Lung Fou. \nPrésentée par l’association Kant é Kant et mise en scène par Arielle Bloesch\, cette création aborde avec humour et sensibilité un sujet essentiel : l’endométriose. \nComédiens : Fiona Soutif Giovanny\, Germany\nMise en scène : Arielle Bloesch\nTexte : Christophe Cazalis \nÀ l’issue de la représentation\, un échange sera animé par Nathalie DABON\, patiente experte et présidente de l’association ENDOFORM972\, afin de sensibiliser le public à cette maladie qui touche de nombreuses femmes en Martinique. \nEntrée libre – Venez nombreux pour un moment culturel et informatif ! \n\nLundi : 8h -13h & 14h30 -16h30\nDu Mardi au Vendredi : 8h -13h \nBibliothèque Marie Thérèse Lung Fou\, rue Bontemps\, Les Trois Îlets\, 0596 68 47 92
URL:https://www.buzzmagmartinique.com/evenement/theatre-merci-andy-a-la-bibliotheque-marie-therese-lung-fou-les-trois-ilets/
LOCATION:Bibliothèque Marie Thérèse Lung Fou\, rue Bontemps\, Les Trois Îlets\, 97229\, Martinique
CATEGORIES:Art & Culture
ATTACH;FMTTYPE=image/webp:https://www.buzzmagmartinique.com/wp-content/uploads/2024/09/638312403_1369991168505238_1804142323456445483_n.webp
END:VEVENT
BEGIN:VEVENT
DTSTART;TZID=Europe/Paris:20260124T080000
DTEND;TZID=Europe/Paris:20260124T170000
DTSTAMP:20260423T130725
CREATED:20260120T225831Z
LAST-MODIFIED:20260120T230101Z
UID:10079935-1769241600-1769274000@www.buzzmagmartinique.com
SUMMARY:EXPOSITION "KANTÉKANT" À LA BIBLIOTHÈQUE MARIE THÉRÈSE LUNG FOU\, LES TROIS ÎLETS
DESCRIPTION:  \n\nMardi 08h00 – 12h00\nMercredi 08h00 – 13h00 / 14h30 – 17h00\nJeudi 08h00 – 13h00\nVendredi 08h00 – 14h00 \nSamedi 08h30 – 13h00 \nBibliothèque Marie Thérèse Lung Fou\, rue Bontemps\, Les Trois Îlets\, 0596 68 47 92
URL:https://www.buzzmagmartinique.com/evenement/exposition-kantekant-a-la-bibliotheque-marie-therese-lung-fou-les-trois-ilets/2026-01-24/
LOCATION:Bibliothèque Marie Thérèse Lung Fou\, rue Bontemps\, Les Trois Îlets\, 97229\, Martinique
CATEGORIES:Art & Culture
ATTACH;FMTTYPE=image/webp:https://www.buzzmagmartinique.com/wp-content/uploads/2025/09/615746930_1337554831748872_5813853256091926882_n1.webp
END:VEVENT
BEGIN:VEVENT
DTSTART;TZID=Europe/Paris:20260122T183000
DTEND;TZID=Europe/Paris:20260122T210000
DTSTAMP:20260423T130725
CREATED:20251127T175824Z
LAST-MODIFIED:20260120T230828Z
UID:10053146-1769106600-1769115600@www.buzzmagmartinique.com
SUMMARY:NUITS DE LA LECTURE "VILLES & CAMPAGNES" À LA BIBLIOTHÈQUE MARIE THÉRÈSE LUNG FOU\, LES TROIS ÎLETS
DESCRIPTION:  \n\nLundi : 8h -13h & 14h30 -16h30\nDu Mardi au Vendredi : 8h -13h \nBibliothèque Marie Thérèse Lung Fou\, rue Bontemps\, Les Trois Îlets\, 0596 68 47 92
URL:https://www.buzzmagmartinique.com/evenement/theatre-flocon-le-caneton-qui-necoutait-pas-sa-maman-a-la-bibliotheque-marie-therese-lung-fou-les-trois-ilets/
LOCATION:Bibliothèque Marie Thérèse Lung Fou\, rue Bontemps\, Les Trois Îlets\, 97229\, Martinique
CATEGORIES:Art & Culture
ATTACH;FMTTYPE=image/webp:https://www.buzzmagmartinique.com/wp-content/uploads/2025/11/616117792_1339380268232995_3762298873265971301_n.webp
END:VEVENT
BEGIN:VEVENT
DTSTART;TZID=Europe/Paris:20260120T080000
DTEND;TZID=Europe/Paris:20260120T170000
DTSTAMP:20260423T130725
CREATED:20250904T115941Z
LAST-MODIFIED:20250904T120734Z
UID:10068722-1768896000-1768928400@www.buzzmagmartinique.com
SUMMARY:EXPOSITION PICTURALE "CRÉACTIVITÉ" À LA BIBLIOTHÈQUE MARIE THÉRÈSE LUNG FOU\, LES TROIS ÎLETS
DESCRIPTION:EXPOSITON PICTURALEPar l’artiste Elise GAU – MEEG \n  \n\nMardi 08h00 – 12h00\nMercredi 08h00 – 13h00 / 14h30 – 17h00\nJeudi 08h00 – 13h00\nVendredi 08h00 – 14h00 \nSamedi 08h30 – 13h00 \nBibliothèque Marie Thérèse Lung Fou\, rue Bontemps\, Les Trois Îlets\, 0596 68 47 92
URL:https://www.buzzmagmartinique.com/evenement/exposition-picturale-creactivite-a-la-bibliotheque-marie-therese-lung-fou-les-trois-ilets/2026-01-20/
LOCATION:Bibliothèque Marie Thérèse Lung Fou\, rue Bontemps\, Les Trois Îlets\, 97229\, Martinique
CATEGORIES:Art & Culture
ATTACH;FMTTYPE=image/webp:https://www.buzzmagmartinique.com/wp-content/uploads/2025/04/542144831_1222540666583623_7037976754905004593_n.webp
END:VEVENT
BEGIN:VEVENT
DTSTART;TZID=Europe/Paris:20251217T100000
DTEND;TZID=Europe/Paris:20251217T120000
DTSTAMP:20260423T130725
CREATED:20181025T123734Z
LAST-MODIFIED:20251209T195854Z
UID:10001949-1765965600-1765972800@www.buzzmagmartinique.com
SUMMARY:L'HEURE DU CONTE À LA BIBLIOTHÈQUE MARIE THÉRÈSE JULIEN LUNG-FOU\, LES TROIS ÎLETS
DESCRIPTION:La Bibliothèque de la Ville des Trois-Ilets vous invite à venir écouter L’HEURE DU CONTE AMI\, avec Saulo Olmedo Evans (Panama/Québec)\, accompagné de Valer’EGOUY (Martinique). \nLes sandales de Saulo boucanent encore aujourd’hui\, car elles ont parcouru presque le monde entier à la recherche de l’inconnu. Accompagné de sa valise pleine d’instruments de musique\, Saulo nous raconte les souvenirs de sa terre d’origine\, le Panama. Inspiré de ses voyages\, il constate que les contes\, mythes et légendes se ressemblent mystérieusement d’un pays à l’autre… \nValer’EGOUY est un des rares conteurs professionnels en Martinique ; engagé il ne cesse de proclamer la parole à la ronde… pour le plaisir ! Sans répit\, Valer’ prête l’oreille aux anciens\, quête la Parole\, image le Proverbe… et détricote les sous-entendus\, les recoins des empreintes\, le sens caché pour faire émerger la réminiscence d’Antan. \nEntrée gratuite\, pour Petits et Grands\nÀ partir de 3 ans \n\n\n\n\n\n\n\nBibliothèque Marie Thérèse Julien Lung-Fou\, 1 rue Bontemps\, Les Trois Îlets\, 0596 68 47 92
URL:https://www.buzzmagmartinique.com/evenement/lheure-du-conte-a-la-bibliotheque-marie-therese-julien-lung-fou-les-trois-ilets/
LOCATION:Bibliothèque Marie Thérèse Lung Fou\, rue Bontemps\, Les Trois Îlets\, 97229\, Martinique
CATEGORIES:Art & Culture,Jeune public
ATTACH;FMTTYPE=image/webp:https://www.buzzmagmartinique.com/wp-content/uploads/2018/10/596971466_1300774045426338_5612506872234460319_n1.webp
END:VEVENT
BEGIN:VEVENT
DTSTART;TZID=Europe/Paris:20251122T083000
DTEND;TZID=Europe/Paris:20251122T120000
DTSTAMP:20260423T130725
CREATED:20251120T135820Z
LAST-MODIFIED:20251120T135833Z
UID:10057956-1763800200-1763812800@www.buzzmagmartinique.com
SUMMARY:RENCONTRE LITTÉRAIRE "TI TÈT CHAJÉ"  À LA BIBLIOTHÈQUE MARIE THÉRÈSE LUNG FOU\, LES TROIS ÎLETS
DESCRIPTION:Lundi : 8h -13h & 14h30 -16h30\nDu Mardi au Vendredi : 8h -13h \nBibliothèque Marie Thérèse Lung Fou\, rue Bontemps\, Les Trois Îlets\, 0596 68 47 92
URL:https://www.buzzmagmartinique.com/evenement/rencontre-litteraire-ti-tet-chaje-a-la-bibliotheque-marie-therese-lung-fou-les-trois-ilets/
LOCATION:Bibliothèque Marie Thérèse Lung Fou\, rue Bontemps\, Les Trois Îlets\, 97229\, Martinique
CATEGORIES:Art & Culture
ATTACH;FMTTYPE=image/webp:https://www.buzzmagmartinique.com/wp-content/uploads/2024/04/IMG-20251119-WA00271.webp
END:VEVENT
BEGIN:VEVENT
DTSTART;TZID=Europe/Paris:20250704T083000
DTEND;TZID=Europe/Paris:20250704T160000
DTSTAMP:20260423T130725
CREATED:20240402T135033Z
LAST-MODIFIED:20250624T134011Z
UID:10057955-1751617800-1751644800@www.buzzmagmartinique.com
SUMMARY:VENTE DE LIVRES JEUNESSE NEUFS  À LA BIBLIOTHÈQUE MARIE THÉRÈSE LUNG FOU\, LES TROIS ÎLETS
DESCRIPTION:Lundi : 8h -13h & 14h30 -16h30\nDu Mardi au Vendredi : 8h -13h \nBibliothèque Marie Thérèse Lung Fou\, rue Bontemps\, Les Trois Îlets\, 0596 68 47 92
URL:https://www.buzzmagmartinique.com/evenement/vente-de-livres-jeunesse-neufs-a-la-bibliotheque-marie-therese-lung-fou-les-trois-ilets/2025-07-04/
LOCATION:Bibliothèque Marie Thérèse Lung Fou\, rue Bontemps\, Les Trois Îlets\, 97229\, Martinique
CATEGORIES:Art & Culture,Jeune public
ATTACH;FMTTYPE=image/webp:https://www.buzzmagmartinique.com/wp-content/uploads/2024/04/Screenshot-2025-06-24-at-09-24-14-1-Facebook11111111.webp
END:VEVENT
BEGIN:VEVENT
DTSTART;TZID=Europe/Paris:20250626T080000
DTEND;TZID=Europe/Paris:20250626T163000
DTSTAMP:20260423T130725
CREATED:20250404T145900Z
LAST-MODIFIED:20250519T152917Z
UID:10053145-1750924800-1750955400@www.buzzmagmartinique.com
SUMMARY:EXPOSITION POÉTIQUE À LA BIBLIOTHÈQUE MARIE THÉRÈSE LUNG FOU\, LES TROIS ÎLETS
DESCRIPTION:Appel à textes poétiques \nJe propose aux jeunes poètes de composer autour du thème de l’enfance ou de l’adolescence \,  sous forme de moïku ( poème haïtien composé de 4 vers finissant avec la même sonorité). \nÀ toi\, cher artiste des mots\, retiens qu’il n’ y a pas d’ âge pour être l’auteur de ton histoire. \nContact.katia.fm@gmail.fr \n  \n\nLundi : 8h -13h & 14h30 -16h30\nDu Mardi au Vendredi : 8h -13h \nBibliothèque Marie Thérèse Lung Fou\, rue Bontemps\, Les Trois Îlets\, 0596 68 47 92
URL:https://www.buzzmagmartinique.com/evenement/exposition-poetique-a-la-bibliotheque-marie-therese-lung-fou-les-trois-ilets/2025-06-26/
LOCATION:Bibliothèque Marie Thérèse Lung Fou\, rue Bontemps\, Les Trois Îlets\, 97229\, Martinique
CATEGORIES:Art & Culture,Jeune public
ATTACH;FMTTYPE=image/webp:https://www.buzzmagmartinique.com/wp-content/uploads/2025/04/IMG-20250518-WA00121.webp
END:VEVENT
BEGIN:VEVENT
DTSTART;TZID=Europe/Paris:20250405T093000
DTEND;TZID=Europe/Paris:20250405T110000
DTSTAMP:20260423T130725
CREATED:20240613T135219Z
LAST-MODIFIED:20250404T150634Z
UID:10007659-1743845400-1743850800@www.buzzmagmartinique.com
SUMMARY:VERNISSAGE EXPOSITION À LA BIBLIOTHÈQUE MARIE THÉRÈSE LUNG FOU\, LES TROIS ÎLETS
DESCRIPTION:À l’occasion de la sortie de mon recueil de textes poétiques  » La douceur du retour à soi « \, je vous propose de me rejoindre pour un vernissage poétique\nJ’aurai le plaisir d’être avec les 60 déclameurs et déclameuses du cercle du dire pour de  subtiles et puissantes ballades dans les sentiers si inspirants d’une intimité textuelle. \nAssurément que nous nous retrouverons  dans l’amour des mots \n\nLundi : 8h -13h & 14h30 -16h30\nDu Mardi au Vendredi : 8h -13h \nBibliothèque Marie Thérèse Lung Fou\, rue Bontemps\, Les Trois Îlets\, 0596 68 47 92
URL:https://www.buzzmagmartinique.com/evenement/vernissage-exposition-a-la-bibliotheque-marie-therese-lung-fou-les-trois-ilets/
LOCATION:Bibliothèque Marie Thérèse Lung Fou\, rue Bontemps\, Les Trois Îlets\, 97229\, Martinique
CATEGORIES:Art & Culture
ATTACH;FMTTYPE=image/webp:https://www.buzzmagmartinique.com/wp-content/uploads/2024/06/487542397_1095788549258836_2644012174191928922_n-min1.webp
END:VEVENT
END:VCALENDAR