BEGIN:VCALENDAR
VERSION:2.0
PRODID:-//Buzzmag - ECPv6.15.20//NONSGML v1.0//EN
CALSCALE:GREGORIAN
METHOD:PUBLISH
X-WR-CALNAME:Buzzmag
X-ORIGINAL-URL:https://www.buzzmagmartinique.com
X-WR-CALDESC:Évènements pour Buzzmag
REFRESH-INTERVAL;VALUE=DURATION:PT1H
X-Robots-Tag:noindex
X-PUBLISHED-TTL:PT1H
BEGIN:VTIMEZONE
TZID:America/Martinique
BEGIN:STANDARD
TZOFFSETFROM:-0400
TZOFFSETTO:-0400
TZNAME:AST
DTSTART:20250101T000000
END:STANDARD
END:VTIMEZONE
BEGIN:VTIMEZONE
TZID:Europe/Paris
BEGIN:DAYLIGHT
TZOFFSETFROM:+0100
TZOFFSETTO:+0200
TZNAME:CEST
DTSTART:20250330T010000
END:DAYLIGHT
BEGIN:STANDARD
TZOFFSETFROM:+0200
TZOFFSETTO:+0100
TZNAME:CET
DTSTART:20251026T010000
END:STANDARD
BEGIN:DAYLIGHT
TZOFFSETFROM:+0100
TZOFFSETTO:+0200
TZNAME:CEST
DTSTART:20260329T010000
END:DAYLIGHT
BEGIN:STANDARD
TZOFFSETFROM:+0200
TZOFFSETTO:+0100
TZNAME:CET
DTSTART:20261025T010000
END:STANDARD
BEGIN:DAYLIGHT
TZOFFSETFROM:+0100
TZOFFSETTO:+0200
TZNAME:CEST
DTSTART:20270328T010000
END:DAYLIGHT
BEGIN:STANDARD
TZOFFSETFROM:+0200
TZOFFSETTO:+0100
TZNAME:CET
DTSTART:20271031T010000
END:STANDARD
END:VTIMEZONE
BEGIN:VEVENT
DTSTART;TZID=America/Martinique:20260418T083000
DTEND;TZID=America/Martinique:20260418T113000
DTSTAMP:20260420T155335
CREATED:20230611T111851Z
LAST-MODIFIED:20260417T141527Z
UID:10003762-1776501000-1776511800@www.buzzmagmartinique.com
SUMMARY:ATILIÉ KONT AU LOCAL ASSOCIATIF LANBÉLI\, LE ROBERT
DESCRIPTION:ATILIÉ KONTL’association Lanbeli vous propose un atelier conte animé par Michel Platon au local associatif de Monnérot de 8h30 à 11h30. \nAdhérents : Gratuit \nNon adhérents : 10€INFOS : 0696 91 68 25 \n  \n\nAssociation Lanbéli\, Local Associatif de Monnérot\, Le Robert\, 0696 91 68 25
URL:https://www.buzzmagmartinique.com/evenement/atilie-kont-au-local-associatif-lanbeli-le-robert/
LOCATION:Asso Lanbéli\, Local Associatif de La Monnérot\, Le Robert\, 97231\, Martinique
CATEGORIES:Art & Culture
ATTACH;FMTTYPE=image/webp:https://www.buzzmagmartinique.com/wp-content/uploads/2023/06/672096294_1400714542089234_761910861519545976_n1.webp
END:VEVENT
BEGIN:VEVENT
DTSTART;TZID=Europe/Paris:20260217T093000
DTEND;TZID=Europe/Paris:20260217T235900
DTSTAMP:20260420T155335
CREATED:20241224T115413Z
LAST-MODIFIED:20260210T172053Z
UID:10013968-1771320600-1771372740@www.buzzmagmartinique.com
SUMMARY:SON TANBOU MARDI GRAS AU LOCAL ASSOCIATIF LANBÉLI\, LE ROBERT
DESCRIPTION:LANBÉLI fait son carnaval à sa façon.\n\nTANBOU kay sonné dépi névè é dimi jik bout MARDI GRAS.\n\n\n\nNou kay pawtajé.\n\nMennen sa ou ka bwè\, sa ou ka manjé.\n\nNou ka atann zot.\n\n\n\n\n\n\n\n\n\n\nAssociation Lanbéli\, Local Associatif de Monnérot\, Le Robert\, 0696 91 68 25
URL:https://www.buzzmagmartinique.com/evenement/son-tanbou-mardi-gras-au-local-associatif-lanbeli-le-robert/
LOCATION:Asso Lanbéli\, Local Associatif de La Monnérot\, Le Robert\, 97231\, Martinique
CATEGORIES:Art & Culture,Soirée
ATTACH;FMTTYPE=image/webp:https://www.buzzmagmartinique.com/wp-content/uploads/2024/12/633584815_25771278732522250_2693890854373926329_n.webp
ORGANIZER;CN="ASSOCIATION LANB%C3%89LI":MAILTO:associationlanbeli@gmail.com
END:VEVENT
BEGIN:VEVENT
DTSTART;TZID=Europe/Paris:20260125T063000
DTEND;TZID=Europe/Paris:20260125T100000
DTSTAMP:20260420T155335
CREATED:20240814T151333Z
LAST-MODIFIED:20260119T203805Z
UID:10013956-1769322600-1769335200@www.buzzmagmartinique.com
SUMMARY:RANDONNÉE "LA CARAVELLE" PAR L'ASSOCIATION LANBÉLI À TARTANE\, LA TRINITÉ
DESCRIPTION:Nous vous donnons rendez-vous DIMANCHE 25 JANVIER 2026 dès 6H30 pour une découverte ou une re-découverte de ce merveilleux parcours de\nLA CARAVELLE – TRINITÉ. \nPensez à prendre un petit-déjeuner avant le départ\,\nVenez en forme\,\nPrévoyez de bonnes chaussures de randonnée\, un couvre-chef\, de l’eau et des fruits secs. \nInfoline au 0696 41 80 86/ 0696 91 68 25 \n\nAssociation Lanbéli\, Local Associatif de Monnérot\, Le Robert\, 0696 91 68 25
URL:https://www.buzzmagmartinique.com/evenement/randonnee-la-caravelle-par-lassociation-lanbeli-a-tartane-la-trinite/
LOCATION:Asso Lanbéli\, Local Associatif de La Monnérot\, Le Robert\, 97231\, Martinique
CATEGORIES:Sport
ATTACH;FMTTYPE=image/webp:https://www.buzzmagmartinique.com/wp-content/uploads/2024/08/01-25-LANBELI.webp
ORGANIZER;CN="ASSOCIATION LANB%C3%89LI":MAILTO:associationlanbeli@gmail.com
END:VEVENT
END:VCALENDAR