BEGIN:VCALENDAR
VERSION:2.0
PRODID:-//Buzzmag - ECPv6.15.20//NONSGML v1.0//EN
CALSCALE:GREGORIAN
METHOD:PUBLISH
X-WR-CALNAME:Buzzmag
X-ORIGINAL-URL:https://www.buzzmagmartinique.com
X-WR-CALDESC:Évènements pour Buzzmag
REFRESH-INTERVAL;VALUE=DURATION:PT1H
X-Robots-Tag:noindex
X-PUBLISHED-TTL:PT1H
BEGIN:VTIMEZONE
TZID:Europe/Paris
BEGIN:DAYLIGHT
TZOFFSETFROM:+0100
TZOFFSETTO:+0200
TZNAME:CEST
DTSTART:20250330T010000
END:DAYLIGHT
BEGIN:STANDARD
TZOFFSETFROM:+0200
TZOFFSETTO:+0100
TZNAME:CET
DTSTART:20251026T010000
END:STANDARD
BEGIN:DAYLIGHT
TZOFFSETFROM:+0100
TZOFFSETTO:+0200
TZNAME:CEST
DTSTART:20260329T010000
END:DAYLIGHT
BEGIN:STANDARD
TZOFFSETFROM:+0200
TZOFFSETTO:+0100
TZNAME:CET
DTSTART:20261025T010000
END:STANDARD
BEGIN:DAYLIGHT
TZOFFSETFROM:+0100
TZOFFSETTO:+0200
TZNAME:CEST
DTSTART:20270328T010000
END:DAYLIGHT
BEGIN:STANDARD
TZOFFSETFROM:+0200
TZOFFSETTO:+0100
TZNAME:CET
DTSTART:20271031T010000
END:STANDARD
END:VTIMEZONE
BEGIN:VEVENT
DTSTART;TZID=Europe/Paris:20260526T080000
DTEND;TZID=Europe/Paris:20260526T170000
DTSTAMP:20260421T110412
CREATED:20230308T125122Z
LAST-MODIFIED:20260129T133449Z
UID:10080432-1779782400-1779814800@www.buzzmagmartinique.com
SUMMARY:TRI BÔ KAY À L'ANCIEN EMPLACEMENT DES SERVICES TECHNIQUES\, BELLEFONTAINE
DESCRIPTION:  \n\nVille de Bellefontaine – Martinique
URL:https://www.buzzmagmartinique.com/evenement/tri-bo-kay-a-lancien-emplacement-des-services-techniques-bellefontaine/2026-05-26/
CATEGORIES:Environnement
ATTACH;FMTTYPE=image/webp:https://www.buzzmagmartinique.com/wp-content/uploads/2023/03/623051495_880304851365006_1420307448284312103_n1.webp
END:VEVENT
BEGIN:VEVENT
DTSTART;TZID=Europe/Paris:20260609T080000
DTEND;TZID=Europe/Paris:20260609T170000
DTSTAMP:20260421T110412
CREATED:20230308T125122Z
LAST-MODIFIED:20260129T133449Z
UID:10080433-1780992000-1781024400@www.buzzmagmartinique.com
SUMMARY:TRI BÔ KAY À L'ANCIEN EMPLACEMENT DES SERVICES TECHNIQUES\, BELLEFONTAINE
DESCRIPTION:  \n\nVille de Bellefontaine – Martinique
URL:https://www.buzzmagmartinique.com/evenement/tri-bo-kay-a-lancien-emplacement-des-services-techniques-bellefontaine/2026-06-09/
CATEGORIES:Environnement
ATTACH;FMTTYPE=image/webp:https://www.buzzmagmartinique.com/wp-content/uploads/2023/03/623051495_880304851365006_1420307448284312103_n1.webp
END:VEVENT
BEGIN:VEVENT
DTSTART;TZID=Europe/Paris:20260707T080000
DTEND;TZID=Europe/Paris:20260707T170000
DTSTAMP:20260421T110412
CREATED:20230308T125122Z
LAST-MODIFIED:20260129T133449Z
UID:10080434-1783411200-1783443600@www.buzzmagmartinique.com
SUMMARY:TRI BÔ KAY À L'ANCIEN EMPLACEMENT DES SERVICES TECHNIQUES\, BELLEFONTAINE
DESCRIPTION:  \n\nVille de Bellefontaine – Martinique
URL:https://www.buzzmagmartinique.com/evenement/tri-bo-kay-a-lancien-emplacement-des-services-techniques-bellefontaine/2026-07-07/
CATEGORIES:Environnement
ATTACH;FMTTYPE=image/webp:https://www.buzzmagmartinique.com/wp-content/uploads/2023/03/623051495_880304851365006_1420307448284312103_n1.webp
END:VEVENT
BEGIN:VEVENT
DTSTART;TZID=Europe/Paris:20260804T080000
DTEND;TZID=Europe/Paris:20260804T170000
DTSTAMP:20260421T110412
CREATED:20230308T125122Z
LAST-MODIFIED:20260129T133449Z
UID:10080435-1785830400-1785862800@www.buzzmagmartinique.com
SUMMARY:TRI BÔ KAY À L'ANCIEN EMPLACEMENT DES SERVICES TECHNIQUES\, BELLEFONTAINE
DESCRIPTION:  \n\nVille de Bellefontaine – Martinique
URL:https://www.buzzmagmartinique.com/evenement/tri-bo-kay-a-lancien-emplacement-des-services-techniques-bellefontaine/2026-08-04/
CATEGORIES:Environnement
ATTACH;FMTTYPE=image/webp:https://www.buzzmagmartinique.com/wp-content/uploads/2023/03/623051495_880304851365006_1420307448284312103_n1.webp
END:VEVENT
BEGIN:VEVENT
DTSTART;TZID=Europe/Paris:20260901T080000
DTEND;TZID=Europe/Paris:20260901T170000
DTSTAMP:20260421T110412
CREATED:20230308T125122Z
LAST-MODIFIED:20260129T133449Z
UID:10080436-1788249600-1788282000@www.buzzmagmartinique.com
SUMMARY:TRI BÔ KAY À L'ANCIEN EMPLACEMENT DES SERVICES TECHNIQUES\, BELLEFONTAINE
DESCRIPTION:  \n\nVille de Bellefontaine – Martinique
URL:https://www.buzzmagmartinique.com/evenement/tri-bo-kay-a-lancien-emplacement-des-services-techniques-bellefontaine/2026-09-01/
CATEGORIES:Environnement
ATTACH;FMTTYPE=image/webp:https://www.buzzmagmartinique.com/wp-content/uploads/2023/03/623051495_880304851365006_1420307448284312103_n1.webp
END:VEVENT
BEGIN:VEVENT
DTSTART;TZID=Europe/Paris:20261027T080000
DTEND;TZID=Europe/Paris:20261027T170000
DTSTAMP:20260421T110412
CREATED:20230308T125122Z
LAST-MODIFIED:20260129T133449Z
UID:10080437-1793088000-1793120400@www.buzzmagmartinique.com
SUMMARY:TRI BÔ KAY À L'ANCIEN EMPLACEMENT DES SERVICES TECHNIQUES\, BELLEFONTAINE
DESCRIPTION:  \n\nVille de Bellefontaine – Martinique
URL:https://www.buzzmagmartinique.com/evenement/tri-bo-kay-a-lancien-emplacement-des-services-techniques-bellefontaine/2026-10-27/
CATEGORIES:Environnement
ATTACH;FMTTYPE=image/webp:https://www.buzzmagmartinique.com/wp-content/uploads/2023/03/623051495_880304851365006_1420307448284312103_n1.webp
END:VEVENT
BEGIN:VEVENT
DTSTART;TZID=Europe/Paris:20261124T080000
DTEND;TZID=Europe/Paris:20261124T170000
DTSTAMP:20260421T110412
CREATED:20230308T125122Z
LAST-MODIFIED:20260129T133449Z
UID:10080438-1795507200-1795539600@www.buzzmagmartinique.com
SUMMARY:TRI BÔ KAY À L'ANCIEN EMPLACEMENT DES SERVICES TECHNIQUES\, BELLEFONTAINE
DESCRIPTION:  \n\nVille de Bellefontaine – Martinique
URL:https://www.buzzmagmartinique.com/evenement/tri-bo-kay-a-lancien-emplacement-des-services-techniques-bellefontaine/2026-11-24/
CATEGORIES:Environnement
ATTACH;FMTTYPE=image/webp:https://www.buzzmagmartinique.com/wp-content/uploads/2023/03/623051495_880304851365006_1420307448284312103_n1.webp
END:VEVENT
BEGIN:VEVENT
DTSTART;TZID=Europe/Paris:20261222T080000
DTEND;TZID=Europe/Paris:20261222T170000
DTSTAMP:20260421T110412
CREATED:20230308T125122Z
LAST-MODIFIED:20260129T133449Z
UID:10080439-1797926400-1797958800@www.buzzmagmartinique.com
SUMMARY:TRI BÔ KAY À L'ANCIEN EMPLACEMENT DES SERVICES TECHNIQUES\, BELLEFONTAINE
DESCRIPTION:  \n\nVille de Bellefontaine – Martinique
URL:https://www.buzzmagmartinique.com/evenement/tri-bo-kay-a-lancien-emplacement-des-services-techniques-bellefontaine/2026-12-22/
CATEGORIES:Environnement
ATTACH;FMTTYPE=image/webp:https://www.buzzmagmartinique.com/wp-content/uploads/2023/03/623051495_880304851365006_1420307448284312103_n1.webp
END:VEVENT
END:VCALENDAR