BEGIN:VCALENDAR
VERSION:2.0
PRODID:-//Buzzmag - ECPv6.15.20//NONSGML v1.0//EN
CALSCALE:GREGORIAN
METHOD:PUBLISH
X-WR-CALNAME:Buzzmag
X-ORIGINAL-URL:https://www.buzzmagmartinique.com
X-WR-CALDESC:Évènements pour Buzzmag
REFRESH-INTERVAL;VALUE=DURATION:PT1H
X-Robots-Tag:noindex
X-PUBLISHED-TTL:PT1H
BEGIN:VTIMEZONE
TZID:Europe/Paris
BEGIN:DAYLIGHT
TZOFFSETFROM:+0100
TZOFFSETTO:+0200
TZNAME:CEST
DTSTART:20250330T010000
END:DAYLIGHT
BEGIN:STANDARD
TZOFFSETFROM:+0200
TZOFFSETTO:+0100
TZNAME:CET
DTSTART:20251026T010000
END:STANDARD
BEGIN:DAYLIGHT
TZOFFSETFROM:+0100
TZOFFSETTO:+0200
TZNAME:CEST
DTSTART:20260329T010000
END:DAYLIGHT
BEGIN:STANDARD
TZOFFSETFROM:+0200
TZOFFSETTO:+0100
TZNAME:CET
DTSTART:20261025T010000
END:STANDARD
BEGIN:DAYLIGHT
TZOFFSETFROM:+0100
TZOFFSETTO:+0200
TZNAME:CEST
DTSTART:20270328T010000
END:DAYLIGHT
BEGIN:STANDARD
TZOFFSETFROM:+0200
TZOFFSETTO:+0100
TZNAME:CET
DTSTART:20271031T010000
END:STANDARD
END:VTIMEZONE
BEGIN:VEVENT
DTSTART;TZID=Europe/Paris:20260422T083000
DTEND;TZID=Europe/Paris:20260422T171500
DTSTAMP:20260421T133128
CREATED:20231219T132711Z
LAST-MODIFIED:20250828T145940Z
UID:10067406-1776846600-1776878100@www.buzzmagmartinique.com
SUMMARY:ATELIERS ÉDUCATIFS SPORT-SANTÉ-LOISIRS\, SCHOELCHER
DESCRIPTION:𝐋𝐚𝐧𝐜𝐞𝐦𝐞𝐧𝐭 𝐝𝐞𝐬 𝐀𝐭𝐞𝐥𝐢𝐞𝐫𝐬 𝐄́𝐝𝐮𝐜𝐚𝐭𝐢𝐟𝐬 𝐒𝐩𝐨𝐫𝐭 – 𝐒𝐚𝐧𝐭𝐞́ – 𝐋𝐨𝐢𝐬𝐢𝐫𝐬 \nLa Ville met en place\, pour l’année 2025-2026\, ses Ateliers Éducatifs à destination des jeunes de 7 à 15 ans. \nAu programme :\nVélo\nTennis de table\nfitness\nBêlé \nDu 17 septembre 2025 au 27 juin 2026 \nLes mercredis après-midi (14h-17h15) et les samedis matin (8h30-11h45) \nDans les infrastructures sportives de la ville \nInscriptions dès le 2 septembre à la piscine municipale. \nLes places sont limitées\, ne tardez pas ! \nCes ateliers visent à favoriser l’épanouissement\, le bien-être et la découverte d’activités sportives ludiques pour nos jeunes. \n  \n\n\n\nVille de Schoelcher \n \n\n\n\n 
URL:https://www.buzzmagmartinique.com/evenement/ateliers-educatifs-sport-sante-loisirs-schoelcher/2026-04-22/
CATEGORIES:Jeune public,Sport
ATTACH;FMTTYPE=image/webp:https://www.buzzmagmartinique.com/wp-content/uploads/2023/12/09-17-SCHOELCHER-JUSQUEN-JUIN-2026-min11111.webp
ORGANIZER;CN="Ville de Schoelcher":MAILTO:mschoelcher@mairie-schoelcher.com
END:VEVENT
BEGIN:VEVENT
DTSTART;TZID=Europe/Paris:20260425T083000
DTEND;TZID=Europe/Paris:20260425T171500
DTSTAMP:20260421T133128
CREATED:20231219T132711Z
LAST-MODIFIED:20250828T145940Z
UID:10067407-1777105800-1777137300@www.buzzmagmartinique.com
SUMMARY:ATELIERS ÉDUCATIFS SPORT-SANTÉ-LOISIRS\, SCHOELCHER
DESCRIPTION:𝐋𝐚𝐧𝐜𝐞𝐦𝐞𝐧𝐭 𝐝𝐞𝐬 𝐀𝐭𝐞𝐥𝐢𝐞𝐫𝐬 𝐄́𝐝𝐮𝐜𝐚𝐭𝐢𝐟𝐬 𝐒𝐩𝐨𝐫𝐭 – 𝐒𝐚𝐧𝐭𝐞́ – 𝐋𝐨𝐢𝐬𝐢𝐫𝐬 \nLa Ville met en place\, pour l’année 2025-2026\, ses Ateliers Éducatifs à destination des jeunes de 7 à 15 ans. \nAu programme :\nVélo\nTennis de table\nfitness\nBêlé \nDu 17 septembre 2025 au 27 juin 2026 \nLes mercredis après-midi (14h-17h15) et les samedis matin (8h30-11h45) \nDans les infrastructures sportives de la ville \nInscriptions dès le 2 septembre à la piscine municipale. \nLes places sont limitées\, ne tardez pas ! \nCes ateliers visent à favoriser l’épanouissement\, le bien-être et la découverte d’activités sportives ludiques pour nos jeunes. \n  \n\n\n\nVille de Schoelcher \n \n\n\n\n 
URL:https://www.buzzmagmartinique.com/evenement/ateliers-educatifs-sport-sante-loisirs-schoelcher/2026-04-25/
CATEGORIES:Jeune public,Sport
ATTACH;FMTTYPE=image/webp:https://www.buzzmagmartinique.com/wp-content/uploads/2023/12/09-17-SCHOELCHER-JUSQUEN-JUIN-2026-min11111.webp
ORGANIZER;CN="Ville de Schoelcher":MAILTO:mschoelcher@mairie-schoelcher.com
END:VEVENT
BEGIN:VEVENT
DTSTART;TZID=Europe/Paris:20260429T083000
DTEND;TZID=Europe/Paris:20260429T171500
DTSTAMP:20260421T133128
CREATED:20231219T132711Z
LAST-MODIFIED:20250828T145940Z
UID:10067408-1777451400-1777482900@www.buzzmagmartinique.com
SUMMARY:ATELIERS ÉDUCATIFS SPORT-SANTÉ-LOISIRS\, SCHOELCHER
DESCRIPTION:𝐋𝐚𝐧𝐜𝐞𝐦𝐞𝐧𝐭 𝐝𝐞𝐬 𝐀𝐭𝐞𝐥𝐢𝐞𝐫𝐬 𝐄́𝐝𝐮𝐜𝐚𝐭𝐢𝐟𝐬 𝐒𝐩𝐨𝐫𝐭 – 𝐒𝐚𝐧𝐭𝐞́ – 𝐋𝐨𝐢𝐬𝐢𝐫𝐬 \nLa Ville met en place\, pour l’année 2025-2026\, ses Ateliers Éducatifs à destination des jeunes de 7 à 15 ans. \nAu programme :\nVélo\nTennis de table\nfitness\nBêlé \nDu 17 septembre 2025 au 27 juin 2026 \nLes mercredis après-midi (14h-17h15) et les samedis matin (8h30-11h45) \nDans les infrastructures sportives de la ville \nInscriptions dès le 2 septembre à la piscine municipale. \nLes places sont limitées\, ne tardez pas ! \nCes ateliers visent à favoriser l’épanouissement\, le bien-être et la découverte d’activités sportives ludiques pour nos jeunes. \n  \n\n\n\nVille de Schoelcher \n \n\n\n\n 
URL:https://www.buzzmagmartinique.com/evenement/ateliers-educatifs-sport-sante-loisirs-schoelcher/2026-04-29/
CATEGORIES:Jeune public,Sport
ATTACH;FMTTYPE=image/webp:https://www.buzzmagmartinique.com/wp-content/uploads/2023/12/09-17-SCHOELCHER-JUSQUEN-JUIN-2026-min11111.webp
ORGANIZER;CN="Ville de Schoelcher":MAILTO:mschoelcher@mairie-schoelcher.com
END:VEVENT
BEGIN:VEVENT
DTSTART;TZID=Europe/Paris:20260502T083000
DTEND;TZID=Europe/Paris:20260502T171500
DTSTAMP:20260421T133128
CREATED:20231219T132711Z
LAST-MODIFIED:20250828T145940Z
UID:10067409-1777710600-1777742100@www.buzzmagmartinique.com
SUMMARY:ATELIERS ÉDUCATIFS SPORT-SANTÉ-LOISIRS\, SCHOELCHER
DESCRIPTION:𝐋𝐚𝐧𝐜𝐞𝐦𝐞𝐧𝐭 𝐝𝐞𝐬 𝐀𝐭𝐞𝐥𝐢𝐞𝐫𝐬 𝐄́𝐝𝐮𝐜𝐚𝐭𝐢𝐟𝐬 𝐒𝐩𝐨𝐫𝐭 – 𝐒𝐚𝐧𝐭𝐞́ – 𝐋𝐨𝐢𝐬𝐢𝐫𝐬 \nLa Ville met en place\, pour l’année 2025-2026\, ses Ateliers Éducatifs à destination des jeunes de 7 à 15 ans. \nAu programme :\nVélo\nTennis de table\nfitness\nBêlé \nDu 17 septembre 2025 au 27 juin 2026 \nLes mercredis après-midi (14h-17h15) et les samedis matin (8h30-11h45) \nDans les infrastructures sportives de la ville \nInscriptions dès le 2 septembre à la piscine municipale. \nLes places sont limitées\, ne tardez pas ! \nCes ateliers visent à favoriser l’épanouissement\, le bien-être et la découverte d’activités sportives ludiques pour nos jeunes. \n  \n\n\n\nVille de Schoelcher \n \n\n\n\n 
URL:https://www.buzzmagmartinique.com/evenement/ateliers-educatifs-sport-sante-loisirs-schoelcher/2026-05-02/
CATEGORIES:Jeune public,Sport
ATTACH;FMTTYPE=image/webp:https://www.buzzmagmartinique.com/wp-content/uploads/2023/12/09-17-SCHOELCHER-JUSQUEN-JUIN-2026-min11111.webp
ORGANIZER;CN="Ville de Schoelcher":MAILTO:mschoelcher@mairie-schoelcher.com
END:VEVENT
BEGIN:VEVENT
DTSTART;TZID=Europe/Paris:20260506T083000
DTEND;TZID=Europe/Paris:20260506T171500
DTSTAMP:20260421T133128
CREATED:20231219T132711Z
LAST-MODIFIED:20250828T145940Z
UID:10067410-1778056200-1778087700@www.buzzmagmartinique.com
SUMMARY:ATELIERS ÉDUCATIFS SPORT-SANTÉ-LOISIRS\, SCHOELCHER
DESCRIPTION:𝐋𝐚𝐧𝐜𝐞𝐦𝐞𝐧𝐭 𝐝𝐞𝐬 𝐀𝐭𝐞𝐥𝐢𝐞𝐫𝐬 𝐄́𝐝𝐮𝐜𝐚𝐭𝐢𝐟𝐬 𝐒𝐩𝐨𝐫𝐭 – 𝐒𝐚𝐧𝐭𝐞́ – 𝐋𝐨𝐢𝐬𝐢𝐫𝐬 \nLa Ville met en place\, pour l’année 2025-2026\, ses Ateliers Éducatifs à destination des jeunes de 7 à 15 ans. \nAu programme :\nVélo\nTennis de table\nfitness\nBêlé \nDu 17 septembre 2025 au 27 juin 2026 \nLes mercredis après-midi (14h-17h15) et les samedis matin (8h30-11h45) \nDans les infrastructures sportives de la ville \nInscriptions dès le 2 septembre à la piscine municipale. \nLes places sont limitées\, ne tardez pas ! \nCes ateliers visent à favoriser l’épanouissement\, le bien-être et la découverte d’activités sportives ludiques pour nos jeunes. \n  \n\n\n\nVille de Schoelcher \n \n\n\n\n 
URL:https://www.buzzmagmartinique.com/evenement/ateliers-educatifs-sport-sante-loisirs-schoelcher/2026-05-06/
CATEGORIES:Jeune public,Sport
ATTACH;FMTTYPE=image/webp:https://www.buzzmagmartinique.com/wp-content/uploads/2023/12/09-17-SCHOELCHER-JUSQUEN-JUIN-2026-min11111.webp
ORGANIZER;CN="Ville de Schoelcher":MAILTO:mschoelcher@mairie-schoelcher.com
END:VEVENT
BEGIN:VEVENT
DTSTART;TZID=Europe/Paris:20260509T083000
DTEND;TZID=Europe/Paris:20260509T171500
DTSTAMP:20260421T133128
CREATED:20231219T132711Z
LAST-MODIFIED:20250828T145940Z
UID:10067411-1778315400-1778346900@www.buzzmagmartinique.com
SUMMARY:ATELIERS ÉDUCATIFS SPORT-SANTÉ-LOISIRS\, SCHOELCHER
DESCRIPTION:𝐋𝐚𝐧𝐜𝐞𝐦𝐞𝐧𝐭 𝐝𝐞𝐬 𝐀𝐭𝐞𝐥𝐢𝐞𝐫𝐬 𝐄́𝐝𝐮𝐜𝐚𝐭𝐢𝐟𝐬 𝐒𝐩𝐨𝐫𝐭 – 𝐒𝐚𝐧𝐭𝐞́ – 𝐋𝐨𝐢𝐬𝐢𝐫𝐬 \nLa Ville met en place\, pour l’année 2025-2026\, ses Ateliers Éducatifs à destination des jeunes de 7 à 15 ans. \nAu programme :\nVélo\nTennis de table\nfitness\nBêlé \nDu 17 septembre 2025 au 27 juin 2026 \nLes mercredis après-midi (14h-17h15) et les samedis matin (8h30-11h45) \nDans les infrastructures sportives de la ville \nInscriptions dès le 2 septembre à la piscine municipale. \nLes places sont limitées\, ne tardez pas ! \nCes ateliers visent à favoriser l’épanouissement\, le bien-être et la découverte d’activités sportives ludiques pour nos jeunes. \n  \n\n\n\nVille de Schoelcher \n \n\n\n\n 
URL:https://www.buzzmagmartinique.com/evenement/ateliers-educatifs-sport-sante-loisirs-schoelcher/2026-05-09/
CATEGORIES:Jeune public,Sport
ATTACH;FMTTYPE=image/webp:https://www.buzzmagmartinique.com/wp-content/uploads/2023/12/09-17-SCHOELCHER-JUSQUEN-JUIN-2026-min11111.webp
ORGANIZER;CN="Ville de Schoelcher":MAILTO:mschoelcher@mairie-schoelcher.com
END:VEVENT
BEGIN:VEVENT
DTSTART;TZID=Europe/Paris:20260513T083000
DTEND;TZID=Europe/Paris:20260513T171500
DTSTAMP:20260421T133128
CREATED:20231219T132711Z
LAST-MODIFIED:20250828T145940Z
UID:10067412-1778661000-1778692500@www.buzzmagmartinique.com
SUMMARY:ATELIERS ÉDUCATIFS SPORT-SANTÉ-LOISIRS\, SCHOELCHER
DESCRIPTION:𝐋𝐚𝐧𝐜𝐞𝐦𝐞𝐧𝐭 𝐝𝐞𝐬 𝐀𝐭𝐞𝐥𝐢𝐞𝐫𝐬 𝐄́𝐝𝐮𝐜𝐚𝐭𝐢𝐟𝐬 𝐒𝐩𝐨𝐫𝐭 – 𝐒𝐚𝐧𝐭𝐞́ – 𝐋𝐨𝐢𝐬𝐢𝐫𝐬 \nLa Ville met en place\, pour l’année 2025-2026\, ses Ateliers Éducatifs à destination des jeunes de 7 à 15 ans. \nAu programme :\nVélo\nTennis de table\nfitness\nBêlé \nDu 17 septembre 2025 au 27 juin 2026 \nLes mercredis après-midi (14h-17h15) et les samedis matin (8h30-11h45) \nDans les infrastructures sportives de la ville \nInscriptions dès le 2 septembre à la piscine municipale. \nLes places sont limitées\, ne tardez pas ! \nCes ateliers visent à favoriser l’épanouissement\, le bien-être et la découverte d’activités sportives ludiques pour nos jeunes. \n  \n\n\n\nVille de Schoelcher \n \n\n\n\n 
URL:https://www.buzzmagmartinique.com/evenement/ateliers-educatifs-sport-sante-loisirs-schoelcher/2026-05-13/
CATEGORIES:Jeune public,Sport
ATTACH;FMTTYPE=image/webp:https://www.buzzmagmartinique.com/wp-content/uploads/2023/12/09-17-SCHOELCHER-JUSQUEN-JUIN-2026-min11111.webp
ORGANIZER;CN="Ville de Schoelcher":MAILTO:mschoelcher@mairie-schoelcher.com
END:VEVENT
BEGIN:VEVENT
DTSTART;TZID=Europe/Paris:20260516T083000
DTEND;TZID=Europe/Paris:20260516T171500
DTSTAMP:20260421T133128
CREATED:20231219T132711Z
LAST-MODIFIED:20250828T145940Z
UID:10067413-1778920200-1778951700@www.buzzmagmartinique.com
SUMMARY:ATELIERS ÉDUCATIFS SPORT-SANTÉ-LOISIRS\, SCHOELCHER
DESCRIPTION:𝐋𝐚𝐧𝐜𝐞𝐦𝐞𝐧𝐭 𝐝𝐞𝐬 𝐀𝐭𝐞𝐥𝐢𝐞𝐫𝐬 𝐄́𝐝𝐮𝐜𝐚𝐭𝐢𝐟𝐬 𝐒𝐩𝐨𝐫𝐭 – 𝐒𝐚𝐧𝐭𝐞́ – 𝐋𝐨𝐢𝐬𝐢𝐫𝐬 \nLa Ville met en place\, pour l’année 2025-2026\, ses Ateliers Éducatifs à destination des jeunes de 7 à 15 ans. \nAu programme :\nVélo\nTennis de table\nfitness\nBêlé \nDu 17 septembre 2025 au 27 juin 2026 \nLes mercredis après-midi (14h-17h15) et les samedis matin (8h30-11h45) \nDans les infrastructures sportives de la ville \nInscriptions dès le 2 septembre à la piscine municipale. \nLes places sont limitées\, ne tardez pas ! \nCes ateliers visent à favoriser l’épanouissement\, le bien-être et la découverte d’activités sportives ludiques pour nos jeunes. \n  \n\n\n\nVille de Schoelcher \n \n\n\n\n 
URL:https://www.buzzmagmartinique.com/evenement/ateliers-educatifs-sport-sante-loisirs-schoelcher/2026-05-16/
CATEGORIES:Jeune public,Sport
ATTACH;FMTTYPE=image/webp:https://www.buzzmagmartinique.com/wp-content/uploads/2023/12/09-17-SCHOELCHER-JUSQUEN-JUIN-2026-min11111.webp
ORGANIZER;CN="Ville de Schoelcher":MAILTO:mschoelcher@mairie-schoelcher.com
END:VEVENT
BEGIN:VEVENT
DTSTART;TZID=Europe/Paris:20260520T083000
DTEND;TZID=Europe/Paris:20260520T171500
DTSTAMP:20260421T133128
CREATED:20231219T132711Z
LAST-MODIFIED:20250828T145940Z
UID:10067414-1779265800-1779297300@www.buzzmagmartinique.com
SUMMARY:ATELIERS ÉDUCATIFS SPORT-SANTÉ-LOISIRS\, SCHOELCHER
DESCRIPTION:𝐋𝐚𝐧𝐜𝐞𝐦𝐞𝐧𝐭 𝐝𝐞𝐬 𝐀𝐭𝐞𝐥𝐢𝐞𝐫𝐬 𝐄́𝐝𝐮𝐜𝐚𝐭𝐢𝐟𝐬 𝐒𝐩𝐨𝐫𝐭 – 𝐒𝐚𝐧𝐭𝐞́ – 𝐋𝐨𝐢𝐬𝐢𝐫𝐬 \nLa Ville met en place\, pour l’année 2025-2026\, ses Ateliers Éducatifs à destination des jeunes de 7 à 15 ans. \nAu programme :\nVélo\nTennis de table\nfitness\nBêlé \nDu 17 septembre 2025 au 27 juin 2026 \nLes mercredis après-midi (14h-17h15) et les samedis matin (8h30-11h45) \nDans les infrastructures sportives de la ville \nInscriptions dès le 2 septembre à la piscine municipale. \nLes places sont limitées\, ne tardez pas ! \nCes ateliers visent à favoriser l’épanouissement\, le bien-être et la découverte d’activités sportives ludiques pour nos jeunes. \n  \n\n\n\nVille de Schoelcher \n \n\n\n\n 
URL:https://www.buzzmagmartinique.com/evenement/ateliers-educatifs-sport-sante-loisirs-schoelcher/2026-05-20/
CATEGORIES:Jeune public,Sport
ATTACH;FMTTYPE=image/webp:https://www.buzzmagmartinique.com/wp-content/uploads/2023/12/09-17-SCHOELCHER-JUSQUEN-JUIN-2026-min11111.webp
ORGANIZER;CN="Ville de Schoelcher":MAILTO:mschoelcher@mairie-schoelcher.com
END:VEVENT
BEGIN:VEVENT
DTSTART;TZID=Europe/Paris:20260523T083000
DTEND;TZID=Europe/Paris:20260523T171500
DTSTAMP:20260421T133128
CREATED:20231219T132711Z
LAST-MODIFIED:20250828T145940Z
UID:10067415-1779525000-1779556500@www.buzzmagmartinique.com
SUMMARY:ATELIERS ÉDUCATIFS SPORT-SANTÉ-LOISIRS\, SCHOELCHER
DESCRIPTION:𝐋𝐚𝐧𝐜𝐞𝐦𝐞𝐧𝐭 𝐝𝐞𝐬 𝐀𝐭𝐞𝐥𝐢𝐞𝐫𝐬 𝐄́𝐝𝐮𝐜𝐚𝐭𝐢𝐟𝐬 𝐒𝐩𝐨𝐫𝐭 – 𝐒𝐚𝐧𝐭𝐞́ – 𝐋𝐨𝐢𝐬𝐢𝐫𝐬 \nLa Ville met en place\, pour l’année 2025-2026\, ses Ateliers Éducatifs à destination des jeunes de 7 à 15 ans. \nAu programme :\nVélo\nTennis de table\nfitness\nBêlé \nDu 17 septembre 2025 au 27 juin 2026 \nLes mercredis après-midi (14h-17h15) et les samedis matin (8h30-11h45) \nDans les infrastructures sportives de la ville \nInscriptions dès le 2 septembre à la piscine municipale. \nLes places sont limitées\, ne tardez pas ! \nCes ateliers visent à favoriser l’épanouissement\, le bien-être et la découverte d’activités sportives ludiques pour nos jeunes. \n  \n\n\n\nVille de Schoelcher \n \n\n\n\n 
URL:https://www.buzzmagmartinique.com/evenement/ateliers-educatifs-sport-sante-loisirs-schoelcher/2026-05-23/
CATEGORIES:Jeune public,Sport
ATTACH;FMTTYPE=image/webp:https://www.buzzmagmartinique.com/wp-content/uploads/2023/12/09-17-SCHOELCHER-JUSQUEN-JUIN-2026-min11111.webp
ORGANIZER;CN="Ville de Schoelcher":MAILTO:mschoelcher@mairie-schoelcher.com
END:VEVENT
BEGIN:VEVENT
DTSTART;TZID=Europe/Paris:20260527T083000
DTEND;TZID=Europe/Paris:20260527T171500
DTSTAMP:20260421T133128
CREATED:20231219T132711Z
LAST-MODIFIED:20250828T145940Z
UID:10067416-1779870600-1779902100@www.buzzmagmartinique.com
SUMMARY:ATELIERS ÉDUCATIFS SPORT-SANTÉ-LOISIRS\, SCHOELCHER
DESCRIPTION:𝐋𝐚𝐧𝐜𝐞𝐦𝐞𝐧𝐭 𝐝𝐞𝐬 𝐀𝐭𝐞𝐥𝐢𝐞𝐫𝐬 𝐄́𝐝𝐮𝐜𝐚𝐭𝐢𝐟𝐬 𝐒𝐩𝐨𝐫𝐭 – 𝐒𝐚𝐧𝐭𝐞́ – 𝐋𝐨𝐢𝐬𝐢𝐫𝐬 \nLa Ville met en place\, pour l’année 2025-2026\, ses Ateliers Éducatifs à destination des jeunes de 7 à 15 ans. \nAu programme :\nVélo\nTennis de table\nfitness\nBêlé \nDu 17 septembre 2025 au 27 juin 2026 \nLes mercredis après-midi (14h-17h15) et les samedis matin (8h30-11h45) \nDans les infrastructures sportives de la ville \nInscriptions dès le 2 septembre à la piscine municipale. \nLes places sont limitées\, ne tardez pas ! \nCes ateliers visent à favoriser l’épanouissement\, le bien-être et la découverte d’activités sportives ludiques pour nos jeunes. \n  \n\n\n\nVille de Schoelcher \n \n\n\n\n 
URL:https://www.buzzmagmartinique.com/evenement/ateliers-educatifs-sport-sante-loisirs-schoelcher/2026-05-27/
CATEGORIES:Jeune public,Sport
ATTACH;FMTTYPE=image/webp:https://www.buzzmagmartinique.com/wp-content/uploads/2023/12/09-17-SCHOELCHER-JUSQUEN-JUIN-2026-min11111.webp
ORGANIZER;CN="Ville de Schoelcher":MAILTO:mschoelcher@mairie-schoelcher.com
END:VEVENT
BEGIN:VEVENT
DTSTART;TZID=Europe/Paris:20260530T083000
DTEND;TZID=Europe/Paris:20260530T171500
DTSTAMP:20260421T133128
CREATED:20231219T132711Z
LAST-MODIFIED:20250828T145940Z
UID:10067417-1780129800-1780161300@www.buzzmagmartinique.com
SUMMARY:ATELIERS ÉDUCATIFS SPORT-SANTÉ-LOISIRS\, SCHOELCHER
DESCRIPTION:𝐋𝐚𝐧𝐜𝐞𝐦𝐞𝐧𝐭 𝐝𝐞𝐬 𝐀𝐭𝐞𝐥𝐢𝐞𝐫𝐬 𝐄́𝐝𝐮𝐜𝐚𝐭𝐢𝐟𝐬 𝐒𝐩𝐨𝐫𝐭 – 𝐒𝐚𝐧𝐭𝐞́ – 𝐋𝐨𝐢𝐬𝐢𝐫𝐬 \nLa Ville met en place\, pour l’année 2025-2026\, ses Ateliers Éducatifs à destination des jeunes de 7 à 15 ans. \nAu programme :\nVélo\nTennis de table\nfitness\nBêlé \nDu 17 septembre 2025 au 27 juin 2026 \nLes mercredis après-midi (14h-17h15) et les samedis matin (8h30-11h45) \nDans les infrastructures sportives de la ville \nInscriptions dès le 2 septembre à la piscine municipale. \nLes places sont limitées\, ne tardez pas ! \nCes ateliers visent à favoriser l’épanouissement\, le bien-être et la découverte d’activités sportives ludiques pour nos jeunes. \n  \n\n\n\nVille de Schoelcher \n \n\n\n\n 
URL:https://www.buzzmagmartinique.com/evenement/ateliers-educatifs-sport-sante-loisirs-schoelcher/2026-05-30/
CATEGORIES:Jeune public,Sport
ATTACH;FMTTYPE=image/webp:https://www.buzzmagmartinique.com/wp-content/uploads/2023/12/09-17-SCHOELCHER-JUSQUEN-JUIN-2026-min11111.webp
ORGANIZER;CN="Ville de Schoelcher":MAILTO:mschoelcher@mairie-schoelcher.com
END:VEVENT
BEGIN:VEVENT
DTSTART;TZID=Europe/Paris:20260603T083000
DTEND;TZID=Europe/Paris:20260603T171500
DTSTAMP:20260421T133128
CREATED:20231219T132711Z
LAST-MODIFIED:20250828T145940Z
UID:10067418-1780475400-1780506900@www.buzzmagmartinique.com
SUMMARY:ATELIERS ÉDUCATIFS SPORT-SANTÉ-LOISIRS\, SCHOELCHER
DESCRIPTION:𝐋𝐚𝐧𝐜𝐞𝐦𝐞𝐧𝐭 𝐝𝐞𝐬 𝐀𝐭𝐞𝐥𝐢𝐞𝐫𝐬 𝐄́𝐝𝐮𝐜𝐚𝐭𝐢𝐟𝐬 𝐒𝐩𝐨𝐫𝐭 – 𝐒𝐚𝐧𝐭𝐞́ – 𝐋𝐨𝐢𝐬𝐢𝐫𝐬 \nLa Ville met en place\, pour l’année 2025-2026\, ses Ateliers Éducatifs à destination des jeunes de 7 à 15 ans. \nAu programme :\nVélo\nTennis de table\nfitness\nBêlé \nDu 17 septembre 2025 au 27 juin 2026 \nLes mercredis après-midi (14h-17h15) et les samedis matin (8h30-11h45) \nDans les infrastructures sportives de la ville \nInscriptions dès le 2 septembre à la piscine municipale. \nLes places sont limitées\, ne tardez pas ! \nCes ateliers visent à favoriser l’épanouissement\, le bien-être et la découverte d’activités sportives ludiques pour nos jeunes. \n  \n\n\n\nVille de Schoelcher \n \n\n\n\n 
URL:https://www.buzzmagmartinique.com/evenement/ateliers-educatifs-sport-sante-loisirs-schoelcher/2026-06-03/
CATEGORIES:Jeune public,Sport
ATTACH;FMTTYPE=image/webp:https://www.buzzmagmartinique.com/wp-content/uploads/2023/12/09-17-SCHOELCHER-JUSQUEN-JUIN-2026-min11111.webp
ORGANIZER;CN="Ville de Schoelcher":MAILTO:mschoelcher@mairie-schoelcher.com
END:VEVENT
BEGIN:VEVENT
DTSTART;TZID=Europe/Paris:20260606T083000
DTEND;TZID=Europe/Paris:20260606T171500
DTSTAMP:20260421T133128
CREATED:20231219T132711Z
LAST-MODIFIED:20250828T145940Z
UID:10067419-1780734600-1780766100@www.buzzmagmartinique.com
SUMMARY:ATELIERS ÉDUCATIFS SPORT-SANTÉ-LOISIRS\, SCHOELCHER
DESCRIPTION:𝐋𝐚𝐧𝐜𝐞𝐦𝐞𝐧𝐭 𝐝𝐞𝐬 𝐀𝐭𝐞𝐥𝐢𝐞𝐫𝐬 𝐄́𝐝𝐮𝐜𝐚𝐭𝐢𝐟𝐬 𝐒𝐩𝐨𝐫𝐭 – 𝐒𝐚𝐧𝐭𝐞́ – 𝐋𝐨𝐢𝐬𝐢𝐫𝐬 \nLa Ville met en place\, pour l’année 2025-2026\, ses Ateliers Éducatifs à destination des jeunes de 7 à 15 ans. \nAu programme :\nVélo\nTennis de table\nfitness\nBêlé \nDu 17 septembre 2025 au 27 juin 2026 \nLes mercredis après-midi (14h-17h15) et les samedis matin (8h30-11h45) \nDans les infrastructures sportives de la ville \nInscriptions dès le 2 septembre à la piscine municipale. \nLes places sont limitées\, ne tardez pas ! \nCes ateliers visent à favoriser l’épanouissement\, le bien-être et la découverte d’activités sportives ludiques pour nos jeunes. \n  \n\n\n\nVille de Schoelcher \n \n\n\n\n 
URL:https://www.buzzmagmartinique.com/evenement/ateliers-educatifs-sport-sante-loisirs-schoelcher/2026-06-06/
CATEGORIES:Jeune public,Sport
ATTACH;FMTTYPE=image/webp:https://www.buzzmagmartinique.com/wp-content/uploads/2023/12/09-17-SCHOELCHER-JUSQUEN-JUIN-2026-min11111.webp
ORGANIZER;CN="Ville de Schoelcher":MAILTO:mschoelcher@mairie-schoelcher.com
END:VEVENT
BEGIN:VEVENT
DTSTART;TZID=Europe/Paris:20260610T083000
DTEND;TZID=Europe/Paris:20260610T171500
DTSTAMP:20260421T133128
CREATED:20231219T132711Z
LAST-MODIFIED:20250828T145940Z
UID:10067420-1781080200-1781111700@www.buzzmagmartinique.com
SUMMARY:ATELIERS ÉDUCATIFS SPORT-SANTÉ-LOISIRS\, SCHOELCHER
DESCRIPTION:𝐋𝐚𝐧𝐜𝐞𝐦𝐞𝐧𝐭 𝐝𝐞𝐬 𝐀𝐭𝐞𝐥𝐢𝐞𝐫𝐬 𝐄́𝐝𝐮𝐜𝐚𝐭𝐢𝐟𝐬 𝐒𝐩𝐨𝐫𝐭 – 𝐒𝐚𝐧𝐭𝐞́ – 𝐋𝐨𝐢𝐬𝐢𝐫𝐬 \nLa Ville met en place\, pour l’année 2025-2026\, ses Ateliers Éducatifs à destination des jeunes de 7 à 15 ans. \nAu programme :\nVélo\nTennis de table\nfitness\nBêlé \nDu 17 septembre 2025 au 27 juin 2026 \nLes mercredis après-midi (14h-17h15) et les samedis matin (8h30-11h45) \nDans les infrastructures sportives de la ville \nInscriptions dès le 2 septembre à la piscine municipale. \nLes places sont limitées\, ne tardez pas ! \nCes ateliers visent à favoriser l’épanouissement\, le bien-être et la découverte d’activités sportives ludiques pour nos jeunes. \n  \n\n\n\nVille de Schoelcher \n \n\n\n\n 
URL:https://www.buzzmagmartinique.com/evenement/ateliers-educatifs-sport-sante-loisirs-schoelcher/2026-06-10/
CATEGORIES:Jeune public,Sport
ATTACH;FMTTYPE=image/webp:https://www.buzzmagmartinique.com/wp-content/uploads/2023/12/09-17-SCHOELCHER-JUSQUEN-JUIN-2026-min11111.webp
ORGANIZER;CN="Ville de Schoelcher":MAILTO:mschoelcher@mairie-schoelcher.com
END:VEVENT
BEGIN:VEVENT
DTSTART;TZID=Europe/Paris:20260613T083000
DTEND;TZID=Europe/Paris:20260613T171500
DTSTAMP:20260421T133128
CREATED:20231219T132711Z
LAST-MODIFIED:20250828T145940Z
UID:10067421-1781339400-1781370900@www.buzzmagmartinique.com
SUMMARY:ATELIERS ÉDUCATIFS SPORT-SANTÉ-LOISIRS\, SCHOELCHER
DESCRIPTION:𝐋𝐚𝐧𝐜𝐞𝐦𝐞𝐧𝐭 𝐝𝐞𝐬 𝐀𝐭𝐞𝐥𝐢𝐞𝐫𝐬 𝐄́𝐝𝐮𝐜𝐚𝐭𝐢𝐟𝐬 𝐒𝐩𝐨𝐫𝐭 – 𝐒𝐚𝐧𝐭𝐞́ – 𝐋𝐨𝐢𝐬𝐢𝐫𝐬 \nLa Ville met en place\, pour l’année 2025-2026\, ses Ateliers Éducatifs à destination des jeunes de 7 à 15 ans. \nAu programme :\nVélo\nTennis de table\nfitness\nBêlé \nDu 17 septembre 2025 au 27 juin 2026 \nLes mercredis après-midi (14h-17h15) et les samedis matin (8h30-11h45) \nDans les infrastructures sportives de la ville \nInscriptions dès le 2 septembre à la piscine municipale. \nLes places sont limitées\, ne tardez pas ! \nCes ateliers visent à favoriser l’épanouissement\, le bien-être et la découverte d’activités sportives ludiques pour nos jeunes. \n  \n\n\n\nVille de Schoelcher \n \n\n\n\n 
URL:https://www.buzzmagmartinique.com/evenement/ateliers-educatifs-sport-sante-loisirs-schoelcher/2026-06-13/
CATEGORIES:Jeune public,Sport
ATTACH;FMTTYPE=image/webp:https://www.buzzmagmartinique.com/wp-content/uploads/2023/12/09-17-SCHOELCHER-JUSQUEN-JUIN-2026-min11111.webp
ORGANIZER;CN="Ville de Schoelcher":MAILTO:mschoelcher@mairie-schoelcher.com
END:VEVENT
BEGIN:VEVENT
DTSTART;TZID=Europe/Paris:20260617T083000
DTEND;TZID=Europe/Paris:20260617T171500
DTSTAMP:20260421T133128
CREATED:20231219T132711Z
LAST-MODIFIED:20250828T145940Z
UID:10067422-1781685000-1781716500@www.buzzmagmartinique.com
SUMMARY:ATELIERS ÉDUCATIFS SPORT-SANTÉ-LOISIRS\, SCHOELCHER
DESCRIPTION:𝐋𝐚𝐧𝐜𝐞𝐦𝐞𝐧𝐭 𝐝𝐞𝐬 𝐀𝐭𝐞𝐥𝐢𝐞𝐫𝐬 𝐄́𝐝𝐮𝐜𝐚𝐭𝐢𝐟𝐬 𝐒𝐩𝐨𝐫𝐭 – 𝐒𝐚𝐧𝐭𝐞́ – 𝐋𝐨𝐢𝐬𝐢𝐫𝐬 \nLa Ville met en place\, pour l’année 2025-2026\, ses Ateliers Éducatifs à destination des jeunes de 7 à 15 ans. \nAu programme :\nVélo\nTennis de table\nfitness\nBêlé \nDu 17 septembre 2025 au 27 juin 2026 \nLes mercredis après-midi (14h-17h15) et les samedis matin (8h30-11h45) \nDans les infrastructures sportives de la ville \nInscriptions dès le 2 septembre à la piscine municipale. \nLes places sont limitées\, ne tardez pas ! \nCes ateliers visent à favoriser l’épanouissement\, le bien-être et la découverte d’activités sportives ludiques pour nos jeunes. \n  \n\n\n\nVille de Schoelcher \n \n\n\n\n 
URL:https://www.buzzmagmartinique.com/evenement/ateliers-educatifs-sport-sante-loisirs-schoelcher/2026-06-17/
CATEGORIES:Jeune public,Sport
ATTACH;FMTTYPE=image/webp:https://www.buzzmagmartinique.com/wp-content/uploads/2023/12/09-17-SCHOELCHER-JUSQUEN-JUIN-2026-min11111.webp
ORGANIZER;CN="Ville de Schoelcher":MAILTO:mschoelcher@mairie-schoelcher.com
END:VEVENT
BEGIN:VEVENT
DTSTART;TZID=Europe/Paris:20260620T083000
DTEND;TZID=Europe/Paris:20260620T171500
DTSTAMP:20260421T133128
CREATED:20231219T132711Z
LAST-MODIFIED:20250828T145940Z
UID:10067423-1781944200-1781975700@www.buzzmagmartinique.com
SUMMARY:ATELIERS ÉDUCATIFS SPORT-SANTÉ-LOISIRS\, SCHOELCHER
DESCRIPTION:𝐋𝐚𝐧𝐜𝐞𝐦𝐞𝐧𝐭 𝐝𝐞𝐬 𝐀𝐭𝐞𝐥𝐢𝐞𝐫𝐬 𝐄́𝐝𝐮𝐜𝐚𝐭𝐢𝐟𝐬 𝐒𝐩𝐨𝐫𝐭 – 𝐒𝐚𝐧𝐭𝐞́ – 𝐋𝐨𝐢𝐬𝐢𝐫𝐬 \nLa Ville met en place\, pour l’année 2025-2026\, ses Ateliers Éducatifs à destination des jeunes de 7 à 15 ans. \nAu programme :\nVélo\nTennis de table\nfitness\nBêlé \nDu 17 septembre 2025 au 27 juin 2026 \nLes mercredis après-midi (14h-17h15) et les samedis matin (8h30-11h45) \nDans les infrastructures sportives de la ville \nInscriptions dès le 2 septembre à la piscine municipale. \nLes places sont limitées\, ne tardez pas ! \nCes ateliers visent à favoriser l’épanouissement\, le bien-être et la découverte d’activités sportives ludiques pour nos jeunes. \n  \n\n\n\nVille de Schoelcher \n \n\n\n\n 
URL:https://www.buzzmagmartinique.com/evenement/ateliers-educatifs-sport-sante-loisirs-schoelcher/2026-06-20/
CATEGORIES:Jeune public,Sport
ATTACH;FMTTYPE=image/webp:https://www.buzzmagmartinique.com/wp-content/uploads/2023/12/09-17-SCHOELCHER-JUSQUEN-JUIN-2026-min11111.webp
ORGANIZER;CN="Ville de Schoelcher":MAILTO:mschoelcher@mairie-schoelcher.com
END:VEVENT
BEGIN:VEVENT
DTSTART;TZID=Europe/Paris:20260624T083000
DTEND;TZID=Europe/Paris:20260624T171500
DTSTAMP:20260421T133128
CREATED:20231219T132711Z
LAST-MODIFIED:20250828T145940Z
UID:10067424-1782289800-1782321300@www.buzzmagmartinique.com
SUMMARY:ATELIERS ÉDUCATIFS SPORT-SANTÉ-LOISIRS\, SCHOELCHER
DESCRIPTION:𝐋𝐚𝐧𝐜𝐞𝐦𝐞𝐧𝐭 𝐝𝐞𝐬 𝐀𝐭𝐞𝐥𝐢𝐞𝐫𝐬 𝐄́𝐝𝐮𝐜𝐚𝐭𝐢𝐟𝐬 𝐒𝐩𝐨𝐫𝐭 – 𝐒𝐚𝐧𝐭𝐞́ – 𝐋𝐨𝐢𝐬𝐢𝐫𝐬 \nLa Ville met en place\, pour l’année 2025-2026\, ses Ateliers Éducatifs à destination des jeunes de 7 à 15 ans. \nAu programme :\nVélo\nTennis de table\nfitness\nBêlé \nDu 17 septembre 2025 au 27 juin 2026 \nLes mercredis après-midi (14h-17h15) et les samedis matin (8h30-11h45) \nDans les infrastructures sportives de la ville \nInscriptions dès le 2 septembre à la piscine municipale. \nLes places sont limitées\, ne tardez pas ! \nCes ateliers visent à favoriser l’épanouissement\, le bien-être et la découverte d’activités sportives ludiques pour nos jeunes. \n  \n\n\n\nVille de Schoelcher \n \n\n\n\n 
URL:https://www.buzzmagmartinique.com/evenement/ateliers-educatifs-sport-sante-loisirs-schoelcher/2026-06-24/
CATEGORIES:Jeune public,Sport
ATTACH;FMTTYPE=image/webp:https://www.buzzmagmartinique.com/wp-content/uploads/2023/12/09-17-SCHOELCHER-JUSQUEN-JUIN-2026-min11111.webp
ORGANIZER;CN="Ville de Schoelcher":MAILTO:mschoelcher@mairie-schoelcher.com
END:VEVENT
BEGIN:VEVENT
DTSTART;TZID=Europe/Paris:20260627T083000
DTEND;TZID=Europe/Paris:20260627T171500
DTSTAMP:20260421T133128
CREATED:20231219T132711Z
LAST-MODIFIED:20250828T145940Z
UID:10067425-1782549000-1782580500@www.buzzmagmartinique.com
SUMMARY:ATELIERS ÉDUCATIFS SPORT-SANTÉ-LOISIRS\, SCHOELCHER
DESCRIPTION:𝐋𝐚𝐧𝐜𝐞𝐦𝐞𝐧𝐭 𝐝𝐞𝐬 𝐀𝐭𝐞𝐥𝐢𝐞𝐫𝐬 𝐄́𝐝𝐮𝐜𝐚𝐭𝐢𝐟𝐬 𝐒𝐩𝐨𝐫𝐭 – 𝐒𝐚𝐧𝐭𝐞́ – 𝐋𝐨𝐢𝐬𝐢𝐫𝐬 \nLa Ville met en place\, pour l’année 2025-2026\, ses Ateliers Éducatifs à destination des jeunes de 7 à 15 ans. \nAu programme :\nVélo\nTennis de table\nfitness\nBêlé \nDu 17 septembre 2025 au 27 juin 2026 \nLes mercredis après-midi (14h-17h15) et les samedis matin (8h30-11h45) \nDans les infrastructures sportives de la ville \nInscriptions dès le 2 septembre à la piscine municipale. \nLes places sont limitées\, ne tardez pas ! \nCes ateliers visent à favoriser l’épanouissement\, le bien-être et la découverte d’activités sportives ludiques pour nos jeunes. \n  \n\n\n\nVille de Schoelcher \n \n\n\n\n 
URL:https://www.buzzmagmartinique.com/evenement/ateliers-educatifs-sport-sante-loisirs-schoelcher/2026-06-27/
CATEGORIES:Jeune public,Sport
ATTACH;FMTTYPE=image/webp:https://www.buzzmagmartinique.com/wp-content/uploads/2023/12/09-17-SCHOELCHER-JUSQUEN-JUIN-2026-min11111.webp
ORGANIZER;CN="Ville de Schoelcher":MAILTO:mschoelcher@mairie-schoelcher.com
END:VEVENT
END:VCALENDAR